BEGIN:VCALENDAR
VERSION:2.0
PRODID:-//Race Time - ECPv6.15.13//NONSGML v1.0//EN
CALSCALE:GREGORIAN
METHOD:PUBLISH
X-WR-CALNAME:Race Time
X-ORIGINAL-URL:https://www.racetime.info
X-WR-CALDESC:Events for Race Time
REFRESH-INTERVAL;VALUE=DURATION:PT1H
X-Robots-Tag:noindex
X-PUBLISHED-TTL:PT1H
BEGIN:VTIMEZONE
TZID:America/Chicago
BEGIN:DAYLIGHT
TZOFFSETFROM:-0600
TZOFFSETTO:-0500
TZNAME:CDT
DTSTART:20220313T080000
END:DAYLIGHT
BEGIN:STANDARD
TZOFFSETFROM:-0500
TZOFFSETTO:-0600
TZNAME:CST
DTSTART:20221106T070000
END:STANDARD
BEGIN:DAYLIGHT
TZOFFSETFROM:-0600
TZOFFSETTO:-0500
TZNAME:CDT
DTSTART:20230312T080000
END:DAYLIGHT
BEGIN:STANDARD
TZOFFSETFROM:-0500
TZOFFSETTO:-0600
TZNAME:CST
DTSTART:20231105T070000
END:STANDARD
BEGIN:DAYLIGHT
TZOFFSETFROM:-0600
TZOFFSETTO:-0500
TZNAME:CDT
DTSTART:20240310T080000
END:DAYLIGHT
BEGIN:STANDARD
TZOFFSETFROM:-0500
TZOFFSETTO:-0600
TZNAME:CST
DTSTART:20241103T070000
END:STANDARD
BEGIN:DAYLIGHT
TZOFFSETFROM:-0600
TZOFFSETTO:-0500
TZNAME:CDT
DTSTART:20250309T080000
END:DAYLIGHT
BEGIN:STANDARD
TZOFFSETFROM:-0500
TZOFFSETTO:-0600
TZNAME:CST
DTSTART:20251102T070000
END:STANDARD
END:VTIMEZONE
BEGIN:VEVENT
DTSTART;TZID=America/Chicago:20241004T170000
DTEND;TZID=America/Chicago:20241004T180000
DTSTAMP:20260424T012301
CREATED:20220916T013212Z
LAST-MODIFIED:20241005T003635Z
UID:10002146-1728061200-1728064800@www.racetime.info
SUMMARY:Whittier 80's Color 1 Mile Run/Walk
DESCRIPTION:Whittier Color Run 5K Overall Results
URL:https://www.racetime.info/event/copy-of-whittier-haunted-hustle-1-mile-run-walk/
LOCATION:Whittier School\, Hill Street\, Downers Grove\, IL\, 60515\, United States
CATEGORIES:2024-10 Results (October)
ORGANIZER;CN="Andi Wiklund":MAILTO:andi.wiklund@gmail.com
END:VEVENT
BEGIN:VEVENT
DTSTART;TZID=America/Chicago:20231027T170000
DTEND;TZID=America/Chicago:20231027T180000
DTSTAMP:20260424T012301
CREATED:20220916T013212Z
LAST-MODIFIED:20231027T234600Z
UID:10002145-1698426000-1698429600@www.racetime.info
SUMMARY:Whittier Haunted Hustle 1 Mile Run/Walk
DESCRIPTION:Whittier Haunted Hustle 1 Mile Overall Results
URL:https://www.racetime.info/event/copy-of-hot-chocolate-5k-and-1-mile-run-walk/
LOCATION:Whittier School\, Hill Street\, Downers Grove\, IL\, 60515\, United States
CATEGORIES:2023-10 Results (October)
ORGANIZER;CN="Andi Wiklund":MAILTO:andi.wiklund@gmail.com
END:VEVENT
END:VCALENDAR