BEGIN:VCALENDAR
VERSION:2.0
PRODID:-//Race Time - ECPv6.15.13//NONSGML v1.0//EN
CALSCALE:GREGORIAN
METHOD:PUBLISH
X-WR-CALNAME:Race Time
X-ORIGINAL-URL:https://www.racetime.info
X-WR-CALDESC:Events for Race Time
REFRESH-INTERVAL;VALUE=DURATION:PT1H
X-Robots-Tag:noindex
X-PUBLISHED-TTL:PT1H
BEGIN:VTIMEZONE
TZID:America/Chicago
BEGIN:DAYLIGHT
TZOFFSETFROM:-0600
TZOFFSETTO:-0500
TZNAME:CDT
DTSTART:20140309T080000
END:DAYLIGHT
BEGIN:STANDARD
TZOFFSETFROM:-0500
TZOFFSETTO:-0600
TZNAME:CST
DTSTART:20141102T070000
END:STANDARD
BEGIN:DAYLIGHT
TZOFFSETFROM:-0600
TZOFFSETTO:-0500
TZNAME:CDT
DTSTART:20150308T080000
END:DAYLIGHT
BEGIN:STANDARD
TZOFFSETFROM:-0500
TZOFFSETTO:-0600
TZNAME:CST
DTSTART:20151101T070000
END:STANDARD
BEGIN:DAYLIGHT
TZOFFSETFROM:-0600
TZOFFSETTO:-0500
TZNAME:CDT
DTSTART:20160313T080000
END:DAYLIGHT
BEGIN:STANDARD
TZOFFSETFROM:-0500
TZOFFSETTO:-0600
TZNAME:CST
DTSTART:20161106T070000
END:STANDARD
END:VTIMEZONE
BEGIN:VEVENT
DTSTART;TZID=America/Chicago:20150425T000000
DTEND;TZID=America/Chicago:20150425T000000
DTSTAMP:20260424T022159
CREATED:20150409T034457Z
LAST-MODIFIED:20150829T195405Z
UID:10000121-1429920000-1429920000@www.racetime.info
SUMMARY:Ike Hike
DESCRIPTION:Ike Hike 5K Age Group Results\n\nIke Hike 5K Overall Results
URL:https://www.racetime.info/event/ike-hike-2/
LOCATION:Eisenhower High School\, 12700 S. Sacramento\, Blue Island\, IL\, United States
CATEGORIES:2015-04 Results (April)
ORGANIZER;CN="Tim Baker":MAILTO:timothy.baker@chsd218.org
GEO:41.6617824;-87.6957612
X-APPLE-STRUCTURED-LOCATION;VALUE=URI;X-ADDRESS=Eisenhower High School 12700 S. Sacramento Blue Island IL United States;X-APPLE-RADIUS=500;X-TITLE=12700 S. Sacramento:geo:-87.6957612,41.6617824
END:VEVENT
END:VCALENDAR