BEGIN:VCALENDAR
VERSION:2.0
PRODID:-//Race Time - ECPv6.15.13//NONSGML v1.0//EN
CALSCALE:GREGORIAN
METHOD:PUBLISH
X-WR-CALNAME:Race Time
X-ORIGINAL-URL:https://www.racetime.info
X-WR-CALDESC:Events for Race Time
REFRESH-INTERVAL;VALUE=DURATION:PT1H
X-Robots-Tag:noindex
X-PUBLISHED-TTL:PT1H
BEGIN:VTIMEZONE
TZID:America/Chicago
BEGIN:DAYLIGHT
TZOFFSETFROM:-0600
TZOFFSETTO:-0500
TZNAME:CDT
DTSTART:20140309T080000
END:DAYLIGHT
BEGIN:STANDARD
TZOFFSETFROM:-0500
TZOFFSETTO:-0600
TZNAME:CST
DTSTART:20141102T070000
END:STANDARD
BEGIN:DAYLIGHT
TZOFFSETFROM:-0600
TZOFFSETTO:-0500
TZNAME:CDT
DTSTART:20150308T080000
END:DAYLIGHT
BEGIN:STANDARD
TZOFFSETFROM:-0500
TZOFFSETTO:-0600
TZNAME:CST
DTSTART:20151101T070000
END:STANDARD
BEGIN:DAYLIGHT
TZOFFSETFROM:-0600
TZOFFSETTO:-0500
TZNAME:CDT
DTSTART:20160313T080000
END:DAYLIGHT
BEGIN:STANDARD
TZOFFSETFROM:-0500
TZOFFSETTO:-0600
TZNAME:CST
DTSTART:20161106T070000
END:STANDARD
BEGIN:DAYLIGHT
TZOFFSETFROM:-0600
TZOFFSETTO:-0500
TZNAME:CDT
DTSTART:20170312T080000
END:DAYLIGHT
BEGIN:STANDARD
TZOFFSETFROM:-0500
TZOFFSETTO:-0600
TZNAME:CST
DTSTART:20171105T070000
END:STANDARD
BEGIN:DAYLIGHT
TZOFFSETFROM:-0600
TZOFFSETTO:-0500
TZNAME:CDT
DTSTART:20180311T080000
END:DAYLIGHT
BEGIN:STANDARD
TZOFFSETFROM:-0500
TZOFFSETTO:-0600
TZNAME:CST
DTSTART:20181104T070000
END:STANDARD
END:VTIMEZONE
BEGIN:VEVENT
DTSTART;TZID=America/Chicago:20170618T080000
DTEND;TZID=America/Chicago:20170618T170000
DTSTAMP:20260424T010243
CREATED:20170608T105302Z
LAST-MODIFIED:20170618T182006Z
UID:10000619-1497772800-1497805200@www.racetime.info
SUMMARY:Waucondafest Challenge: 1 Mile; 5K & 10K Run
DESCRIPTION:Waucondafest 1 Mile Results\n\nWaucondafest 5K Age Group Results\n\nWaucondafest 5K Overall Results\n\nWaucondafest 10K Age Group Results\n\nWaucondafest 10K Overall Results
URL:https://www.racetime.info/event/waucondafest-challenge-1-mile-5k-10k-run/
LOCATION:Wauconda Fest Grounds\, 600 N. Main Street\, Wauconda\, IL\, 60084\, United States
CATEGORIES:2017-06 Results (June)
ORGANIZER;CN="Tim Staton":MAILTO:tstaton@waucondaparks.com
GEO:42.2687042;-88.1441097
X-APPLE-STRUCTURED-LOCATION;VALUE=URI;X-ADDRESS=Wauconda Fest Grounds 600 N. Main Street Wauconda IL 60084 United States;X-APPLE-RADIUS=500;X-TITLE=600 N. Main Street:geo:-88.1441097,42.2687042
END:VEVENT
BEGIN:VEVENT
DTSTART;TZID=America/Chicago:20160626T080000
DTEND;TZID=America/Chicago:20160626T100000
DTSTAMP:20260424T010243
CREATED:20160624T181930Z
LAST-MODIFIED:20160626T215426Z
UID:10000702-1466928000-1466935200@www.racetime.info
SUMMARY:Waucondafest Challenge 5K & 10K Run
DESCRIPTION:Waucondafest Challenge 5K Age Group Results\n\nWaucondafest Challenge 5K Overall Results\n\nWaucondafest Challenge 10K Age Group Results\n\nWaucondafest Challenge 10K Overall Results
URL:https://www.racetime.info/event/waucondafest-challenge-5k-10k-run/
LOCATION:Wauconda Fest Grounds\, 600 N. Main Street\, Wauconda\, IL\, 60084\, United States
CATEGORIES:2016-06 Results (June)
ORGANIZER;CN="Tim Staton":MAILTO:tstaton@waucondaparks.com
GEO:42.2687042;-88.1441097
X-APPLE-STRUCTURED-LOCATION;VALUE=URI;X-ADDRESS=Wauconda Fest Grounds 600 N. Main Street Wauconda IL 60084 United States;X-APPLE-RADIUS=500;X-TITLE=600 N. Main Street:geo:-88.1441097,42.2687042
END:VEVENT
BEGIN:VEVENT
DTSTART;TZID=America/Chicago:20150725T080000
DTEND;TZID=America/Chicago:20150725T110000
DTSTAMP:20260424T010243
CREATED:20150721T014050Z
LAST-MODIFIED:20150725T173941Z
UID:10000310-1437811200-1437822000@www.racetime.info
SUMMARY:Wauconda Kids Sprint Triathlon
DESCRIPTION:Wauconda Youth Triathlon
URL:https://www.racetime.info/event/wauconda-kids-sprint-triathlon/
LOCATION:Wauconda Fest Grounds\, 600 N. Main Street\, Wauconda\, IL\, 60084\, United States
CATEGORIES:2015-07 Results (July)
ORGANIZER;CN="Tim Staton":MAILTO:tstaton@waucondaparks.com
GEO:42.2687042;-88.1441097
X-APPLE-STRUCTURED-LOCATION;VALUE=URI;X-ADDRESS=Wauconda Fest Grounds 600 N. Main Street Wauconda IL 60084 United States;X-APPLE-RADIUS=500;X-TITLE=600 N. Main Street:geo:-88.1441097,42.2687042
END:VEVENT
BEGIN:VEVENT
DTSTART;TZID=America/Chicago:20150628T080500
DTEND;TZID=America/Chicago:20150628T110000
DTSTAMP:20260424T010243
CREATED:20150606T105858Z
LAST-MODIFIED:20150628T222945Z
UID:10000249-1435478700-1435489200@www.racetime.info
SUMMARY:Waucondafest Challenge 5K & 10K
DESCRIPTION:Waucondafest 5K Age Group Results\n\nWaucondafest 5K Overall Results\n\nWaucondafest 10K Age Group Results\n\nWaucondafest 10K Overall Results
URL:https://www.racetime.info/event/waucondafest-challenge-5k-10k/
LOCATION:Wauconda Fest Grounds\, 600 N. Main Street\, Wauconda\, IL\, 60084\, United States
CATEGORIES:2015-06 Results (June)
ORGANIZER;CN="Tim Staton":MAILTO:tstaton@waucondaparks.com
GEO:42.2687042;-88.1441097
X-APPLE-STRUCTURED-LOCATION;VALUE=URI;X-ADDRESS=Wauconda Fest Grounds 600 N. Main Street Wauconda IL 60084 United States;X-APPLE-RADIUS=500;X-TITLE=600 N. Main Street:geo:-88.1441097,42.2687042
END:VEVENT
END:VCALENDAR