BEGIN:VCALENDAR
VERSION:2.0
PRODID:-//Race Time - ECPv6.15.13//NONSGML v1.0//EN
CALSCALE:GREGORIAN
METHOD:PUBLISH
X-WR-CALNAME:Race Time
X-ORIGINAL-URL:https://www.racetime.info
X-WR-CALDESC:Events for Race Time
REFRESH-INTERVAL;VALUE=DURATION:PT1H
X-Robots-Tag:noindex
X-PUBLISHED-TTL:PT1H
BEGIN:VTIMEZONE
TZID:America/Chicago
BEGIN:DAYLIGHT
TZOFFSETFROM:-0600
TZOFFSETTO:-0500
TZNAME:CDT
DTSTART:20140309T080000
END:DAYLIGHT
BEGIN:STANDARD
TZOFFSETFROM:-0500
TZOFFSETTO:-0600
TZNAME:CST
DTSTART:20141102T070000
END:STANDARD
BEGIN:DAYLIGHT
TZOFFSETFROM:-0600
TZOFFSETTO:-0500
TZNAME:CDT
DTSTART:20150308T080000
END:DAYLIGHT
BEGIN:STANDARD
TZOFFSETFROM:-0500
TZOFFSETTO:-0600
TZNAME:CST
DTSTART:20151101T070000
END:STANDARD
BEGIN:DAYLIGHT
TZOFFSETFROM:-0600
TZOFFSETTO:-0500
TZNAME:CDT
DTSTART:20160313T080000
END:DAYLIGHT
BEGIN:STANDARD
TZOFFSETFROM:-0500
TZOFFSETTO:-0600
TZNAME:CST
DTSTART:20161106T070000
END:STANDARD
END:VTIMEZONE
BEGIN:VEVENT
DTSTART;TZID=America/Chicago:20150509T090000
DTEND;TZID=America/Chicago:20150509T120000
DTSTAMP:20260424T052702
CREATED:20150409T034503Z
LAST-MODIFIED:20150829T201504Z
UID:10000011-1431162000-1431172800@www.racetime.info
SUMMARY:Torch's 5K Run
DESCRIPTION:Torch’s 5K Age Group Results\n\nTorch’s 5K Overall Results
URL:https://www.racetime.info/event/torch-run-2/
LOCATION:Camp Reynoldswood\, 621 Reynoldswood Road\, Dixon\, IL\, 61021\, United States
CATEGORIES:2015-05 Results (May)
ORGANIZER;CN="Todd Atwell":MAILTO:tatwell35@gmail.com
GEO:41.8429388;-89.5099534
X-APPLE-STRUCTURED-LOCATION;VALUE=URI;X-ADDRESS=Camp Reynoldswood 621 Reynoldswood Road Dixon IL 61021 United States;X-APPLE-RADIUS=500;X-TITLE=621 Reynoldswood Road:geo:-89.5099534,41.8429388
END:VEVENT
END:VCALENDAR