BEGIN:VCALENDAR
VERSION:2.0
PRODID:-//Race Time - ECPv6.15.13//NONSGML v1.0//EN
CALSCALE:GREGORIAN
METHOD:PUBLISH
X-ORIGINAL-URL:https://www.racetime.info
X-WR-CALDESC:Events for Race Time
REFRESH-INTERVAL;VALUE=DURATION:PT1H
X-Robots-Tag:noindex
X-PUBLISHED-TTL:PT1H
BEGIN:VTIMEZONE
TZID:America/Chicago
BEGIN:DAYLIGHT
TZOFFSETFROM:-0600
TZOFFSETTO:-0500
TZNAME:CDT
DTSTART:20160313T080000
END:DAYLIGHT
BEGIN:STANDARD
TZOFFSETFROM:-0500
TZOFFSETTO:-0600
TZNAME:CST
DTSTART:20161106T070000
END:STANDARD
BEGIN:DAYLIGHT
TZOFFSETFROM:-0600
TZOFFSETTO:-0500
TZNAME:CDT
DTSTART:20170312T080000
END:DAYLIGHT
BEGIN:STANDARD
TZOFFSETFROM:-0500
TZOFFSETTO:-0600
TZNAME:CST
DTSTART:20171105T070000
END:STANDARD
BEGIN:DAYLIGHT
TZOFFSETFROM:-0600
TZOFFSETTO:-0500
TZNAME:CDT
DTSTART:20180311T080000
END:DAYLIGHT
BEGIN:STANDARD
TZOFFSETFROM:-0500
TZOFFSETTO:-0600
TZNAME:CST
DTSTART:20181104T070000
END:STANDARD
END:VTIMEZONE
BEGIN:VEVENT
DTSTART;TZID=America/Chicago:20171105T080000
DTEND;TZID=America/Chicago:20171105T110000
DTSTAMP:20260424T053403
CREATED:20171104T172219Z
LAST-MODIFIED:20171105T193135Z
UID:10000887-1509868800-1509879600@www.racetime.info
SUMMARY:Sole Shero 5K\, 10K & Half Marathon: Females Only
DESCRIPTION:Sole Shero 5K Age Group Results\n\nSole Shero 5K Overall Results\n\nSole Shero 10K Age Group Results\n\nSole Shero 10K Overall Results\n\nSole Shero Half Marathon Age Group Results\n\nSole Shero Half Marathon Overall Results
URL:https://www.racetime.info/event/sole-shero-5k-10k-half-marathon-females-only/
LOCATION:University Park\, 698 Burnham Drive\, Universitiy Park\, 60484\, United States
CATEGORIES:2017-11 Results (November)
ORGANIZER;CN="Wendy Ringo":MAILTO:thewendstorm@gmail.com
GEO:41.4474991;-87.68635
X-APPLE-STRUCTURED-LOCATION;VALUE=URI;X-ADDRESS=University Park 698 Burnham Drive Universitiy Park 60484 United States;X-APPLE-RADIUS=500;X-TITLE=698 Burnham Drive:geo:-87.68635,41.4474991
END:VEVENT
END:VCALENDAR