BEGIN:VCALENDAR
VERSION:2.0
PRODID:-//Race Time - ECPv6.15.13//NONSGML v1.0//EN
CALSCALE:GREGORIAN
METHOD:PUBLISH
X-ORIGINAL-URL:https://www.racetime.info
X-WR-CALDESC:Events for Race Time
REFRESH-INTERVAL;VALUE=DURATION:PT1H
X-Robots-Tag:noindex
X-PUBLISHED-TTL:PT1H
BEGIN:VTIMEZONE
TZID:America/Chicago
BEGIN:DAYLIGHT
TZOFFSETFROM:-0600
TZOFFSETTO:-0500
TZNAME:CDT
DTSTART:20140309T080000
END:DAYLIGHT
BEGIN:STANDARD
TZOFFSETFROM:-0500
TZOFFSETTO:-0600
TZNAME:CST
DTSTART:20141102T070000
END:STANDARD
BEGIN:DAYLIGHT
TZOFFSETFROM:-0600
TZOFFSETTO:-0500
TZNAME:CDT
DTSTART:20150308T080000
END:DAYLIGHT
BEGIN:STANDARD
TZOFFSETFROM:-0500
TZOFFSETTO:-0600
TZNAME:CST
DTSTART:20151101T070000
END:STANDARD
BEGIN:DAYLIGHT
TZOFFSETFROM:-0600
TZOFFSETTO:-0500
TZNAME:CDT
DTSTART:20160313T080000
END:DAYLIGHT
BEGIN:STANDARD
TZOFFSETFROM:-0500
TZOFFSETTO:-0600
TZNAME:CST
DTSTART:20161106T070000
END:STANDARD
BEGIN:DAYLIGHT
TZOFFSETFROM:-0600
TZOFFSETTO:-0500
TZNAME:CDT
DTSTART:20170312T080000
END:DAYLIGHT
BEGIN:STANDARD
TZOFFSETFROM:-0500
TZOFFSETTO:-0600
TZNAME:CST
DTSTART:20171105T070000
END:STANDARD
BEGIN:DAYLIGHT
TZOFFSETFROM:-0600
TZOFFSETTO:-0500
TZNAME:CDT
DTSTART:20180311T080000
END:DAYLIGHT
BEGIN:STANDARD
TZOFFSETFROM:-0500
TZOFFSETTO:-0600
TZNAME:CST
DTSTART:20181104T070000
END:STANDARD
BEGIN:DAYLIGHT
TZOFFSETFROM:-0600
TZOFFSETTO:-0500
TZNAME:CDT
DTSTART:20190310T080000
END:DAYLIGHT
BEGIN:STANDARD
TZOFFSETFROM:-0500
TZOFFSETTO:-0600
TZNAME:CST
DTSTART:20191103T070000
END:STANDARD
BEGIN:DAYLIGHT
TZOFFSETFROM:-0600
TZOFFSETTO:-0500
TZNAME:CDT
DTSTART:20200308T080000
END:DAYLIGHT
BEGIN:STANDARD
TZOFFSETFROM:-0500
TZOFFSETTO:-0600
TZNAME:CST
DTSTART:20201101T070000
END:STANDARD
BEGIN:DAYLIGHT
TZOFFSETFROM:-0600
TZOFFSETTO:-0500
TZNAME:CDT
DTSTART:20210314T080000
END:DAYLIGHT
BEGIN:STANDARD
TZOFFSETFROM:-0500
TZOFFSETTO:-0600
TZNAME:CST
DTSTART:20211107T070000
END:STANDARD
BEGIN:DAYLIGHT
TZOFFSETFROM:-0600
TZOFFSETTO:-0500
TZNAME:CDT
DTSTART:20220313T080000
END:DAYLIGHT
BEGIN:STANDARD
TZOFFSETFROM:-0500
TZOFFSETTO:-0600
TZNAME:CST
DTSTART:20221106T070000
END:STANDARD
BEGIN:DAYLIGHT
TZOFFSETFROM:-0600
TZOFFSETTO:-0500
TZNAME:CDT
DTSTART:20230312T080000
END:DAYLIGHT
BEGIN:STANDARD
TZOFFSETFROM:-0500
TZOFFSETTO:-0600
TZNAME:CST
DTSTART:20231105T070000
END:STANDARD
BEGIN:DAYLIGHT
TZOFFSETFROM:-0600
TZOFFSETTO:-0500
TZNAME:CDT
DTSTART:20240310T080000
END:DAYLIGHT
BEGIN:STANDARD
TZOFFSETFROM:-0500
TZOFFSETTO:-0600
TZNAME:CST
DTSTART:20241103T070000
END:STANDARD
BEGIN:DAYLIGHT
TZOFFSETFROM:-0600
TZOFFSETTO:-0500
TZNAME:CDT
DTSTART:20250309T080000
END:DAYLIGHT
BEGIN:STANDARD
TZOFFSETFROM:-0500
TZOFFSETTO:-0600
TZNAME:CST
DTSTART:20251102T070000
END:STANDARD
BEGIN:DAYLIGHT
TZOFFSETFROM:-0600
TZOFFSETTO:-0500
TZNAME:CDT
DTSTART:20260308T080000
END:DAYLIGHT
BEGIN:STANDARD
TZOFFSETFROM:-0500
TZOFFSETTO:-0600
TZNAME:CST
DTSTART:20261101T070000
END:STANDARD
END:VTIMEZONE
BEGIN:VEVENT
DTSTART;TZID=America/Chicago:20250614T080000
DTEND;TZID=America/Chicago:20250614T093000
DTSTAMP:20260423T213118
CREATED:20260304T195049Z
LAST-MODIFIED:20260304T195049Z
UID:10002511-1749888000-1749893400@www.racetime.info
SUMMARY:POW! To Cancer 5K Run/Walk for a Cure
DESCRIPTION:
URL:https://www.racetime.info/event/pow-to-cancer-5k-run-walk-for-a-cure-2/
LOCATION:Addison Community Park\, 120 E. Oak Street\, Addison\, IL\, 60101\, United States
ORGANIZER;CN="Pam Hamil":MAILTO:phamil@addisonparks.org
GEO:41.9338049;-87.9852292
X-APPLE-STRUCTURED-LOCATION;VALUE=URI;X-ADDRESS=Addison Community Park 120 E. Oak Street Addison IL 60101 United States;X-APPLE-RADIUS=500;X-TITLE=120 E. Oak Street:geo:-87.9852292,41.9338049
END:VEVENT
BEGIN:VEVENT
DTSTART;TZID=America/Chicago:20250614T080000
DTEND;TZID=America/Chicago:20250614T093000
DTSTAMP:20260423T213118
CREATED:20230330T230617Z
LAST-MODIFIED:20250614T193959Z
UID:10001348-1749888000-1749893400@www.racetime.info
SUMMARY:POW! To Cancer 5K Run/Walk for a Cure
DESCRIPTION:POW To Cancer 5K Age Group Results\n\nPOW To Cancer 5K Overall Results\n\nPOW To Cancer Team Results
URL:https://www.racetime.info/event/copy-of-pow-to-cancer-5k-run-walk-for-a-cure/
LOCATION:Addison Community Park\, 120 E. Oak Street\, Addison\, IL\, 60101\, United States
CATEGORIES:2025-06 Results (June)
ORGANIZER;CN="Pam Hamil":MAILTO:phamil@addisonparks.org
GEO:41.9338049;-87.9852292
X-APPLE-STRUCTURED-LOCATION;VALUE=URI;X-ADDRESS=Addison Community Park 120 E. Oak Street Addison IL 60101 United States;X-APPLE-RADIUS=500;X-TITLE=120 E. Oak Street:geo:-87.9852292,41.9338049
END:VEVENT
BEGIN:VEVENT
DTSTART;TZID=America/Chicago:20230617T080000
DTEND;TZID=America/Chicago:20230617T100000
DTSTAMP:20260423T213118
CREATED:20230330T230617Z
LAST-MODIFIED:20230617T165922Z
UID:10001347-1686988800-1686996000@www.racetime.info
SUMMARY:POW! To Cancer 5K Run/Walk for a Cure
DESCRIPTION:POW to Cancer 5K Age Group Results\n\nPOW to Cancer 5K Overall Results\n\nPOW to Cancer Team Results
URL:https://www.racetime.info/event/pow-to-cancer-5k-run-walk-for-a-cure/
LOCATION:Addison Community Park\, 120 E. Oak Street\, Addison\, IL\, 60101\, United States
CATEGORIES:2023-06 Results (June)
ORGANIZER;CN="Pam Hamil":MAILTO:phamil@addisonparks.org
GEO:41.9338049;-87.9852292
X-APPLE-STRUCTURED-LOCATION;VALUE=URI;X-ADDRESS=Addison Community Park 120 E. Oak Street Addison IL 60101 United States;X-APPLE-RADIUS=500;X-TITLE=120 E. Oak Street:geo:-87.9852292,41.9338049
END:VEVENT
BEGIN:VEVENT
DTSTART;TZID=America/Chicago:20151126T084500
DTEND;TZID=America/Chicago:20151126T110000
DTSTAMP:20260423T213118
CREATED:20151115T111403Z
LAST-MODIFIED:20151126T191007Z
UID:10000172-1448527500-1448535600@www.racetime.info
SUMMARY:Addison Turkey Trot 1-5 Mile Run & 1-3 Mile Walk
DESCRIPTION:Addison Turkey Trot .5 Youth Predictor\n\nAddison Turkey Trot Overall Predictor Results
URL:https://www.racetime.info/event/addison-turkey-trot-1-5-mile-run-1-3-mile-walk/
LOCATION:Addison Community Park\, 120 E. Oak Street\, Addison\, IL\, 60101\, United States
CATEGORIES:2015-11 Results (November)
ORGANIZER;CN="Sean Ford":MAILTO:sford@addisonparks.org
GEO:41.9338049;-87.9852292
X-APPLE-STRUCTURED-LOCATION;VALUE=URI;X-ADDRESS=Addison Community Park 120 E. Oak Street Addison IL 60101 United States;X-APPLE-RADIUS=500;X-TITLE=120 E. Oak Street:geo:-87.9852292,41.9338049
END:VEVENT
END:VCALENDAR