BEGIN:VCALENDAR
VERSION:2.0
PRODID:-//Race Time - ECPv6.15.13//NONSGML v1.0//EN
CALSCALE:GREGORIAN
METHOD:PUBLISH
X-ORIGINAL-URL:https://www.racetime.info
X-WR-CALDESC:Events for Race Time
REFRESH-INTERVAL;VALUE=DURATION:PT1H
X-Robots-Tag:noindex
X-PUBLISHED-TTL:PT1H
BEGIN:VTIMEZONE
TZID:America/Chicago
BEGIN:DAYLIGHT
TZOFFSETFROM:-0600
TZOFFSETTO:-0500
TZNAME:CDT
DTSTART:20150308T080000
END:DAYLIGHT
BEGIN:STANDARD
TZOFFSETFROM:-0500
TZOFFSETTO:-0600
TZNAME:CST
DTSTART:20151101T070000
END:STANDARD
BEGIN:DAYLIGHT
TZOFFSETFROM:-0600
TZOFFSETTO:-0500
TZNAME:CDT
DTSTART:20160313T080000
END:DAYLIGHT
BEGIN:STANDARD
TZOFFSETFROM:-0500
TZOFFSETTO:-0600
TZNAME:CST
DTSTART:20161106T070000
END:STANDARD
BEGIN:DAYLIGHT
TZOFFSETFROM:-0600
TZOFFSETTO:-0500
TZNAME:CDT
DTSTART:20170312T080000
END:DAYLIGHT
BEGIN:STANDARD
TZOFFSETFROM:-0500
TZOFFSETTO:-0600
TZNAME:CST
DTSTART:20171105T070000
END:STANDARD
END:VTIMEZONE
BEGIN:VEVENT
DTSTART;TZID=America/Chicago:20161001T080000
DTEND;TZID=America/Chicago:20161001T100000
DTSTAMP:20260424T024800
CREATED:20160507T021432Z
LAST-MODIFIED:20161004T002921Z
UID:10000647-1475308800-1475316000@www.racetime.info
SUMMARY:Harvest Hustle 5K Run/Walk  & 1.5 Mile Walk
DESCRIPTION:Harvest Hustle 5K Age Group Results\n\nHarvest Hustle 5K Overall Results
URL:https://www.racetime.info/event/harvest-hustle-5k-runwalk-1-5-mile-walk/
LOCATION:Algonquin’s Historic Village Hall\, 2 South Main Street\, Algonquin\, IL\, 60102\, United States
CATEGORIES:2016-10 Results (October)
ORGANIZER;CN="Gerald Klein":MAILTO:geraldklein@algonquin.org
GEO:42.1671827;-88.2924256
X-APPLE-STRUCTURED-LOCATION;VALUE=URI;X-ADDRESS=Algonquin’s Historic Village Hall 2 South Main Street Algonquin IL 60102 United States;X-APPLE-RADIUS=500;X-TITLE=2 South Main Street:geo:-88.2924256,42.1671827
END:VEVENT
END:VCALENDAR