BEGIN:VCALENDAR
VERSION:2.0
PRODID:-//Race Time - ECPv6.15.13//NONSGML v1.0//EN
CALSCALE:GREGORIAN
METHOD:PUBLISH
X-ORIGINAL-URL:https://www.racetime.info
X-WR-CALDESC:Events for Race Time
REFRESH-INTERVAL;VALUE=DURATION:PT1H
X-Robots-Tag:noindex
X-PUBLISHED-TTL:PT1H
BEGIN:VTIMEZONE
TZID:America/Chicago
BEGIN:DAYLIGHT
TZOFFSETFROM:-0600
TZOFFSETTO:-0500
TZNAME:CDT
DTSTART:20140309T080000
END:DAYLIGHT
BEGIN:STANDARD
TZOFFSETFROM:-0500
TZOFFSETTO:-0600
TZNAME:CST
DTSTART:20141102T070000
END:STANDARD
BEGIN:DAYLIGHT
TZOFFSETFROM:-0600
TZOFFSETTO:-0500
TZNAME:CDT
DTSTART:20150308T080000
END:DAYLIGHT
BEGIN:STANDARD
TZOFFSETFROM:-0500
TZOFFSETTO:-0600
TZNAME:CST
DTSTART:20151101T070000
END:STANDARD
BEGIN:DAYLIGHT
TZOFFSETFROM:-0600
TZOFFSETTO:-0500
TZNAME:CDT
DTSTART:20160313T080000
END:DAYLIGHT
BEGIN:STANDARD
TZOFFSETFROM:-0500
TZOFFSETTO:-0600
TZNAME:CST
DTSTART:20161106T070000
END:STANDARD
BEGIN:DAYLIGHT
TZOFFSETFROM:-0600
TZOFFSETTO:-0500
TZNAME:CDT
DTSTART:20170312T080000
END:DAYLIGHT
BEGIN:STANDARD
TZOFFSETFROM:-0500
TZOFFSETTO:-0600
TZNAME:CST
DTSTART:20171105T070000
END:STANDARD
BEGIN:DAYLIGHT
TZOFFSETFROM:-0600
TZOFFSETTO:-0500
TZNAME:CDT
DTSTART:20180311T080000
END:DAYLIGHT
BEGIN:STANDARD
TZOFFSETFROM:-0500
TZOFFSETTO:-0600
TZNAME:CST
DTSTART:20181104T070000
END:STANDARD
BEGIN:DAYLIGHT
TZOFFSETFROM:-0600
TZOFFSETTO:-0500
TZNAME:CDT
DTSTART:20190310T080000
END:DAYLIGHT
BEGIN:STANDARD
TZOFFSETFROM:-0500
TZOFFSETTO:-0600
TZNAME:CST
DTSTART:20191103T070000
END:STANDARD
BEGIN:DAYLIGHT
TZOFFSETFROM:-0600
TZOFFSETTO:-0500
TZNAME:CDT
DTSTART:20200308T080000
END:DAYLIGHT
BEGIN:STANDARD
TZOFFSETFROM:-0500
TZOFFSETTO:-0600
TZNAME:CST
DTSTART:20201101T070000
END:STANDARD
BEGIN:DAYLIGHT
TZOFFSETFROM:-0600
TZOFFSETTO:-0500
TZNAME:CDT
DTSTART:20210314T080000
END:DAYLIGHT
BEGIN:STANDARD
TZOFFSETFROM:-0500
TZOFFSETTO:-0600
TZNAME:CST
DTSTART:20211107T070000
END:STANDARD
BEGIN:DAYLIGHT
TZOFFSETFROM:-0600
TZOFFSETTO:-0500
TZNAME:CDT
DTSTART:20220313T080000
END:DAYLIGHT
BEGIN:STANDARD
TZOFFSETFROM:-0500
TZOFFSETTO:-0600
TZNAME:CST
DTSTART:20221106T070000
END:STANDARD
END:VTIMEZONE
BEGIN:VEVENT
DTSTART;TZID=America/Chicago:20210130T080000
DTEND;TZID=America/Chicago:20210130T100000
DTSTAMP:20260424T013009
CREATED:20210130T164501Z
LAST-MODIFIED:20210131T155148Z
UID:10001144-1611993600-1612000800@www.racetime.info
SUMMARY:NI Nordic Ski Race
DESCRIPTION:NI Nordic Ski Race Overall Results
URL:https://www.racetime.info/event/ni-nordic-ski-race/
LOCATION:Arrowhead Golf Club\, 26W151 Butterfield Road\, Wheaton\, IL\, United States
CATEGORIES:2021-01 Results (January)
ORGANIZER;CN="Bob Richards":MAILTO:bobnanrun@sbcglobal.net
GEO:41.8289926;-88.1339629
X-APPLE-STRUCTURED-LOCATION;VALUE=URI;X-ADDRESS=Arrowhead Golf Club 26W151 Butterfield Road Wheaton IL United States;X-APPLE-RADIUS=500;X-TITLE=26W151 Butterfield Road:geo:-88.1339629,41.8289926
END:VEVENT
BEGIN:VEVENT
DTSTART;TZID=America/Chicago:20150110T090000
DTEND;TZID=America/Chicago:20150110T090000
DTSTAMP:20260424T013009
CREATED:20150409T213418Z
LAST-MODIFIED:20150802T041820Z
UID:10000195-1420880400-1420880400@www.racetime.info
SUMMARY:Northern Illinois Nordic XC Ski Race
DESCRIPTION:Event Canceled
URL:https://www.racetime.info/event/northern-illinois-nordic-xc-ski-race/
LOCATION:Arrowhead Golf Club\, 26W151 Butterfield Road\, Wheaton\, IL\, United States
GEO:41.8289926;-88.1339629
X-APPLE-STRUCTURED-LOCATION;VALUE=URI;X-ADDRESS=Arrowhead Golf Club 26W151 Butterfield Road Wheaton IL United States;X-APPLE-RADIUS=500;X-TITLE=26W151 Butterfield Road:geo:-88.1339629,41.8289926
END:VEVENT
END:VCALENDAR