BEGIN:VCALENDAR
VERSION:2.0
PRODID:-//Race Time - ECPv6.15.13//NONSGML v1.0//EN
CALSCALE:GREGORIAN
METHOD:PUBLISH
X-ORIGINAL-URL:https://www.racetime.info
X-WR-CALDESC:Events for Race Time
REFRESH-INTERVAL;VALUE=DURATION:PT1H
X-Robots-Tag:noindex
X-PUBLISHED-TTL:PT1H
BEGIN:VTIMEZONE
TZID:America/Indiana/Indianapolis
BEGIN:DAYLIGHT
TZOFFSETFROM:-0500
TZOFFSETTO:-0400
TZNAME:EDT
DTSTART:20150308T070000
END:DAYLIGHT
BEGIN:STANDARD
TZOFFSETFROM:-0400
TZOFFSETTO:-0500
TZNAME:EST
DTSTART:20151101T060000
END:STANDARD
BEGIN:DAYLIGHT
TZOFFSETFROM:-0500
TZOFFSETTO:-0400
TZNAME:EDT
DTSTART:20160313T070000
END:DAYLIGHT
BEGIN:STANDARD
TZOFFSETFROM:-0400
TZOFFSETTO:-0500
TZNAME:EST
DTSTART:20161106T060000
END:STANDARD
BEGIN:DAYLIGHT
TZOFFSETFROM:-0500
TZOFFSETTO:-0400
TZNAME:EDT
DTSTART:20170312T070000
END:DAYLIGHT
BEGIN:STANDARD
TZOFFSETFROM:-0400
TZOFFSETTO:-0500
TZNAME:EST
DTSTART:20171105T060000
END:STANDARD
BEGIN:DAYLIGHT
TZOFFSETFROM:-0500
TZOFFSETTO:-0400
TZNAME:EDT
DTSTART:20180311T070000
END:DAYLIGHT
BEGIN:STANDARD
TZOFFSETFROM:-0400
TZOFFSETTO:-0500
TZNAME:EST
DTSTART:20181104T060000
END:STANDARD
BEGIN:DAYLIGHT
TZOFFSETFROM:-0500
TZOFFSETTO:-0400
TZNAME:EDT
DTSTART:20190310T070000
END:DAYLIGHT
BEGIN:STANDARD
TZOFFSETFROM:-0400
TZOFFSETTO:-0500
TZNAME:EST
DTSTART:20191103T060000
END:STANDARD
BEGIN:DAYLIGHT
TZOFFSETFROM:-0500
TZOFFSETTO:-0400
TZNAME:EDT
DTSTART:20200308T070000
END:DAYLIGHT
BEGIN:STANDARD
TZOFFSETFROM:-0400
TZOFFSETTO:-0500
TZNAME:EST
DTSTART:20201101T060000
END:STANDARD
BEGIN:DAYLIGHT
TZOFFSETFROM:-0500
TZOFFSETTO:-0400
TZNAME:EDT
DTSTART:20210314T070000
END:DAYLIGHT
BEGIN:STANDARD
TZOFFSETFROM:-0400
TZOFFSETTO:-0500
TZNAME:EST
DTSTART:20211107T060000
END:STANDARD
BEGIN:DAYLIGHT
TZOFFSETFROM:-0500
TZOFFSETTO:-0400
TZNAME:EDT
DTSTART:20220313T070000
END:DAYLIGHT
BEGIN:STANDARD
TZOFFSETFROM:-0400
TZOFFSETTO:-0500
TZNAME:EST
DTSTART:20221106T060000
END:STANDARD
BEGIN:DAYLIGHT
TZOFFSETFROM:-0500
TZOFFSETTO:-0400
TZNAME:EDT
DTSTART:20230312T070000
END:DAYLIGHT
BEGIN:STANDARD
TZOFFSETFROM:-0400
TZOFFSETTO:-0500
TZNAME:EST
DTSTART:20231105T060000
END:STANDARD
BEGIN:DAYLIGHT
TZOFFSETFROM:-0500
TZOFFSETTO:-0400
TZNAME:EDT
DTSTART:20240310T070000
END:DAYLIGHT
BEGIN:STANDARD
TZOFFSETFROM:-0400
TZOFFSETTO:-0500
TZNAME:EST
DTSTART:20241103T060000
END:STANDARD
BEGIN:DAYLIGHT
TZOFFSETFROM:-0500
TZOFFSETTO:-0400
TZNAME:EDT
DTSTART:20250309T070000
END:DAYLIGHT
BEGIN:STANDARD
TZOFFSETFROM:-0400
TZOFFSETTO:-0500
TZNAME:EST
DTSTART:20251102T060000
END:STANDARD
BEGIN:DAYLIGHT
TZOFFSETFROM:-0500
TZOFFSETTO:-0400
TZNAME:EDT
DTSTART:20260308T070000
END:DAYLIGHT
BEGIN:STANDARD
TZOFFSETFROM:-0400
TZOFFSETTO:-0500
TZNAME:EST
DTSTART:20261101T060000
END:STANDARD
END:VTIMEZONE
BEGIN:VTIMEZONE
TZID:America/Chicago
BEGIN:DAYLIGHT
TZOFFSETFROM:-0600
TZOFFSETTO:-0500
TZNAME:CDT
DTSTART:20140309T080000
END:DAYLIGHT
BEGIN:STANDARD
TZOFFSETFROM:-0500
TZOFFSETTO:-0600
TZNAME:CST
DTSTART:20141102T070000
END:STANDARD
BEGIN:DAYLIGHT
TZOFFSETFROM:-0600
TZOFFSETTO:-0500
TZNAME:CDT
DTSTART:20150308T080000
END:DAYLIGHT
BEGIN:STANDARD
TZOFFSETFROM:-0500
TZOFFSETTO:-0600
TZNAME:CST
DTSTART:20151101T070000
END:STANDARD
BEGIN:DAYLIGHT
TZOFFSETFROM:-0600
TZOFFSETTO:-0500
TZNAME:CDT
DTSTART:20160313T080000
END:DAYLIGHT
BEGIN:STANDARD
TZOFFSETFROM:-0500
TZOFFSETTO:-0600
TZNAME:CST
DTSTART:20161106T070000
END:STANDARD
BEGIN:DAYLIGHT
TZOFFSETFROM:-0600
TZOFFSETTO:-0500
TZNAME:CDT
DTSTART:20170312T080000
END:DAYLIGHT
BEGIN:STANDARD
TZOFFSETFROM:-0500
TZOFFSETTO:-0600
TZNAME:CST
DTSTART:20171105T070000
END:STANDARD
END:VTIMEZONE
BEGIN:VEVENT
DTSTART;TZID=America/Indiana/Indianapolis:20251127T090000
DTEND;TZID=America/Indiana/Indianapolis:20251127T103000
DTSTAMP:20260424T011825
CREATED:20251116T130127Z
LAST-MODIFIED:20251127T172505Z
UID:10002450-1764234000-1764239400@www.racetime.info
SUMMARY:Attica Turkey Trot 5K Run/Walk
DESCRIPTION:Attica Turkey Trot 5K Age Group Results\n\nAttica Turkey Trot 5K Overall Results
URL:https://www.racetime.info/event/attica-turkey-trot-5k-run-walk-5/
LOCATION:Attica High School\, 211 Sycamore Street\, Attica\, IN\, 47918\, United States
CATEGORIES:2025-11 Results (November)
ORGANIZER;CN="Jeff Crane":MAILTO:atticaturkeytrot@yahoo.com
GEO:40.277395;-87.250629
X-APPLE-STRUCTURED-LOCATION;VALUE=URI;X-ADDRESS=Attica High School 211 Sycamore Street Attica IN 47918 United States;X-APPLE-RADIUS=500;X-TITLE=211 Sycamore Street:geo:-87.250629,40.277395
END:VEVENT
BEGIN:VEVENT
DTSTART;TZID=America/Indiana/Indianapolis:20241128T090000
DTEND;TZID=America/Indiana/Indianapolis:20241128T103000
DTSTAMP:20260424T011825
CREATED:20171103T171216Z
LAST-MODIFIED:20241128T190516Z
UID:10000885-1732784400-1732789800@www.racetime.info
SUMMARY:Attica Turkey Trot 5K Run/Walk
DESCRIPTION:Attica Turkey Trot 5K Age Group Results\n\nAttica Turkey Trot 5K Overall Results
URL:https://www.racetime.info/event/copy-of-attica-turkey-trot-5k-run-walk-3/
LOCATION:Attica High School\, 211 Sycamore Street\, Attica\, IN\, 47918\, United States
CATEGORIES:2024-11 Results (November)
ORGANIZER;CN="Jeff Crane":MAILTO:atticaturkeytrot@yahoo.com
GEO:40.277395;-87.250629
X-APPLE-STRUCTURED-LOCATION;VALUE=URI;X-ADDRESS=Attica High School 211 Sycamore Street Attica IN 47918 United States;X-APPLE-RADIUS=500;X-TITLE=211 Sycamore Street:geo:-87.250629,40.277395
END:VEVENT
BEGIN:VEVENT
DTSTART;TZID=America/Indiana/Indianapolis:20231123T090000
DTEND;TZID=America/Indiana/Indianapolis:20231123T103000
DTSTAMP:20260424T011825
CREATED:20171103T171216Z
LAST-MODIFIED:20231123T201843Z
UID:10000883-1700730000-1700735400@www.racetime.info
SUMMARY:Attica Turkey Trot 5K Run/Walk
DESCRIPTION:Attica Turkey Trot 5K Age Group Results\n\nAttica Turkey Trot 5K Overall Results
URL:https://www.racetime.info/event/copy-of-attica-turkey-trot-5k-run-walk-2/
LOCATION:Attica High School\, 211 Sycamore Street\, Attica\, IN\, 47918\, United States
CATEGORIES:2023-11 Results (November)
ORGANIZER;CN="Jeff Crane":MAILTO:atticaturkeytrot@yahoo.com
GEO:40.277395;-87.250629
X-APPLE-STRUCTURED-LOCATION;VALUE=URI;X-ADDRESS=Attica High School 211 Sycamore Street Attica IN 47918 United States;X-APPLE-RADIUS=500;X-TITLE=211 Sycamore Street:geo:-87.250629,40.277395
END:VEVENT
BEGIN:VEVENT
DTSTART;TZID=America/Indiana/Indianapolis:20221124T090000
DTEND;TZID=America/Indiana/Indianapolis:20221124T103000
DTSTAMP:20260424T011825
CREATED:20171103T171216Z
LAST-MODIFIED:20221124T184631Z
UID:10001702-1669280400-1669285800@www.racetime.info
SUMMARY:Attica Turkey Trot 5K Run/Walk
DESCRIPTION:Attica Turkey Trot 5K Age Group Results\n\nAttica Turkey Trot 5K Overall Results
URL:https://www.racetime.info/event/copy-of-attica-turkey-trot-5k-run-walk/
LOCATION:Attica High School\, 211 Sycamore Street\, Attica\, IN\, 47918\, United States
CATEGORIES:2022-11 Results (November)
ORGANIZER;CN="Jeff Crane":MAILTO:atticaturkeytrot@yahoo.com
GEO:40.277395;-87.250629
X-APPLE-STRUCTURED-LOCATION;VALUE=URI;X-ADDRESS=Attica High School 211 Sycamore Street Attica IN 47918 United States;X-APPLE-RADIUS=500;X-TITLE=211 Sycamore Street:geo:-87.250629,40.277395
END:VEVENT
BEGIN:VEVENT
DTSTART;TZID=America/Indiana/Indianapolis:20211125T090000
DTEND;TZID=America/Indiana/Indianapolis:20211125T110000
DTSTAMP:20260424T011825
CREATED:20171103T171216Z
LAST-MODIFIED:20211126T021713Z
UID:10001701-1637830800-1637838000@www.racetime.info
SUMMARY:Attica Turkey Trot 5K Run/Walk
DESCRIPTION:Attica Turkey Trot 5K Age Group Results\n\nAttica Turkey Trot 5K Overall Results
URL:https://www.racetime.info/event/attica-turkey-trot-5k-run-walk-4/
LOCATION:Attica High School\, 211 Sycamore Street\, Attica\, IN\, 47918\, United States
CATEGORIES:2021-11 Results (November)
ORGANIZER;CN="Jeff Crane":MAILTO:atticaturkeytrot@yahoo.com
GEO:40.277395;-87.250629
X-APPLE-STRUCTURED-LOCATION;VALUE=URI;X-ADDRESS=Attica High School 211 Sycamore Street Attica IN 47918 United States;X-APPLE-RADIUS=500;X-TITLE=211 Sycamore Street:geo:-87.250629,40.277395
END:VEVENT
BEGIN:VEVENT
DTSTART;TZID=America/Indiana/Indianapolis:20201126T090000
DTEND;TZID=America/Indiana/Indianapolis:20201126T110000
DTSTAMP:20260424T011825
CREATED:20171103T171216Z
LAST-MODIFIED:20201113T003627Z
UID:10001700-1606381200-1606388400@www.racetime.info
SUMMARY:Attica Turkey Trot 5K Run/Walk: VIRTUAL
DESCRIPTION:
URL:https://www.racetime.info/event/attica-turkey-trot-5k-run-walk-3/
LOCATION:Attica High School\, 211 Sycamore Street\, Attica\, IN\, 47918\, United States
ORGANIZER;CN="Jeff Crane":MAILTO:atticaturkeytrot@yahoo.com
GEO:40.277395;-87.250629
X-APPLE-STRUCTURED-LOCATION;VALUE=URI;X-ADDRESS=Attica High School 211 Sycamore Street Attica IN 47918 United States;X-APPLE-RADIUS=500;X-TITLE=211 Sycamore Street:geo:-87.250629,40.277395
END:VEVENT
BEGIN:VEVENT
DTSTART;TZID=America/Indiana/Indianapolis:20191128T090000
DTEND;TZID=America/Indiana/Indianapolis:20191128T110000
DTSTAMP:20260424T011825
CREATED:20171103T171216Z
LAST-MODIFIED:20191128T191206Z
UID:10001699-1574931600-1574938800@www.racetime.info
SUMMARY:Attica Turkey Trot 5K Run/Walk
DESCRIPTION:Attica Turkey Trot 5K Age Group Results\n\nAttica Turkey Trot 5K Overall Results
URL:https://www.racetime.info/event/attica-turkey-trot-5k-run-walk-2/
LOCATION:Attica High School\, 211 Sycamore Street\, Attica\, IN\, 47918\, United States
CATEGORIES:2019-11 Results (November)
ORGANIZER;CN="Jeff Crane":MAILTO:atticaturkeytrot@yahoo.com
GEO:40.277395;-87.250629
X-APPLE-STRUCTURED-LOCATION;VALUE=URI;X-ADDRESS=Attica High School 211 Sycamore Street Attica IN 47918 United States;X-APPLE-RADIUS=500;X-TITLE=211 Sycamore Street:geo:-87.250629,40.277395
END:VEVENT
BEGIN:VEVENT
DTSTART;TZID=America/Indiana/Indianapolis:20190629T083000
DTEND;TZID=America/Indiana/Indianapolis:20190629T110000
DTSTAMP:20260424T011825
CREATED:20170609T180607Z
LAST-MODIFIED:20190629T171333Z
UID:10001451-1561797000-1561806000@www.racetime.info
SUMMARY:Hope Springs 5K Freedom Run/Walk
DESCRIPTION:Hope Springs Freedom 5K Age Group Results\n\nHope Springs Freedom 5K Overall Results
URL:https://www.racetime.info/event/hope-springs-5k-freedom-run-walk-2/
LOCATION:Attica High School\, 211 Sycamore Street\, Attica\, IN\, 47918\, United States
CATEGORIES:2019-06 Results (June)
ORGANIZER;CN="Toni McGowen":MAILTO:tonimcgowen@comcast.net
GEO:40.277395;-87.250629
X-APPLE-STRUCTURED-LOCATION;VALUE=URI;X-ADDRESS=Attica High School 211 Sycamore Street Attica IN 47918 United States;X-APPLE-RADIUS=500;X-TITLE=211 Sycamore Street:geo:-87.250629,40.277395
END:VEVENT
BEGIN:VEVENT
DTSTART;TZID=America/Indiana/Indianapolis:20181122T090000
DTEND;TZID=America/Indiana/Indianapolis:20181122T110000
DTSTAMP:20260424T011825
CREATED:20171103T171216Z
LAST-MODIFIED:20181122T191442Z
UID:10001698-1542877200-1542884400@www.racetime.info
SUMMARY:Attica Turkey Trot 5K Run/Walk
DESCRIPTION:Attica Turkey Trot 5K Age Group Results\n\nAttica Turkey Trot 5K Overall Results
URL:https://www.racetime.info/event/attica-turkey-trot-5k-run-walk/
LOCATION:Attica High School\, 211 Sycamore Street\, Attica\, IN\, 47918\, United States
CATEGORIES:2018-11 Results (November)
ORGANIZER;CN="Jeff Crane":MAILTO:atticaturkeytrot@yahoo.com
GEO:40.277395;-87.250629
X-APPLE-STRUCTURED-LOCATION;VALUE=URI;X-ADDRESS=Attica High School 211 Sycamore Street Attica IN 47918 United States;X-APPLE-RADIUS=500;X-TITLE=211 Sycamore Street:geo:-87.250629,40.277395
END:VEVENT
BEGIN:VEVENT
DTSTART;TZID=America/Indiana/Indianapolis:20171123T090000
DTEND;TZID=America/Indiana/Indianapolis:20171123T110000
DTSTAMP:20260424T011825
CREATED:20171103T171216Z
LAST-MODIFIED:20171123T195113Z
UID:10001697-1511427600-1511434800@www.racetime.info
SUMMARY:Attica Turkey Trot 5K Run/Walk
DESCRIPTION:Attica Turkey Trot 5K Age Group Results\n\nAttica Turkey Trot 5K Overall Results
URL:https://www.racetime.info/event/attica-turkey-trot-5k-runwalk-2/
LOCATION:Attica High School\, 211 Sycamore Street\, Attica\, IN\, 47918\, United States
CATEGORIES:2017-11 Results (November)
ORGANIZER;CN="Jeff Crane":MAILTO:atticaturkeytrot@yahoo.com
GEO:40.277395;-87.250629
X-APPLE-STRUCTURED-LOCATION;VALUE=URI;X-ADDRESS=Attica High School 211 Sycamore Street Attica IN 47918 United States;X-APPLE-RADIUS=500;X-TITLE=211 Sycamore Street:geo:-87.250629,40.277395
END:VEVENT
BEGIN:VEVENT
DTSTART;TZID=America/Indiana/Indianapolis:20161124T090000
DTEND;TZID=America/Indiana/Indianapolis:20161124T110000
DTSTAMP:20260424T011825
CREATED:20161101T175001Z
LAST-MODIFIED:20161124T193030Z
UID:10000870-1479978000-1479985200@www.racetime.info
SUMMARY:Attica Turkey Trot 5K Run/Walk
DESCRIPTION:Attica Turkey Trot 5K Age Group Results\n\nAttica Turkey Trot 5K Overall Results
URL:https://www.racetime.info/event/attica-turkey-trot-5k-runwalk/
LOCATION:Attica High School\, 211 Sycamore Street\, Attica\, IN\, 47918\, United States
CATEGORIES:2016-11 Results (November)
ORGANIZER;CN="Jeff Crane":MAILTO:atticaturkeytrot@yahoo.com
GEO:40.277395;-87.250629
X-APPLE-STRUCTURED-LOCATION;VALUE=URI;X-ADDRESS=Attica High School 211 Sycamore Street Attica IN 47918 United States;X-APPLE-RADIUS=500;X-TITLE=211 Sycamore Street:geo:-87.250629,40.277395
END:VEVENT
BEGIN:VEVENT
DTSTART;TZID=America/Chicago:20160702T080000
DTEND;TZID=America/Chicago:20160702T220000
DTSTAMP:20260424T011825
CREATED:20160702T205111Z
LAST-MODIFIED:20160702T205111Z
UID:10000282-1467446400-1467496800@www.racetime.info
SUMMARY:Attica's Sesquincentennial Run
DESCRIPTION:Attica’s Sesquincentennial 5K Overall Results
URL:https://www.racetime.info/event/atticas-sesquincentennial-run/
LOCATION:Attica High School\, 211 Sycamore Street\, Attica\, IN\, 47918\, United States
CATEGORIES:2016-07 Results (July)
ORGANIZER;CN="Jeff Crane":MAILTO:atticaturkeytrot@yahoo.com
GEO:40.277395;-87.250629
X-APPLE-STRUCTURED-LOCATION;VALUE=URI;X-ADDRESS=Attica High School 211 Sycamore Street Attica IN 47918 United States;X-APPLE-RADIUS=500;X-TITLE=211 Sycamore Street:geo:-87.250629,40.277395
END:VEVENT
BEGIN:VEVENT
DTSTART;TZID=America/Chicago:20151126T090000
DTEND;TZID=America/Chicago:20151126T110000
DTSTAMP:20260424T011825
CREATED:20151006T025916Z
LAST-MODIFIED:20151126T191119Z
UID:10000454-1448528400-1448535600@www.racetime.info
SUMMARY:Attica Turkey Trot
DESCRIPTION:Attica 5K Age Group Results\n\nAttica 5K Overall Results
URL:https://www.racetime.info/event/attica-turkey-trot/
LOCATION:Attica High School\, 211 Sycamore Street\, Attica\, IN\, 47918\, United States
CATEGORIES:2015-11 Results (November)
ORGANIZER;CN="Jeff Crane":MAILTO:atticaturkeytrot@yahoo.com
GEO:40.277395;-87.250629
X-APPLE-STRUCTURED-LOCATION;VALUE=URI;X-ADDRESS=Attica High School 211 Sycamore Street Attica IN 47918 United States;X-APPLE-RADIUS=500;X-TITLE=211 Sycamore Street:geo:-87.250629,40.277395
END:VEVENT
END:VCALENDAR