BEGIN:VCALENDAR
VERSION:2.0
PRODID:-//Race Time - ECPv6.15.13//NONSGML v1.0//EN
CALSCALE:GREGORIAN
METHOD:PUBLISH
X-ORIGINAL-URL:https://www.racetime.info
X-WR-CALDESC:Events for Race Time
REFRESH-INTERVAL;VALUE=DURATION:PT1H
X-Robots-Tag:noindex
X-PUBLISHED-TTL:PT1H
BEGIN:VTIMEZONE
TZID:America/Chicago
BEGIN:DAYLIGHT
TZOFFSETFROM:-0600
TZOFFSETTO:-0500
TZNAME:CDT
DTSTART:20140309T080000
END:DAYLIGHT
BEGIN:STANDARD
TZOFFSETFROM:-0500
TZOFFSETTO:-0600
TZNAME:CST
DTSTART:20141102T070000
END:STANDARD
BEGIN:DAYLIGHT
TZOFFSETFROM:-0600
TZOFFSETTO:-0500
TZNAME:CDT
DTSTART:20150308T080000
END:DAYLIGHT
BEGIN:STANDARD
TZOFFSETFROM:-0500
TZOFFSETTO:-0600
TZNAME:CST
DTSTART:20151101T070000
END:STANDARD
BEGIN:DAYLIGHT
TZOFFSETFROM:-0600
TZOFFSETTO:-0500
TZNAME:CDT
DTSTART:20160313T080000
END:DAYLIGHT
BEGIN:STANDARD
TZOFFSETFROM:-0500
TZOFFSETTO:-0600
TZNAME:CST
DTSTART:20161106T070000
END:STANDARD
BEGIN:DAYLIGHT
TZOFFSETFROM:-0600
TZOFFSETTO:-0500
TZNAME:CDT
DTSTART:20170312T080000
END:DAYLIGHT
BEGIN:STANDARD
TZOFFSETFROM:-0500
TZOFFSETTO:-0600
TZNAME:CST
DTSTART:20171105T070000
END:STANDARD
BEGIN:DAYLIGHT
TZOFFSETFROM:-0600
TZOFFSETTO:-0500
TZNAME:CDT
DTSTART:20180311T080000
END:DAYLIGHT
BEGIN:STANDARD
TZOFFSETFROM:-0500
TZOFFSETTO:-0600
TZNAME:CST
DTSTART:20181104T070000
END:STANDARD
BEGIN:DAYLIGHT
TZOFFSETFROM:-0600
TZOFFSETTO:-0500
TZNAME:CDT
DTSTART:20190310T080000
END:DAYLIGHT
BEGIN:STANDARD
TZOFFSETFROM:-0500
TZOFFSETTO:-0600
TZNAME:CST
DTSTART:20191103T070000
END:STANDARD
END:VTIMEZONE
BEGIN:VEVENT
DTSTART;TZID=America/Chicago:20181103T083000
DTEND;TZID=America/Chicago:20181103T113000
DTSTAMP:20260424T000504
CREATED:20170525T102518Z
LAST-MODIFIED:20181103T165452Z
UID:10001415-1541233800-1541244600@www.racetime.info
SUMMARY:The Warehouse Project & Gallery 5K Run/Walk
DESCRIPTION:The Warehouse Project 5K Age Group Results\n\nThe Warehouse Project 5K Overall Results
URL:https://www.racetime.info/event/the-warehouse-project-gallery-5k-run-walk/
LOCATION:Bedford Park District\, 6652 S. 78th Avenue\, Bedford Park\, IL\, 60501\, United States
CATEGORIES:2018-11 Results (November)
ORGANIZER;CN="Edith Crawford":MAILTO:twpg5k@gmail.com
GEO:41.7705967;-87.8152533
X-APPLE-STRUCTURED-LOCATION;VALUE=URI;X-ADDRESS=Bedford Park District 6652 S. 78th Avenue Bedford Park IL 60501 United States;X-APPLE-RADIUS=500;X-TITLE=6652 S. 78th Avenue:geo:-87.8152533,41.7705967
END:VEVENT
BEGIN:VEVENT
DTSTART;TZID=America/Chicago:20171021T170000
DTEND;TZID=America/Chicago:20171021T200000
DTSTAMP:20260424T000504
CREATED:20170525T102518Z
LAST-MODIFIED:20171022T000641Z
UID:10001414-1508605200-1508616000@www.racetime.info
SUMMARY:The Warehouse Project & Gallery 5K Run/Walk
DESCRIPTION:The Warehouse Project & Gallery 5K Age Group Results\n\nThe Warehouse Project & Gallery 5K Overall Results
URL:https://www.racetime.info/event/the-warehouse-project-gallery-5k-runwalk/
LOCATION:Bedford Park District\, 6652 S. 78th Avenue\, Bedford Park\, IL\, 60501\, United States
CATEGORIES:2017-10 Results (October)
ORGANIZER;CN="Edith Crawford":MAILTO:twpg5k@gmail.com
GEO:41.7705967;-87.8152533
X-APPLE-STRUCTURED-LOCATION;VALUE=URI;X-ADDRESS=Bedford Park District 6652 S. 78th Avenue Bedford Park IL 60501 United States;X-APPLE-RADIUS=500;X-TITLE=6652 S. 78th Avenue:geo:-87.8152533,41.7705967
END:VEVENT
BEGIN:VEVENT
DTSTART;TZID=America/Chicago:20160807T083000
DTEND;TZID=America/Chicago:20160807T100000
DTSTAMP:20260424T000504
CREATED:20160402T022821Z
LAST-MODIFIED:20160807T180806Z
UID:10000602-1470558600-1470564000@www.racetime.info
SUMMARY:The Alebrije Run/Walk 5K: The Warehouse Project & Gallery
DESCRIPTION:Warehouse Project & Gallery 5K Age Group Results\n\nWarehouse Project & Gallery 5K Overall Results
URL:https://www.racetime.info/event/the-alebrije-runwalk-5k-the-warehouse-project-gallery/
LOCATION:Bedford Park District\, 6652 S. 78th Avenue\, Bedford Park\, IL\, 60501\, United States
CATEGORIES:2016-08 Results (August)
ORGANIZER;CN="Edith Crawford":MAILTO:twpg5k@gmail.com
GEO:41.7705967;-87.8152533
X-APPLE-STRUCTURED-LOCATION;VALUE=URI;X-ADDRESS=Bedford Park District 6652 S. 78th Avenue Bedford Park IL 60501 United States;X-APPLE-RADIUS=500;X-TITLE=6652 S. 78th Avenue:geo:-87.8152533,41.7705967
END:VEVENT
BEGIN:VEVENT
DTSTART;TZID=America/Chicago:20150809T083000
DTEND;TZID=America/Chicago:20150809T110000
DTSTAMP:20260424T000504
CREATED:20150615T110528Z
LAST-MODIFIED:20150809T163526Z
UID:10000266-1439109000-1439118000@www.racetime.info
SUMMARY:Warehouse Project & Gallery 5K Run/Walk
DESCRIPTION:Warehouse Project 5K Age Group Results\n\nWarehouse Project 5K Overall Results
URL:https://www.racetime.info/event/warehouse-project-gallery-5k-runwalk/
LOCATION:Bedford Park District\, 6652 S. 78th Avenue\, Bedford Park\, IL\, 60501\, United States
CATEGORIES:2015-08 Results (August)
ORGANIZER;CN="Edith Crawford":MAILTO:twpg5k@gmail.com
GEO:41.7705967;-87.8152533
X-APPLE-STRUCTURED-LOCATION;VALUE=URI;X-ADDRESS=Bedford Park District 6652 S. 78th Avenue Bedford Park IL 60501 United States;X-APPLE-RADIUS=500;X-TITLE=6652 S. 78th Avenue:geo:-87.8152533,41.7705967
END:VEVENT
END:VCALENDAR