BEGIN:VCALENDAR
VERSION:2.0
PRODID:-//Race Time - ECPv6.15.13//NONSGML v1.0//EN
CALSCALE:GREGORIAN
METHOD:PUBLISH
X-ORIGINAL-URL:https://www.racetime.info
X-WR-CALDESC:Events for Race Time
REFRESH-INTERVAL;VALUE=DURATION:PT1H
X-Robots-Tag:noindex
X-PUBLISHED-TTL:PT1H
BEGIN:VTIMEZONE
TZID:America/Chicago
BEGIN:DAYLIGHT
TZOFFSETFROM:-0600
TZOFFSETTO:-0500
TZNAME:CDT
DTSTART:20170312T080000
END:DAYLIGHT
BEGIN:STANDARD
TZOFFSETFROM:-0500
TZOFFSETTO:-0600
TZNAME:CST
DTSTART:20171105T070000
END:STANDARD
BEGIN:DAYLIGHT
TZOFFSETFROM:-0600
TZOFFSETTO:-0500
TZNAME:CDT
DTSTART:20180311T080000
END:DAYLIGHT
BEGIN:STANDARD
TZOFFSETFROM:-0500
TZOFFSETTO:-0600
TZNAME:CST
DTSTART:20181104T070000
END:STANDARD
BEGIN:DAYLIGHT
TZOFFSETFROM:-0600
TZOFFSETTO:-0500
TZNAME:CDT
DTSTART:20190310T080000
END:DAYLIGHT
BEGIN:STANDARD
TZOFFSETFROM:-0500
TZOFFSETTO:-0600
TZNAME:CST
DTSTART:20191103T070000
END:STANDARD
BEGIN:DAYLIGHT
TZOFFSETFROM:-0600
TZOFFSETTO:-0500
TZNAME:CDT
DTSTART:20200308T080000
END:DAYLIGHT
BEGIN:STANDARD
TZOFFSETFROM:-0500
TZOFFSETTO:-0600
TZNAME:CST
DTSTART:20201101T070000
END:STANDARD
BEGIN:DAYLIGHT
TZOFFSETFROM:-0600
TZOFFSETTO:-0500
TZNAME:CDT
DTSTART:20210314T080000
END:DAYLIGHT
BEGIN:STANDARD
TZOFFSETFROM:-0500
TZOFFSETTO:-0600
TZNAME:CST
DTSTART:20211107T070000
END:STANDARD
BEGIN:DAYLIGHT
TZOFFSETFROM:-0600
TZOFFSETTO:-0500
TZNAME:CDT
DTSTART:20220313T080000
END:DAYLIGHT
BEGIN:STANDARD
TZOFFSETFROM:-0500
TZOFFSETTO:-0600
TZNAME:CST
DTSTART:20221106T070000
END:STANDARD
END:VTIMEZONE
BEGIN:VEVENT
DTSTART;TZID=America/Chicago:20210501T090000
DTEND;TZID=America/Chicago:20210501T110000
DTSTAMP:20260424T001308
CREATED:20170206T054104Z
LAST-MODIFIED:20210501T171814Z
UID:10000946-1619859600-1619866800@www.racetime.info
SUMMARY:The Superhero Sprint 5K Run/Walk
DESCRIPTION:Superhero Sprint 5K Age Group Results\n\nSuperhero Sprint 5K Overall Results\n\nSuperhero Sprint Team Results
URL:https://www.racetime.info/event/the-superhero-sprint-5k-run-walk-4/
LOCATION:Belvidere Park\, 1008 W. Lincoln Avenue\, Belvidere\, IL\, 61008\, United States
CATEGORIES:2021-05 Results (May)
ORGANIZER;CN="Jamie Dornink":MAILTO:info@superherocenterforautism.org
GEO:42.2574454;-88.8597714
X-APPLE-STRUCTURED-LOCATION;VALUE=URI;X-ADDRESS=Belvidere Park 1008 W. Lincoln Avenue Belvidere IL 61008 United States;X-APPLE-RADIUS=500;X-TITLE=1008 W. Lincoln Avenue:geo:-88.8597714,42.2574454
END:VEVENT
BEGIN:VEVENT
DTSTART;TZID=America/Chicago:20200502T090000
DTEND;TZID=America/Chicago:20200502T110000
DTSTAMP:20260424T001308
CREATED:20170109T132139Z
LAST-MODIFIED:20200416T214825Z
UID:10000358-1588410000-1588417200@www.racetime.info
SUMMARY:The Superhero Sprint 5K Run/Walk: VIRTUAL
DESCRIPTION:
URL:https://www.racetime.info/event/the-superhero-sprint-5k-run-walk-3/
LOCATION:Belvidere Park\, 1008 W. Lincoln Avenue\, Belvidere\, IL\, 61008\, United States
ORGANIZER;CN="Jamie Dornink":MAILTO:info@superherocenterforautism.org
GEO:42.2574454;-88.8597714
X-APPLE-STRUCTURED-LOCATION;VALUE=URI;X-ADDRESS=Belvidere Park 1008 W. Lincoln Avenue Belvidere IL 61008 United States;X-APPLE-RADIUS=500;X-TITLE=1008 W. Lincoln Avenue:geo:-88.8597714,42.2574454
END:VEVENT
BEGIN:VEVENT
DTSTART;TZID=America/Chicago:20190427T090000
DTEND;TZID=America/Chicago:20190427T110000
DTSTAMP:20260424T001308
CREATED:20170109T132139Z
LAST-MODIFIED:20190427T181921Z
UID:10000357-1556355600-1556362800@www.racetime.info
SUMMARY:The Superhero Sprint 5K Run/Walk
DESCRIPTION:Superhero Sprint 5K Age Group Results\n\nSuperhero Sprint 5K Overall Results\n\nSuperhero Sprint Team Results
URL:https://www.racetime.info/event/the-superhero-sprint-5k-run-walk-2/
LOCATION:Belvidere Park\, 1008 W. Lincoln Avenue\, Belvidere\, IL\, 61008\, United States
CATEGORIES:2019-04 Results (April)
ORGANIZER;CN="Jamie Dornink":MAILTO:info@superherocenterforautism.org
GEO:42.2574454;-88.8597714
X-APPLE-STRUCTURED-LOCATION;VALUE=URI;X-ADDRESS=Belvidere Park 1008 W. Lincoln Avenue Belvidere IL 61008 United States;X-APPLE-RADIUS=500;X-TITLE=1008 W. Lincoln Avenue:geo:-88.8597714,42.2574454
END:VEVENT
BEGIN:VEVENT
DTSTART;TZID=America/Chicago:20180414T090000
DTEND;TZID=America/Chicago:20180414T110000
DTSTAMP:20260424T001308
CREATED:20170109T132139Z
LAST-MODIFIED:20180414T185810Z
UID:10000355-1523696400-1523703600@www.racetime.info
SUMMARY:The Superhero Sprint 5K Run/Walk
DESCRIPTION:Superhero Sprint 5K Age Group Results\n\nSuperhero Sprint 5K Overall Results
URL:https://www.racetime.info/event/the-superhero-sprint-5k-run-walk/
LOCATION:Belvidere Park\, 1008 W. Lincoln Avenue\, Belvidere\, IL\, 61008\, United States
CATEGORIES:2018-04 Results (April)
ORGANIZER;CN="Jamie Dornink":MAILTO:info@superherocenterforautism.org
GEO:42.2574454;-88.8597714
X-APPLE-STRUCTURED-LOCATION;VALUE=URI;X-ADDRESS=Belvidere Park 1008 W. Lincoln Avenue Belvidere IL 61008 United States;X-APPLE-RADIUS=500;X-TITLE=1008 W. Lincoln Avenue:geo:-88.8597714,42.2574454
END:VEVENT
END:VCALENDAR