BEGIN:VCALENDAR
VERSION:2.0
PRODID:-//Race Time - ECPv6.15.13//NONSGML v1.0//EN
CALSCALE:GREGORIAN
METHOD:PUBLISH
X-ORIGINAL-URL:https://www.racetime.info
X-WR-CALDESC:Events for Race Time
REFRESH-INTERVAL;VALUE=DURATION:PT1H
X-Robots-Tag:noindex
X-PUBLISHED-TTL:PT1H
BEGIN:VTIMEZONE
TZID:America/Chicago
BEGIN:DAYLIGHT
TZOFFSETFROM:-0600
TZOFFSETTO:-0500
TZNAME:CDT
DTSTART:20180311T080000
END:DAYLIGHT
BEGIN:STANDARD
TZOFFSETFROM:-0500
TZOFFSETTO:-0600
TZNAME:CST
DTSTART:20181104T070000
END:STANDARD
BEGIN:DAYLIGHT
TZOFFSETFROM:-0600
TZOFFSETTO:-0500
TZNAME:CDT
DTSTART:20190310T080000
END:DAYLIGHT
BEGIN:STANDARD
TZOFFSETFROM:-0500
TZOFFSETTO:-0600
TZNAME:CST
DTSTART:20191103T070000
END:STANDARD
BEGIN:DAYLIGHT
TZOFFSETFROM:-0600
TZOFFSETTO:-0500
TZNAME:CDT
DTSTART:20200308T080000
END:DAYLIGHT
BEGIN:STANDARD
TZOFFSETFROM:-0500
TZOFFSETTO:-0600
TZNAME:CST
DTSTART:20201101T070000
END:STANDARD
BEGIN:DAYLIGHT
TZOFFSETFROM:-0600
TZOFFSETTO:-0500
TZNAME:CDT
DTSTART:20210314T080000
END:DAYLIGHT
BEGIN:STANDARD
TZOFFSETFROM:-0500
TZOFFSETTO:-0600
TZNAME:CST
DTSTART:20211107T070000
END:STANDARD
BEGIN:DAYLIGHT
TZOFFSETFROM:-0600
TZOFFSETTO:-0500
TZNAME:CDT
DTSTART:20220313T080000
END:DAYLIGHT
BEGIN:STANDARD
TZOFFSETFROM:-0500
TZOFFSETTO:-0600
TZNAME:CST
DTSTART:20221106T070000
END:STANDARD
BEGIN:DAYLIGHT
TZOFFSETFROM:-0600
TZOFFSETTO:-0500
TZNAME:CDT
DTSTART:20230312T080000
END:DAYLIGHT
BEGIN:STANDARD
TZOFFSETFROM:-0500
TZOFFSETTO:-0600
TZNAME:CST
DTSTART:20231105T070000
END:STANDARD
END:VTIMEZONE
BEGIN:VEVENT
DTSTART;TZID=America/Chicago:20221203T100000
DTEND;TZID=America/Chicago:20221203T120000
DTSTAMP:20260423T224945
CREATED:20220829T113346Z
LAST-MODIFIED:20221203T204939Z
UID:10002140-1670061600-1670068800@www.racetime.info
SUMMARY:Running with the Elves: A Very Merry Huntley Event
DESCRIPTION:Running of the Elves Kids Dash\n\nRunning of the Elves 1 Mile Walk\n\nRunning of the Elves 5K Age Group Results\n\nRunning of the Elves 5K Overall Results
URL:https://www.racetime.info/event/running-with-the-elves-a-very-merry-huntley-event/
LOCATION:Betsey Warrington Park\, 12015 Mill Street\, Huntley\, IL\, 60142\, United States
CATEGORIES:2022-12 Results (December)
ORGANIZER;CN="Jim Uszler":MAILTO:huntleyrotary@yahoo.com
GEO:42.1683048;-88.4274499
X-APPLE-STRUCTURED-LOCATION;VALUE=URI;X-ADDRESS=Betsey Warrington Park 12015 Mill Street Huntley IL 60142 United States;X-APPLE-RADIUS=500;X-TITLE=12015 Mill Street:geo:-88.4274499,42.1683048
END:VEVENT
BEGIN:VEVENT
DTSTART;TZID=America/Chicago:20220923T180000
DTEND;TZID=America/Chicago:20220923T193000
DTSTAMP:20260423T224945
CREATED:20220629T114915Z
LAST-MODIFIED:20220924T025627Z
UID:10002126-1663956000-1663961400@www.racetime.info
SUMMARY:Huntley Fall Fest 2 Mile Run/Walk & 1/2 Mile Kids Dash
DESCRIPTION:Huntley Kids Dash Overall Results\n\nHuntley 2 Mile Age Group Results\n\nHuntley 2 Mile Overall Results
URL:https://www.racetime.info/event/huntley-fall-fest-2-mile-run-walk-1-2-mile-kids-dash/
LOCATION:Betsey Warrington Park\, 12015 Mill Street\, Huntley\, IL\, 60142\, United States
CATEGORIES:2022-09 Results (September)
ORGANIZER;CN="Karen Kopf":MAILTO:karenlkopf@gmail.com
GEO:42.1683048;-88.4274499
X-APPLE-STRUCTURED-LOCATION;VALUE=URI;X-ADDRESS=Betsey Warrington Park 12015 Mill Street Huntley IL 60142 United States;X-APPLE-RADIUS=500;X-TITLE=12015 Mill Street:geo:-88.4274499,42.1683048
END:VEVENT
BEGIN:VEVENT
DTSTART;TZID=America/Chicago:20190512T080500
DTEND;TZID=America/Chicago:20190512T110000
DTSTAMP:20260423T224945
CREATED:20190203T130648Z
LAST-MODIFIED:20190512T181410Z
UID:10001850-1557648300-1557658800@www.racetime.info
SUMMARY:Cancer Kiss My Cooley 5K & Super Hero Dash
DESCRIPTION:Cooley 5K Age Group Results\n\nCooley 5K Overall Results
URL:https://www.racetime.info/event/cancer-kiss-my-cooley-5k-super-hero-dash/
LOCATION:Betsey Warrington Park\, 12015 Mill Street\, Huntley\, IL\, 60142\, United States
CATEGORIES:2019-05 Results (May)
ORGANIZER;CN="Erika Streit":MAILTO:estreit@ckmc.org
GEO:42.1683048;-88.4274499
X-APPLE-STRUCTURED-LOCATION;VALUE=URI;X-ADDRESS=Betsey Warrington Park 12015 Mill Street Huntley IL 60142 United States;X-APPLE-RADIUS=500;X-TITLE=12015 Mill Street:geo:-88.4274499,42.1683048
END:VEVENT
END:VCALENDAR