BEGIN:VCALENDAR
VERSION:2.0
PRODID:-//Race Time - ECPv6.15.13//NONSGML v1.0//EN
CALSCALE:GREGORIAN
METHOD:PUBLISH
X-ORIGINAL-URL:https://www.racetime.info
X-WR-CALDESC:Events for Race Time
REFRESH-INTERVAL;VALUE=DURATION:PT1H
X-Robots-Tag:noindex
X-PUBLISHED-TTL:PT1H
BEGIN:VTIMEZONE
TZID:America/Chicago
BEGIN:DAYLIGHT
TZOFFSETFROM:-0600
TZOFFSETTO:-0500
TZNAME:CDT
DTSTART:20140309T080000
END:DAYLIGHT
BEGIN:STANDARD
TZOFFSETFROM:-0500
TZOFFSETTO:-0600
TZNAME:CST
DTSTART:20141102T070000
END:STANDARD
BEGIN:DAYLIGHT
TZOFFSETFROM:-0600
TZOFFSETTO:-0500
TZNAME:CDT
DTSTART:20150308T080000
END:DAYLIGHT
BEGIN:STANDARD
TZOFFSETFROM:-0500
TZOFFSETTO:-0600
TZNAME:CST
DTSTART:20151101T070000
END:STANDARD
BEGIN:DAYLIGHT
TZOFFSETFROM:-0600
TZOFFSETTO:-0500
TZNAME:CDT
DTSTART:20160313T080000
END:DAYLIGHT
BEGIN:STANDARD
TZOFFSETFROM:-0500
TZOFFSETTO:-0600
TZNAME:CST
DTSTART:20161106T070000
END:STANDARD
END:VTIMEZONE
BEGIN:VEVENT
DTSTART;TZID=America/Chicago:20151018T090000
DTEND;TZID=America/Chicago:20151018T110000
DTSTAMP:20260424T020557
CREATED:20150924T103401Z
LAST-MODIFIED:20151024T212435Z
UID:10000418-1445158800-1445166000@www.racetime.info
SUMMARY:Tiger Trot 5K Run/Walk\, 1 Mile Run & Youth Dash
DESCRIPTION:Tiger Trot 5K Age Group Results\n\nTiger Trot 5K Overall Results\n\nTiger Trot Youth Run Overall Results
URL:https://www.racetime.info/event/tiger-trot-5k-runwalk-1-mile-run-youth-dash/
LOCATION:Bierman Park\, Woodlake Drive & Seabury Circle\, Carol Stream\, IL\, 60188\, United States
CATEGORIES:2015-10 Results (October)
ORGANIZER;CN="Monica Bakos":MAILTO:updates@springtrailpto.org
GEO:41.937528;-88.162216
X-APPLE-STRUCTURED-LOCATION;VALUE=URI;X-ADDRESS=Bierman Park Woodlake Drive & Seabury Circle Carol Stream IL 60188 United States;X-APPLE-RADIUS=500;X-TITLE=Woodlake Drive & Seabury Circle:geo:-88.162216,41.937528
END:VEVENT
BEGIN:VEVENT
DTSTART;TZID=America/Chicago:20150919T080000
DTEND;TZID=America/Chicago:20150919T110000
DTSTAMP:20260424T020557
CREATED:20150901T110240Z
LAST-MODIFIED:20150919T180937Z
UID:10000385-1442649600-1442660400@www.racetime.info
SUMMARY:Run For A Life 5K & 1 Mile Run/Walk
DESCRIPTION:Run For A Life 5K Overall Results
URL:https://www.racetime.info/event/run-for-a-life-5k-runwalk/
LOCATION:Bierman Park\, Woodlake Drive & Seabury Circle\, Carol Stream\, IL\, 60188\, United States
CATEGORIES:2015-09 Results (September)
ORGANIZER;CN="Ken Schrock":MAILTO:ken@childrensrelief.org
GEO:41.937528;-88.162216
X-APPLE-STRUCTURED-LOCATION;VALUE=URI;X-ADDRESS=Bierman Park Woodlake Drive & Seabury Circle Carol Stream IL 60188 United States;X-APPLE-RADIUS=500;X-TITLE=Woodlake Drive & Seabury Circle:geo:-88.162216,41.937528
END:VEVENT
BEGIN:VEVENT
DTSTART;TZID=America/Chicago:20150509T080000
DTEND;TZID=America/Chicago:20150509T110000
DTSTAMP:20260424T020557
CREATED:20150504T013440Z
LAST-MODIFIED:20150829T201243Z
UID:10000204-1431158400-1431169200@www.racetime.info
SUMMARY:District 25 Spring Breakout 5K Run/Walk
DESCRIPTION:Spring Break Out 1 Mile Age Group\n\nSpring Break Out 1 Mile Overall Results\n\nSpring Break Out 5K Age Group Results\n\nSpring Break Out 5K Overall Results
URL:https://www.racetime.info/event/district-25-spring-breakout-5k-runwalk/
LOCATION:Bierman Park\, Woodlake Drive & Seabury Circle\, Carol Stream\, IL\, 60188\, United States
CATEGORIES:2015-05 Results (May)
ATTACH;FMTTYPE=image/png:https://www.racetime.info/wp-content/uploads/2015/05/2015-05-09_Dist25.png
ORGANIZER;CN="Melissa West":MAILTO:district25springbreakout@gmail.com
GEO:41.937528;-88.162216
X-APPLE-STRUCTURED-LOCATION;VALUE=URI;X-ADDRESS=Bierman Park Woodlake Drive & Seabury Circle Carol Stream IL 60188 United States;X-APPLE-RADIUS=500;X-TITLE=Woodlake Drive & Seabury Circle:geo:-88.162216,41.937528
END:VEVENT
END:VCALENDAR