BEGIN:VCALENDAR
VERSION:2.0
PRODID:-//Race Time - ECPv6.15.13//NONSGML v1.0//EN
CALSCALE:GREGORIAN
METHOD:PUBLISH
X-WR-CALNAME:Race Time
X-ORIGINAL-URL:https://www.racetime.info
X-WR-CALDESC:Events for Race Time
REFRESH-INTERVAL;VALUE=DURATION:PT1H
X-Robots-Tag:noindex
X-PUBLISHED-TTL:PT1H
BEGIN:VTIMEZONE
TZID:America/Chicago
BEGIN:DAYLIGHT
TZOFFSETFROM:-0600
TZOFFSETTO:-0500
TZNAME:CDT
DTSTART:20240310T080000
END:DAYLIGHT
BEGIN:STANDARD
TZOFFSETFROM:-0500
TZOFFSETTO:-0600
TZNAME:CST
DTSTART:20241103T070000
END:STANDARD
BEGIN:DAYLIGHT
TZOFFSETFROM:-0600
TZOFFSETTO:-0500
TZNAME:CDT
DTSTART:20250309T080000
END:DAYLIGHT
BEGIN:STANDARD
TZOFFSETFROM:-0500
TZOFFSETTO:-0600
TZNAME:CST
DTSTART:20251102T070000
END:STANDARD
BEGIN:DAYLIGHT
TZOFFSETFROM:-0600
TZOFFSETTO:-0500
TZNAME:CDT
DTSTART:20260308T080000
END:DAYLIGHT
BEGIN:STANDARD
TZOFFSETFROM:-0500
TZOFFSETTO:-0600
TZNAME:CST
DTSTART:20261101T070000
END:STANDARD
END:VTIMEZONE
BEGIN:VEVENT
DTSTART;TZID=America/Chicago:20251018T113000
DTEND;TZID=America/Chicago:20251018T130000
DTSTAMP:20260424T011633
CREATED:20250915T124635Z
LAST-MODIFIED:20251018T201151Z
UID:10002440-1760787000-1760792400@www.racetime.info
SUMMARY:M.E.A.N. Girls Empowerment 5K Run/Walk
DESCRIPTION:M.E.A.N. Steps Toward Change 5K Age Group Results\n\nM.E.A.N. Steps Toward Change 5K Overall Results
URL:https://www.racetime.info/event/m-e-a-n-girls-empowerment-5k-run-walk-2/
LOCATION:Big Marsh Park\, 11559 S. Stony Island Avenue\, Chicago\, 60617\, United States
CATEGORIES:2021-10 Results (October)
ORGANIZER;CN="Shatina Edwards":MAILTO:contact@meangirlsempowerment.org
END:VEVENT
END:VCALENDAR