BEGIN:VCALENDAR
VERSION:2.0
PRODID:-//Race Time - ECPv6.15.13//NONSGML v1.0//EN
CALSCALE:GREGORIAN
METHOD:PUBLISH
X-WR-CALNAME:Race Time
X-ORIGINAL-URL:https://www.racetime.info
X-WR-CALDESC:Events for Race Time
REFRESH-INTERVAL;VALUE=DURATION:PT1H
X-Robots-Tag:noindex
X-PUBLISHED-TTL:PT1H
BEGIN:VTIMEZONE
TZID:America/Chicago
BEGIN:DAYLIGHT
TZOFFSETFROM:-0600
TZOFFSETTO:-0500
TZNAME:CDT
DTSTART:20160313T080000
END:DAYLIGHT
BEGIN:STANDARD
TZOFFSETFROM:-0500
TZOFFSETTO:-0600
TZNAME:CST
DTSTART:20161106T070000
END:STANDARD
BEGIN:DAYLIGHT
TZOFFSETFROM:-0600
TZOFFSETTO:-0500
TZNAME:CDT
DTSTART:20170312T080000
END:DAYLIGHT
BEGIN:STANDARD
TZOFFSETFROM:-0500
TZOFFSETTO:-0600
TZNAME:CST
DTSTART:20171105T070000
END:STANDARD
BEGIN:DAYLIGHT
TZOFFSETFROM:-0600
TZOFFSETTO:-0500
TZNAME:CDT
DTSTART:20180311T080000
END:DAYLIGHT
BEGIN:STANDARD
TZOFFSETFROM:-0500
TZOFFSETTO:-0600
TZNAME:CST
DTSTART:20181104T070000
END:STANDARD
BEGIN:DAYLIGHT
TZOFFSETFROM:-0600
TZOFFSETTO:-0500
TZNAME:CDT
DTSTART:20190310T080000
END:DAYLIGHT
BEGIN:STANDARD
TZOFFSETFROM:-0500
TZOFFSETTO:-0600
TZNAME:CST
DTSTART:20191103T070000
END:STANDARD
BEGIN:DAYLIGHT
TZOFFSETFROM:-0600
TZOFFSETTO:-0500
TZNAME:CDT
DTSTART:20200308T080000
END:DAYLIGHT
BEGIN:STANDARD
TZOFFSETFROM:-0500
TZOFFSETTO:-0600
TZNAME:CST
DTSTART:20201101T070000
END:STANDARD
BEGIN:DAYLIGHT
TZOFFSETFROM:-0600
TZOFFSETTO:-0500
TZNAME:CDT
DTSTART:20210314T080000
END:DAYLIGHT
BEGIN:STANDARD
TZOFFSETFROM:-0500
TZOFFSETTO:-0600
TZNAME:CST
DTSTART:20211107T070000
END:STANDARD
BEGIN:DAYLIGHT
TZOFFSETFROM:-0600
TZOFFSETTO:-0500
TZNAME:CDT
DTSTART:20220313T080000
END:DAYLIGHT
BEGIN:STANDARD
TZOFFSETFROM:-0500
TZOFFSETTO:-0600
TZNAME:CST
DTSTART:20221106T070000
END:STANDARD
BEGIN:DAYLIGHT
TZOFFSETFROM:-0600
TZOFFSETTO:-0500
TZNAME:CDT
DTSTART:20230312T080000
END:DAYLIGHT
BEGIN:STANDARD
TZOFFSETFROM:-0500
TZOFFSETTO:-0600
TZNAME:CST
DTSTART:20231105T070000
END:STANDARD
BEGIN:DAYLIGHT
TZOFFSETFROM:-0600
TZOFFSETTO:-0500
TZNAME:CDT
DTSTART:20240310T080000
END:DAYLIGHT
BEGIN:STANDARD
TZOFFSETFROM:-0500
TZOFFSETTO:-0600
TZNAME:CST
DTSTART:20241103T070000
END:STANDARD
BEGIN:DAYLIGHT
TZOFFSETFROM:-0600
TZOFFSETTO:-0500
TZNAME:CDT
DTSTART:20250309T080000
END:DAYLIGHT
BEGIN:STANDARD
TZOFFSETFROM:-0500
TZOFFSETTO:-0600
TZNAME:CST
DTSTART:20251102T070000
END:STANDARD
BEGIN:DAYLIGHT
TZOFFSETFROM:-0600
TZOFFSETTO:-0500
TZNAME:CDT
DTSTART:20260308T080000
END:DAYLIGHT
BEGIN:STANDARD
TZOFFSETFROM:-0500
TZOFFSETTO:-0600
TZNAME:CST
DTSTART:20261101T070000
END:STANDARD
END:VTIMEZONE
BEGIN:VEVENT
DTSTART;TZID=America/Chicago:20250308T080000
DTEND;TZID=America/Chicago:20250308T110000
DTSTAMP:20260424T024655
CREATED:20250306T205937Z
LAST-MODIFIED:20250313T120422Z
UID:10002263-1741420800-1741431600@www.racetime.info
SUMMARY:Time To Paddy 5K * 10K * Half Marathon * 1 Mile and Kids Dash
DESCRIPTION:Time To Paddy 5K Age Group Results\n\nTime To Paddy 5K Overall Results\n\nTime To Paddy 10K Age Group Results\n\nTime To Paddy 10K Overall Results\n\nTime To Paddy Half Marathon Age Group Results\n\nTime To Paddy Half Marathon Overall Results
URL:https://www.racetime.info/event/time-to-paddy-5k-10k-half-marathon-1-mile-and-kids-dash/
LOCATION:Blackberry Farms\, 100 S. Barnes Road\, Aurora\, 60506
CATEGORIES:2025-03 Results (March)
GEO:41.7649319;-88.3909875
X-APPLE-STRUCTURED-LOCATION;VALUE=URI;X-ADDRESS=Blackberry Farms 100 S. Barnes Road Aurora 60506;X-APPLE-RADIUS=500;X-TITLE=100 S. Barnes Road:geo:-88.3909875,41.7649319
END:VEVENT
BEGIN:VEVENT
DTSTART;TZID=America/Chicago:20171104T083000
DTEND;TZID=America/Chicago:20171104T103000
DTSTAMP:20260424T024655
CREATED:20170609T175139Z
LAST-MODIFIED:20171104T171451Z
UID:10001440-1509784200-1509791400@www.racetime.info
SUMMARY:Aurora Police and Special Olympics 5K Run For The Athletes
DESCRIPTION:Age Group results are for informational purposes only.  Age group awards were not handed out. \nRun For The Athletes 5K Age Group Results\n\nRun For The Athletes 5K Overall Results
URL:https://www.racetime.info/event/aurora-police-run-for-the-athletes-5k-runwalk/
LOCATION:Blackberry Farms\, 100 S. Barnes Road\, Aurora\, 60506
CATEGORIES:2017-11 Results (November)
ORGANIZER;CN="Doug Podschweit":MAILTO:podschwd@apd.aurora.il.us
GEO:41.7649319;-88.3909875
X-APPLE-STRUCTURED-LOCATION;VALUE=URI;X-ADDRESS=Blackberry Farms 100 S. Barnes Road Aurora 60506;X-APPLE-RADIUS=500;X-TITLE=100 S. Barnes Road:geo:-88.3909875,41.7649319
END:VEVENT
END:VCALENDAR