BEGIN:VCALENDAR
VERSION:2.0
PRODID:-//Race Time - ECPv6.15.13//NONSGML v1.0//EN
CALSCALE:GREGORIAN
METHOD:PUBLISH
X-WR-CALNAME:Race Time
X-ORIGINAL-URL:https://www.racetime.info
X-WR-CALDESC:Events for Race Time
REFRESH-INTERVAL;VALUE=DURATION:PT1H
X-Robots-Tag:noindex
X-PUBLISHED-TTL:PT1H
BEGIN:VTIMEZONE
TZID:America/Chicago
BEGIN:DAYLIGHT
TZOFFSETFROM:-0600
TZOFFSETTO:-0500
TZNAME:CDT
DTSTART:20150308T080000
END:DAYLIGHT
BEGIN:STANDARD
TZOFFSETFROM:-0500
TZOFFSETTO:-0600
TZNAME:CST
DTSTART:20151101T070000
END:STANDARD
BEGIN:DAYLIGHT
TZOFFSETFROM:-0600
TZOFFSETTO:-0500
TZNAME:CDT
DTSTART:20160313T080000
END:DAYLIGHT
BEGIN:STANDARD
TZOFFSETFROM:-0500
TZOFFSETTO:-0600
TZNAME:CST
DTSTART:20161106T070000
END:STANDARD
BEGIN:DAYLIGHT
TZOFFSETFROM:-0600
TZOFFSETTO:-0500
TZNAME:CDT
DTSTART:20170312T080000
END:DAYLIGHT
BEGIN:STANDARD
TZOFFSETFROM:-0500
TZOFFSETTO:-0600
TZNAME:CST
DTSTART:20171105T070000
END:STANDARD
BEGIN:DAYLIGHT
TZOFFSETFROM:-0600
TZOFFSETTO:-0500
TZNAME:CDT
DTSTART:20180311T080000
END:DAYLIGHT
BEGIN:STANDARD
TZOFFSETFROM:-0500
TZOFFSETTO:-0600
TZNAME:CST
DTSTART:20181104T070000
END:STANDARD
BEGIN:DAYLIGHT
TZOFFSETFROM:-0600
TZOFFSETTO:-0500
TZNAME:CDT
DTSTART:20190310T080000
END:DAYLIGHT
BEGIN:STANDARD
TZOFFSETFROM:-0500
TZOFFSETTO:-0600
TZNAME:CST
DTSTART:20191103T070000
END:STANDARD
BEGIN:DAYLIGHT
TZOFFSETFROM:-0600
TZOFFSETTO:-0500
TZNAME:CDT
DTSTART:20200308T080000
END:DAYLIGHT
BEGIN:STANDARD
TZOFFSETFROM:-0500
TZOFFSETTO:-0600
TZNAME:CST
DTSTART:20201101T070000
END:STANDARD
BEGIN:DAYLIGHT
TZOFFSETFROM:-0600
TZOFFSETTO:-0500
TZNAME:CDT
DTSTART:20210314T080000
END:DAYLIGHT
BEGIN:STANDARD
TZOFFSETFROM:-0500
TZOFFSETTO:-0600
TZNAME:CST
DTSTART:20211107T070000
END:STANDARD
BEGIN:DAYLIGHT
TZOFFSETFROM:-0600
TZOFFSETTO:-0500
TZNAME:CDT
DTSTART:20220313T080000
END:DAYLIGHT
BEGIN:STANDARD
TZOFFSETFROM:-0500
TZOFFSETTO:-0600
TZNAME:CST
DTSTART:20221106T070000
END:STANDARD
BEGIN:DAYLIGHT
TZOFFSETFROM:-0600
TZOFFSETTO:-0500
TZNAME:CDT
DTSTART:20230312T080000
END:DAYLIGHT
BEGIN:STANDARD
TZOFFSETFROM:-0500
TZOFFSETTO:-0600
TZNAME:CST
DTSTART:20231105T070000
END:STANDARD
BEGIN:DAYLIGHT
TZOFFSETFROM:-0600
TZOFFSETTO:-0500
TZNAME:CDT
DTSTART:20240310T080000
END:DAYLIGHT
BEGIN:STANDARD
TZOFFSETFROM:-0500
TZOFFSETTO:-0600
TZNAME:CST
DTSTART:20241103T070000
END:STANDARD
BEGIN:DAYLIGHT
TZOFFSETFROM:-0600
TZOFFSETTO:-0500
TZNAME:CDT
DTSTART:20250309T080000
END:DAYLIGHT
BEGIN:STANDARD
TZOFFSETFROM:-0500
TZOFFSETTO:-0600
TZNAME:CST
DTSTART:20251102T070000
END:STANDARD
BEGIN:DAYLIGHT
TZOFFSETFROM:-0600
TZOFFSETTO:-0500
TZNAME:CDT
DTSTART:20260308T080000
END:DAYLIGHT
BEGIN:STANDARD
TZOFFSETFROM:-0500
TZOFFSETTO:-0600
TZNAME:CST
DTSTART:20261101T070000
END:STANDARD
END:VTIMEZONE
BEGIN:VEVENT
DTSTART;TZID=America/Chicago:20251018T110000
DTEND;TZID=America/Chicago:20251018T123000
DTSTAMP:20260423T224838
CREATED:20250828T145644Z
LAST-MODIFIED:20251018T200715Z
UID:10002432-1760785200-1760790600@www.racetime.info
SUMMARY:Scary at the Prairie 5K * 1 Mile * Kids Dash
DESCRIPTION:Scary at the Prairie 5K Age Group Results\n\nScary at the Prairie 5K Overall Results
URL:https://www.racetime.info/event/scary-at-the-prairie-5k-1-mile-kids-dash-2/
LOCATION:Breidert Green Park\, 432 W. Nebraska\, Frankfort\, IL\, 60423\, United States
CATEGORIES:2025-10 Results (October)
ORGANIZER;CN="Susan Lynchey":MAILTO:slynchey@vofil.com
GEO:41.4974227;-87.8607917
X-APPLE-STRUCTURED-LOCATION;VALUE=URI;X-ADDRESS=Breidert Green Park 432 W. Nebraska Frankfort IL 60423 United States;X-APPLE-RADIUS=500;X-TITLE=432 W. Nebraska:geo:-87.8607917,41.4974227
END:VEVENT
BEGIN:VEVENT
DTSTART;TZID=America/Chicago:20250510T080000
DTEND;TZID=America/Chicago:20250510T103000
DTSTAMP:20260423T224838
CREATED:20250401T125006Z
LAST-MODIFIED:20250510T154840Z
UID:10002314-1746864000-1746873000@www.racetime.info
SUMMARY:Frankfort Police and Special Olympics 5K Walk/Run/Wheel
DESCRIPTION:Frankfort Run For Special Olympics 5K Age Group Results\n\nFrankfort Run For Special Olympics 5K Overall Results
URL:https://www.racetime.info/event/frankfort-police-and-special-olympics-5k-walk-run-wheel/
LOCATION:Breidert Green Park\, 432 W. Nebraska\, Frankfort\, IL\, 60423\, United States
CATEGORIES:2025-05 Results (May)
ORGANIZER;CN="Chad Riff":MAILTO:criff@frankfortil.org
GEO:41.4974227;-87.8607917
X-APPLE-STRUCTURED-LOCATION;VALUE=URI;X-ADDRESS=Breidert Green Park 432 W. Nebraska Frankfort IL 60423 United States;X-APPLE-RADIUS=500;X-TITLE=432 W. Nebraska:geo:-87.8607917,41.4974227
END:VEVENT
BEGIN:VEVENT
DTSTART;TZID=America/Chicago:20250503T070000
DTEND;TZID=America/Chicago:20250503T110000
DTSTAMP:20260423T224838
CREATED:20250401T122143Z
LAST-MODIFIED:20250503T173433Z
UID:10002307-1746255600-1746270000@www.racetime.info
SUMMARY:Lincoln Way Half Marathon & 10K
DESCRIPTION:Lincoln Way 10K Overall Results\n\nLincoln Way Half Marathon Overall Results
URL:https://www.racetime.info/event/lincoln-way-half-marathon-10k/
LOCATION:Breidert Green Park\, 432 W. Nebraska\, Frankfort\, IL\, 60423\, United States
CATEGORIES:2025-05 Results (May)
ORGANIZER;CN="Stacie McGlone":MAILTO:stacie.mcglone@lw210.org
GEO:41.4974227;-87.8607917
X-APPLE-STRUCTURED-LOCATION;VALUE=URI;X-ADDRESS=Breidert Green Park 432 W. Nebraska Frankfort IL 60423 United States;X-APPLE-RADIUS=500;X-TITLE=432 W. Nebraska:geo:-87.8607917,41.4974227
END:VEVENT
BEGIN:VEVENT
DTSTART;TZID=America/Chicago:20241019T110000
DTEND;TZID=America/Chicago:20241019T123000
DTSTAMP:20260423T224838
CREATED:20220815T111919Z
LAST-MODIFIED:20241019T200837Z
UID:10002139-1729335600-1729341000@www.racetime.info
SUMMARY:Scary at the Prairie 5K * 1 Mile * Kids Dash
DESCRIPTION:Scary at the Prairie 5K Age Group Results\n\nScary at the Prairie 5K Overall Results
URL:https://www.racetime.info/event/copy-of-scary-at-the-prairie-5k-1-mile-kids-dash-2/
LOCATION:Breidert Green Park\, 432 W. Nebraska\, Frankfort\, IL\, 60423\, United States
CATEGORIES:2024-10 Results (October)
ORGANIZER;CN="Susan Lynchey":MAILTO:slynchey@vofil.com
GEO:41.4974227;-87.8607917
X-APPLE-STRUCTURED-LOCATION;VALUE=URI;X-ADDRESS=Breidert Green Park 432 W. Nebraska Frankfort IL 60423 United States;X-APPLE-RADIUS=500;X-TITLE=432 W. Nebraska:geo:-87.8607917,41.4974227
END:VEVENT
BEGIN:VEVENT
DTSTART;TZID=America/Chicago:20240504T070000
DTEND;TZID=America/Chicago:20240504T110000
DTSTAMP:20260423T224838
CREATED:20190710T023601Z
LAST-MODIFIED:20240504T210611Z
UID:10001901-1714806000-1714820400@www.racetime.info
SUMMARY:Lincoln Way Half Marathon & 10K
DESCRIPTION:Lincoln Way 10K Age Goup Results\n\nLincoln Way 10K Overall Results\n\nLincoln Way Half Marathon Age Goup Results\n\nLincoln Way Half Marathon Overall Results
URL:https://www.racetime.info/event/copy-of-lincolnway-half-marathon-10k-2/
LOCATION:Breidert Green Park\, 432 W. Nebraska\, Frankfort\, IL\, 60423\, United States
CATEGORIES:2024-05 Results (May)
ORGANIZER;CN="Robert Kennedy":MAILTO:robert.kennedy@lw210.org
GEO:41.4974227;-87.8607917
X-APPLE-STRUCTURED-LOCATION;VALUE=URI;X-ADDRESS=Breidert Green Park 432 W. Nebraska Frankfort IL 60423 United States;X-APPLE-RADIUS=500;X-TITLE=432 W. Nebraska:geo:-87.8607917,41.4974227
END:VEVENT
BEGIN:VEVENT
DTSTART;TZID=America/Chicago:20231021T103000
DTEND;TZID=America/Chicago:20231022T120000
DTSTAMP:20260423T224838
CREATED:20220815T111919Z
LAST-MODIFIED:20231021T195811Z
UID:10002138-1697884200-1697976000@www.racetime.info
SUMMARY:Scary at the Prairie 5K * 1 Mile * Kids Dash
DESCRIPTION:Scary at the Prairie 5K Age Group Results\n\nScary at the Prairie 5K Overall Results
URL:https://www.racetime.info/event/copy-of-scary-at-the-prairie-5k-1-mile-kids-dash/
LOCATION:Breidert Green Park\, 432 W. Nebraska\, Frankfort\, IL\, 60423\, United States
CATEGORIES:2023-10 Results (October)
ORGANIZER;CN="Susan Lynchey":MAILTO:slynchey@vofil.com
GEO:41.4974227;-87.8607917
X-APPLE-STRUCTURED-LOCATION;VALUE=URI;X-ADDRESS=Breidert Green Park 432 W. Nebraska Frankfort IL 60423 United States;X-APPLE-RADIUS=500;X-TITLE=432 W. Nebraska:geo:-87.8607917,41.4974227
END:VEVENT
BEGIN:VEVENT
DTSTART;TZID=America/Chicago:20230520T070000
DTEND;TZID=America/Chicago:20230520T120000
DTSTAMP:20260423T224838
CREATED:20190710T023601Z
LAST-MODIFIED:20230522T102005Z
UID:10001900-1684566000-1684584000@www.racetime.info
SUMMARY:Lincolnway Half Marathon & 10K
DESCRIPTION:Lincoln Way 10K Overall Results\n\nLincoln Way Half Marathon Overall Results
URL:https://www.racetime.info/event/copy-of-lincolnway-half-marathon-10k/
LOCATION:Breidert Green Park\, 432 W. Nebraska\, Frankfort\, IL\, 60423\, United States
CATEGORIES:2023-05 Results (May)
ORGANIZER;CN="Robert Kennedy":MAILTO:robert.kennedy@lw210.org
GEO:41.4974227;-87.8607917
X-APPLE-STRUCTURED-LOCATION;VALUE=URI;X-ADDRESS=Breidert Green Park 432 W. Nebraska Frankfort IL 60423 United States;X-APPLE-RADIUS=500;X-TITLE=432 W. Nebraska:geo:-87.8607917,41.4974227
END:VEVENT
BEGIN:VEVENT
DTSTART;TZID=America/Chicago:20221022T103000
DTEND;TZID=America/Chicago:20221022T120000
DTSTAMP:20260423T224838
CREATED:20220815T111919Z
LAST-MODIFIED:20221022T203039Z
UID:10002137-1666434600-1666440000@www.racetime.info
SUMMARY:Scary at the Prairie 5K * 1 Mile * Kids Dash
DESCRIPTION:Scary at the Prairie 1 Mile Overall Results\n\nScary at the Prairie 5K Age Group Results\n\nScary at the Prairie 5K Overall Results
URL:https://www.racetime.info/event/scary-at-the-prairie-5k-1-mile-kids-dash/
LOCATION:Breidert Green Park\, 432 W. Nebraska\, Frankfort\, IL\, 60423\, United States
CATEGORIES:2022-10 Results (October)
ORGANIZER;CN="Susan Lynchey":MAILTO:slynchey@vofil.com
GEO:41.4974227;-87.8607917
X-APPLE-STRUCTURED-LOCATION;VALUE=URI;X-ADDRESS=Breidert Green Park 432 W. Nebraska Frankfort IL 60423 United States;X-APPLE-RADIUS=500;X-TITLE=432 W. Nebraska:geo:-87.8607917,41.4974227
END:VEVENT
BEGIN:VEVENT
DTSTART;TZID=America/Chicago:20220604T090000
DTEND;TZID=America/Chicago:20220604T103000
DTSTAMP:20260423T224838
CREATED:20210525T114027Z
LAST-MODIFIED:20220607T100642Z
UID:10001986-1654333200-1654338600@www.racetime.info
SUMMARY:SSL DifferenceMaker 5K Run/Walk & Kids Run
DESCRIPTION:SSL DifferenceMaker Age Group Results\n\nSSL DifferenceMaker Overall Results\n\nSSL DifferenceMaker Team Results
URL:https://www.racetime.info/event/copy-of-ssl-differencemaker-5k-run-walk-kids-run/
LOCATION:Breidert Green Park\, 432 W. Nebraska\, Frankfort\, IL\, 60423\, United States
CATEGORIES:2022-06 Results (June)
ORGANIZER;CN="Melissa Cunningham":MAILTO:6hams@comcast.net
GEO:41.4974227;-87.8607917
X-APPLE-STRUCTURED-LOCATION;VALUE=URI;X-ADDRESS=Breidert Green Park 432 W. Nebraska Frankfort IL 60423 United States;X-APPLE-RADIUS=500;X-TITLE=432 W. Nebraska:geo:-87.8607917,41.4974227
END:VEVENT
BEGIN:VEVENT
DTSTART;TZID=America/Chicago:20220514T070000
DTEND;TZID=America/Chicago:20220514T110000
DTSTAMP:20260423T224838
CREATED:20190710T023601Z
LAST-MODIFIED:20220514T171207Z
UID:10001899-1652511600-1652526000@www.racetime.info
SUMMARY:Lincolnway Half Marathon & 10K
DESCRIPTION:Lincoln Way 10K Age Group Results\n\nLincoln Way 10K Overall Results\n\nLincoln Way Half Marathon Age Group Results\n\nLincoln Way Half Marathon Overall Results
URL:https://www.racetime.info/event/lincolnway-half-marathon-10k-4/
LOCATION:Breidert Green Park\, 432 W. Nebraska\, Frankfort\, IL\, 60423\, United States
CATEGORIES:2022-05 Results (May)
ORGANIZER;CN="Robert Kennedy":MAILTO:robert.kennedy@lw210.org
GEO:41.4974227;-87.8607917
X-APPLE-STRUCTURED-LOCATION;VALUE=URI;X-ADDRESS=Breidert Green Park 432 W. Nebraska Frankfort IL 60423 United States;X-APPLE-RADIUS=500;X-TITLE=432 W. Nebraska:geo:-87.8607917,41.4974227
END:VEVENT
BEGIN:VEVENT
DTSTART;TZID=America/Chicago:20211002T093000
DTEND;TZID=America/Chicago:20211002T110000
DTSTAMP:20260423T224838
CREATED:20210907T012517Z
LAST-MODIFIED:20211002T190549Z
UID:10002046-1633167000-1633172400@www.racetime.info
SUMMARY:OPRT 5K Run/Walk
DESCRIPTION:Old Plank Trail 5K Age Group Results\n\nOld Plank Trail 5K Overall Results
URL:https://www.racetime.info/event/oprt-5k-run-walk/
LOCATION:Breidert Green Park\, 432 W. Nebraska\, Frankfort\, IL\, 60423\, United States
CATEGORIES:2021-10 Results (October)
ORGANIZER;CN="Susan Lynchey":MAILTO:slynchey@vofil.com
GEO:41.4974227;-87.8607917
X-APPLE-STRUCTURED-LOCATION;VALUE=URI;X-ADDRESS=Breidert Green Park 432 W. Nebraska Frankfort IL 60423 United States;X-APPLE-RADIUS=500;X-TITLE=432 W. Nebraska:geo:-87.8607917,41.4974227
END:VEVENT
BEGIN:VEVENT
DTSTART;TZID=America/Chicago:20210918T070000
DTEND;TZID=America/Chicago:20210918T110000
DTSTAMP:20260423T224838
CREATED:20190710T023601Z
LAST-MODIFIED:20210918T184845Z
UID:10001079-1631948400-1631962800@www.racetime.info
SUMMARY:Lincolnway Half Marathon & 10K
DESCRIPTION:Love of Lincoln Way 10K Overall Results\n\nLove of Lincoln Way Half Marathon Overall Results
URL:https://www.racetime.info/event/lincolnway-half-marathon-10k-3/
LOCATION:Breidert Green Park\, 432 W. Nebraska\, Frankfort\, IL\, 60423\, United States
CATEGORIES:2021-09 Results (September)
ORGANIZER;CN="Robert Kennedy":MAILTO:robert.kennedy@lw210.org
GEO:41.4974227;-87.8607917
X-APPLE-STRUCTURED-LOCATION;VALUE=URI;X-ADDRESS=Breidert Green Park 432 W. Nebraska Frankfort IL 60423 United States;X-APPLE-RADIUS=500;X-TITLE=432 W. Nebraska:geo:-87.8607917,41.4974227
END:VEVENT
BEGIN:VEVENT
DTSTART;TZID=America/Chicago:20210605T090000
DTEND;TZID=America/Chicago:20210605T103000
DTSTAMP:20260423T224838
CREATED:20210525T114027Z
LAST-MODIFIED:20210605T173222Z
UID:10001985-1622883600-1622889000@www.racetime.info
SUMMARY:SSL DifferenceMaker 5K Run/Walk & Kids Run
DESCRIPTION:SSL DifferenceMaker 5K Age Group Results\n\nSSL DifferenceMaker 5K Overall Results\n\nSSL DifferenceMaker Team Results
URL:https://www.racetime.info/event/ssl-differencemaker-5k-run-walk-kids-run/
LOCATION:Breidert Green Park\, 432 W. Nebraska\, Frankfort\, IL\, 60423\, United States
CATEGORIES:2021-06 Results (June)
ORGANIZER;CN="Melissa Cunningham":MAILTO:6hams@comcast.net
GEO:41.4974227;-87.8607917
X-APPLE-STRUCTURED-LOCATION;VALUE=URI;X-ADDRESS=Breidert Green Park 432 W. Nebraska Frankfort IL 60423 United States;X-APPLE-RADIUS=500;X-TITLE=432 W. Nebraska:geo:-87.8607917,41.4974227
END:VEVENT
BEGIN:VEVENT
DTSTART;TZID=America/Chicago:20201003T093000
DTEND;TZID=America/Chicago:20201003T110000
DTSTAMP:20260423T224838
CREATED:20170731T174625Z
LAST-MODIFIED:20200909T180925Z
UID:10001561-1601717400-1601722800@www.racetime.info
SUMMARY:Old Plank Trail 5K Run/Walk: VIRTUAL
DESCRIPTION:
URL:https://www.racetime.info/event/old-plank-trail-5k-run-walk-3/
LOCATION:Breidert Green Park\, 432 W. Nebraska\, Frankfort\, IL\, 60423\, United States
ORGANIZER;CN="Susan Lynchey":MAILTO:slynchey@vofil.com
GEO:41.4974227;-87.8607917
X-APPLE-STRUCTURED-LOCATION;VALUE=URI;X-ADDRESS=Breidert Green Park 432 W. Nebraska Frankfort IL 60423 United States;X-APPLE-RADIUS=500;X-TITLE=432 W. Nebraska:geo:-87.8607917,41.4974227
END:VEVENT
BEGIN:VEVENT
DTSTART;TZID=America/Chicago:20200912T070000
DTEND;TZID=America/Chicago:20200912T110000
DTSTAMP:20260423T224838
CREATED:20190710T023601Z
LAST-MODIFIED:20200929T004343Z
UID:10001078-1599894000-1599908400@www.racetime.info
SUMMARY:Lincolnway Half Marathon & 10K: VIRTUAL
DESCRIPTION:Lincolnway Virtual Overall Results
URL:https://www.racetime.info/event/lincolnway-half-marathon-10k-2/
LOCATION:Breidert Green Park\, 432 W. Nebraska\, Frankfort\, IL\, 60423\, United States
CATEGORIES:2020-09 Results (September)
ORGANIZER;CN="Robert Kennedy":MAILTO:robert.kennedy@lw210.org
GEO:41.4974227;-87.8607917
X-APPLE-STRUCTURED-LOCATION;VALUE=URI;X-ADDRESS=Breidert Green Park 432 W. Nebraska Frankfort IL 60423 United States;X-APPLE-RADIUS=500;X-TITLE=432 W. Nebraska:geo:-87.8607917,41.4974227
END:VEVENT
BEGIN:VEVENT
DTSTART;TZID=America/Chicago:20191005T093000
DTEND;TZID=America/Chicago:20191005T110000
DTSTAMP:20260423T224838
CREATED:20170731T174625Z
LAST-MODIFIED:20191010T121440Z
UID:10001560-1570267800-1570273200@www.racetime.info
SUMMARY:Old Plank Trail 5K Run/Walk
DESCRIPTION:Old Plank Trail 5K Walk and Run Age Group Results\n\nOld Plank Trail 5K Walk and Run Overall Results
URL:https://www.racetime.info/event/old-plank-trail-5k-run-walk-2/
LOCATION:Breidert Green Park\, 432 W. Nebraska\, Frankfort\, IL\, 60423\, United States
CATEGORIES:2019-10 Results (October)
ORGANIZER;CN="Susan Lynchey":MAILTO:slynchey@vofil.com
GEO:41.4974227;-87.8607917
X-APPLE-STRUCTURED-LOCATION;VALUE=URI;X-ADDRESS=Breidert Green Park 432 W. Nebraska Frankfort IL 60423 United States;X-APPLE-RADIUS=500;X-TITLE=432 W. Nebraska:geo:-87.8607917,41.4974227
END:VEVENT
BEGIN:VEVENT
DTSTART;TZID=America/Chicago:20190914T070000
DTEND;TZID=America/Chicago:20190914T110000
DTSTAMP:20260423T224838
CREATED:20190710T023601Z
LAST-MODIFIED:20190914T182902Z
UID:10001076-1568444400-1568458800@www.racetime.info
SUMMARY:Lincolnway Half Marathon & 10K
DESCRIPTION:Lincoln-Way 10K Age Group Results\n\nLincoln-Way 10K Overall Results\n\nLincoln-Way Half Marathon Age Group Results\n\nLincoln-Way Half Marathon Overall Results
URL:https://www.racetime.info/event/lincolnway-half-marathon-10k/
LOCATION:Breidert Green Park\, 432 W. Nebraska\, Frankfort\, IL\, 60423\, United States
CATEGORIES:2019-09 Results (September)
ORGANIZER;CN="Robert Kennedy":MAILTO:robert.kennedy@lw210.org
GEO:41.4974227;-87.8607917
X-APPLE-STRUCTURED-LOCATION;VALUE=URI;X-ADDRESS=Breidert Green Park 432 W. Nebraska Frankfort IL 60423 United States;X-APPLE-RADIUS=500;X-TITLE=432 W. Nebraska:geo:-87.8607917,41.4974227
END:VEVENT
BEGIN:VEVENT
DTSTART;TZID=America/Chicago:20181006T093000
DTEND;TZID=America/Chicago:20181006T110000
DTSTAMP:20260423T224838
CREATED:20170731T174625Z
LAST-MODIFIED:20181006T174906Z
UID:10001559-1538818200-1538823600@www.racetime.info
SUMMARY:Old Plank Trail 5K Run/Walk
DESCRIPTION:Old Plank Road 5K Run Age Group Results\n\nOld Plank Road 5K Run Overall Results\n\ntarget=”_blank”Old Plank Road 5K Walk Age Group Results\n\nOld Plank Road 5K Walk Overall Results
URL:https://www.racetime.info/event/old-plank-trail-5k-run-walk/
LOCATION:Breidert Green Park\, 432 W. Nebraska\, Frankfort\, IL\, 60423\, United States
CATEGORIES:2018-10 Results (October)
ORGANIZER;CN="Susan Lynchey":MAILTO:slynchey@vofil.com
GEO:41.4974227;-87.8607917
X-APPLE-STRUCTURED-LOCATION;VALUE=URI;X-ADDRESS=Breidert Green Park 432 W. Nebraska Frankfort IL 60423 United States;X-APPLE-RADIUS=500;X-TITLE=432 W. Nebraska:geo:-87.8607917,41.4974227
END:VEVENT
BEGIN:VEVENT
DTSTART;TZID=America/Chicago:20180408T093000
DTEND;TZID=America/Chicago:20180408T130000
DTSTAMP:20260423T224838
CREATED:20180208T210319Z
LAST-MODIFIED:20180409T011009Z
UID:10001737-1523179800-1523192400@www.racetime.info
SUMMARY:Miles for Music 5K/10K Run & 5K Walk
DESCRIPTION:Miles For Music 5K Age Group Results\n\nMiles For Music 5K Overall Results\n\nMiles For Music 10K Age Group Results\n\nMiles For Music 10K Overall Results
URL:https://www.racetime.info/event/miles-for-music-5k-10k-run-5k-walk/
LOCATION:Breidert Green Park\, 432 W. Nebraska\, Frankfort\, IL\, 60423\, United States
CATEGORIES:2018-04 Results (April)
ORGANIZER;CN="Trudy Sturino":MAILTO:info@maddogstrong.org
GEO:41.4974227;-87.8607917
X-APPLE-STRUCTURED-LOCATION;VALUE=URI;X-ADDRESS=Breidert Green Park 432 W. Nebraska Frankfort IL 60423 United States;X-APPLE-RADIUS=500;X-TITLE=432 W. Nebraska:geo:-87.8607917,41.4974227
END:VEVENT
BEGIN:VEVENT
DTSTART;TZID=America/Chicago:20171007T093000
DTEND;TZID=America/Chicago:20171007T110000
DTSTAMP:20260423T224838
CREATED:20170731T174625Z
LAST-MODIFIED:20171007T210136Z
UID:10000734-1507368600-1507374000@www.racetime.info
SUMMARY:Old Plank Trail 5K Run/Walk
DESCRIPTION:Old Plank Trail 5K Run Age Group Results\n\nOld Plank Trail 5K Walk Age Group Results\n\nOld Plank Trail 5K Run and Walk Overall Results
URL:https://www.racetime.info/event/old-plank-trail-5k-runwalk/
LOCATION:Breidert Green Park\, 432 W. Nebraska\, Frankfort\, IL\, 60423\, United States
CATEGORIES:2017-10 Results (October)
ORGANIZER;CN="Susan Lynchey":MAILTO:slynchey@vofil.com
GEO:41.4974227;-87.8607917
X-APPLE-STRUCTURED-LOCATION;VALUE=URI;X-ADDRESS=Breidert Green Park 432 W. Nebraska Frankfort IL 60423 United States;X-APPLE-RADIUS=500;X-TITLE=432 W. Nebraska:geo:-87.8607917,41.4974227
END:VEVENT
BEGIN:VEVENT
DTSTART;TZID=America/Chicago:20170429T070000
DTEND;TZID=America/Chicago:20170429T120000
DTSTAMP:20260423T224838
CREATED:20170103T203554Z
LAST-MODIFIED:20170430T185658Z
UID:10000351-1493449200-1493467200@www.racetime.info
SUMMARY:Lincoln-Way Half Marathon
DESCRIPTION:Lincoln-Way Half Marathon Age Group Results\n\nLincoln-Way Half Marathon Overall Results
URL:https://www.racetime.info/event/lincoln-way-half-marathon/
LOCATION:Breidert Green Park\, 432 W. Nebraska\, Frankfort\, IL\, 60423\, United States
CATEGORIES:2017-04 Results (April)
ORGANIZER;CN="Stacie McGlone":MAILTO:stacie.mcglone@lw210.org
GEO:41.4974227;-87.8607917
X-APPLE-STRUCTURED-LOCATION;VALUE=URI;X-ADDRESS=Breidert Green Park 432 W. Nebraska Frankfort IL 60423 United States;X-APPLE-RADIUS=500;X-TITLE=432 W. Nebraska:geo:-87.8607917,41.4974227
END:VEVENT
BEGIN:VEVENT
DTSTART;TZID=America/Chicago:20161119T093000
DTEND;TZID=America/Chicago:20161119T113000
DTSTAMP:20260423T224838
CREATED:20160727T203015Z
LAST-MODIFIED:20161119T184713Z
UID:10000737-1479547800-1479555000@www.racetime.info
SUMMARY:Miles For Music 5K Run/Walk
DESCRIPTION:Miles for Music 5K Age Group Results\n\nMiles For Music 5K Overall Results
URL:https://www.racetime.info/event/miles-for-music-5k-runwalk-2/
LOCATION:Breidert Green Park\, 432 W. Nebraska\, Frankfort\, IL\, 60423\, United States
CATEGORIES:2016-11 Results (November)
ORGANIZER;CN="Trudy Sturino":MAILTO:info@maddogstrong.org
GEO:41.4974227;-87.8607917
X-APPLE-STRUCTURED-LOCATION;VALUE=URI;X-ADDRESS=Breidert Green Park 432 W. Nebraska Frankfort IL 60423 United States;X-APPLE-RADIUS=500;X-TITLE=432 W. Nebraska:geo:-87.8607917,41.4974227
END:VEVENT
BEGIN:VEVENT
DTSTART;TZID=America/Chicago:20161001T093000
DTEND;TZID=America/Chicago:20161001T110000
DTSTAMP:20260423T224838
CREATED:20160902T012939Z
LAST-MODIFIED:20161001T220008Z
UID:10000791-1475314200-1475319600@www.racetime.info
SUMMARY:Old Plank Road Trail 5K Run & Walk
DESCRIPTION:Old Plank Road 5K Run Age Group Results\n\nOld Plank Road 5K Run Overall Results\n\nOld Plank Road 5K Walk Age Group Results\n\nOld Plank Road 5K Walk Overall Results
URL:https://www.racetime.info/event/old-plank-road-trail-5k-run-walk/
LOCATION:Breidert Green Park\, 432 W. Nebraska\, Frankfort\, IL\, 60423\, United States
CATEGORIES:2016-10 Results (October)
ORGANIZER;CN="Susan Lynchey":MAILTO:slynchey@vofil.com
GEO:41.4974227;-87.8607917
X-APPLE-STRUCTURED-LOCATION;VALUE=URI;X-ADDRESS=Breidert Green Park 432 W. Nebraska Frankfort IL 60423 United States;X-APPLE-RADIUS=500;X-TITLE=432 W. Nebraska:geo:-87.8607917,41.4974227
END:VEVENT
END:VCALENDAR