BEGIN:VCALENDAR
VERSION:2.0
PRODID:-//Race Time - ECPv6.15.13//NONSGML v1.0//EN
CALSCALE:GREGORIAN
METHOD:PUBLISH
X-ORIGINAL-URL:https://www.racetime.info
X-WR-CALDESC:Events for Race Time
REFRESH-INTERVAL;VALUE=DURATION:PT1H
X-Robots-Tag:noindex
X-PUBLISHED-TTL:PT1H
BEGIN:VTIMEZONE
TZID:America/Chicago
BEGIN:DAYLIGHT
TZOFFSETFROM:-0600
TZOFFSETTO:-0500
TZNAME:CDT
DTSTART:20140309T080000
END:DAYLIGHT
BEGIN:STANDARD
TZOFFSETFROM:-0500
TZOFFSETTO:-0600
TZNAME:CST
DTSTART:20141102T070000
END:STANDARD
BEGIN:DAYLIGHT
TZOFFSETFROM:-0600
TZOFFSETTO:-0500
TZNAME:CDT
DTSTART:20150308T080000
END:DAYLIGHT
BEGIN:STANDARD
TZOFFSETFROM:-0500
TZOFFSETTO:-0600
TZNAME:CST
DTSTART:20151101T070000
END:STANDARD
BEGIN:DAYLIGHT
TZOFFSETFROM:-0600
TZOFFSETTO:-0500
TZNAME:CDT
DTSTART:20160313T080000
END:DAYLIGHT
BEGIN:STANDARD
TZOFFSETFROM:-0500
TZOFFSETTO:-0600
TZNAME:CST
DTSTART:20161106T070000
END:STANDARD
BEGIN:DAYLIGHT
TZOFFSETFROM:-0600
TZOFFSETTO:-0500
TZNAME:CDT
DTSTART:20170312T080000
END:DAYLIGHT
BEGIN:STANDARD
TZOFFSETFROM:-0500
TZOFFSETTO:-0600
TZNAME:CST
DTSTART:20171105T070000
END:STANDARD
BEGIN:DAYLIGHT
TZOFFSETFROM:-0600
TZOFFSETTO:-0500
TZNAME:CDT
DTSTART:20180311T080000
END:DAYLIGHT
BEGIN:STANDARD
TZOFFSETFROM:-0500
TZOFFSETTO:-0600
TZNAME:CST
DTSTART:20181104T070000
END:STANDARD
BEGIN:DAYLIGHT
TZOFFSETFROM:-0600
TZOFFSETTO:-0500
TZNAME:CDT
DTSTART:20190310T080000
END:DAYLIGHT
BEGIN:STANDARD
TZOFFSETFROM:-0500
TZOFFSETTO:-0600
TZNAME:CST
DTSTART:20191103T070000
END:STANDARD
BEGIN:DAYLIGHT
TZOFFSETFROM:-0600
TZOFFSETTO:-0500
TZNAME:CDT
DTSTART:20200308T080000
END:DAYLIGHT
BEGIN:STANDARD
TZOFFSETFROM:-0500
TZOFFSETTO:-0600
TZNAME:CST
DTSTART:20201101T070000
END:STANDARD
BEGIN:DAYLIGHT
TZOFFSETFROM:-0600
TZOFFSETTO:-0500
TZNAME:CDT
DTSTART:20210314T080000
END:DAYLIGHT
BEGIN:STANDARD
TZOFFSETFROM:-0500
TZOFFSETTO:-0600
TZNAME:CST
DTSTART:20211107T070000
END:STANDARD
BEGIN:DAYLIGHT
TZOFFSETFROM:-0600
TZOFFSETTO:-0500
TZNAME:CDT
DTSTART:20220313T080000
END:DAYLIGHT
BEGIN:STANDARD
TZOFFSETFROM:-0500
TZOFFSETTO:-0600
TZNAME:CST
DTSTART:20221106T070000
END:STANDARD
BEGIN:DAYLIGHT
TZOFFSETFROM:-0600
TZOFFSETTO:-0500
TZNAME:CDT
DTSTART:20230312T080000
END:DAYLIGHT
BEGIN:STANDARD
TZOFFSETFROM:-0500
TZOFFSETTO:-0600
TZNAME:CST
DTSTART:20231105T070000
END:STANDARD
BEGIN:DAYLIGHT
TZOFFSETFROM:-0600
TZOFFSETTO:-0500
TZNAME:CDT
DTSTART:20240310T080000
END:DAYLIGHT
BEGIN:STANDARD
TZOFFSETFROM:-0500
TZOFFSETTO:-0600
TZNAME:CST
DTSTART:20241103T070000
END:STANDARD
BEGIN:DAYLIGHT
TZOFFSETFROM:-0600
TZOFFSETTO:-0500
TZNAME:CDT
DTSTART:20250309T080000
END:DAYLIGHT
BEGIN:STANDARD
TZOFFSETFROM:-0500
TZOFFSETTO:-0600
TZNAME:CST
DTSTART:20251102T070000
END:STANDARD
END:VTIMEZONE
BEGIN:VEVENT
DTSTART;TZID=America/Chicago:20240921T080000
DTEND;TZID=America/Chicago:20240921T103000
DTSTAMP:20260424T001416
CREATED:20220320T190823Z
LAST-MODIFIED:20240923T095011Z
UID:10001274-1726905600-1726914600@www.racetime.info
SUMMARY:MECCA MOVES! 5K * 1K * Kids Dash
DESCRIPTION:MECCA Moves 1K Age Group Results\n\nMECCA Moves 1K Overall Results\n\nMECCA Moves 5K Age Group Results\n\nMECCA Moves 5K Overall Results
URL:https://www.racetime.info/event/copy-of-mecca-moves-5k-1k-kids-dash/
LOCATION:Burr Ridge Shopping Center\, 150 Burr Ridge Parkway\, Burr Ridge\, IL\, 60527\, United States
CATEGORIES:2024-09 Results (September)
ORGANIZER;CN="Sabar Akbar":MAILTO:info@meccacenter.org
GEO:41.7489203;-87.9183919
X-APPLE-STRUCTURED-LOCATION;VALUE=URI;X-ADDRESS=Burr Ridge Shopping Center 150 Burr Ridge Parkway Burr Ridge IL 60527 United States;X-APPLE-RADIUS=500;X-TITLE=150 Burr Ridge Parkway:geo:-87.9183919,41.7489203
END:VEVENT
BEGIN:VEVENT
DTSTART;TZID=America/Chicago:20230916T080000
DTEND;TZID=America/Chicago:20230916T100000
DTSTAMP:20260424T001416
CREATED:20220320T190823Z
LAST-MODIFIED:20230920T161019Z
UID:10001273-1694851200-1694858400@www.racetime.info
SUMMARY:MECCA MOVES! 5K * 1K * Kids Dash
DESCRIPTION:MECCA Moves 5K Age Group Results\n\nMECCA Moves 5K Overall Results/\n\nMECCA Moves 1K Age Group Results\n\nMECCA Moves 1K Overall Results
URL:https://www.racetime.info/event/copy-of-run-the-ridge-5k-1k/
LOCATION:Burr Ridge Shopping Center\, 150 Burr Ridge Parkway\, Burr Ridge\, IL\, 60527\, United States
CATEGORIES:2023-09 Results (September)
ORGANIZER;CN="Sabar Akbar":MAILTO:info@meccacenter.org
GEO:41.7489203;-87.9183919
X-APPLE-STRUCTURED-LOCATION;VALUE=URI;X-ADDRESS=Burr Ridge Shopping Center 150 Burr Ridge Parkway Burr Ridge IL 60527 United States;X-APPLE-RADIUS=500;X-TITLE=150 Burr Ridge Parkway:geo:-87.9183919,41.7489203
END:VEVENT
BEGIN:VEVENT
DTSTART;TZID=America/Chicago:20220507T080000
DTEND;TZID=America/Chicago:20220507T103000
DTSTAMP:20260424T001416
CREATED:20220320T190823Z
LAST-MODIFIED:20220507T163645Z
UID:10001272-1651910400-1651919400@www.racetime.info
SUMMARY:Run The Ridge 5K & 1K
DESCRIPTION:Run The Ridge 5K Age Group Results\n\nRun The Ridge 5K Overall Results
URL:https://www.racetime.info/event/run-the-ridge-5k-1k/
LOCATION:Burr Ridge Shopping Center\, 150 Burr Ridge Parkway\, Burr Ridge\, IL\, 60527\, United States
CATEGORIES:2022-05 Results (May)
ORGANIZER;CN="Suzanne Gray":MAILTO:suzanne@right-fit.com
GEO:41.7489203;-87.9183919
X-APPLE-STRUCTURED-LOCATION;VALUE=URI;X-ADDRESS=Burr Ridge Shopping Center 150 Burr Ridge Parkway Burr Ridge IL 60527 United States;X-APPLE-RADIUS=500;X-TITLE=150 Burr Ridge Parkway:geo:-87.9183919,41.7489203
END:VEVENT
BEGIN:VEVENT
DTSTART;TZID=America/Chicago:20201121T080000
DTEND;TZID=America/Chicago:20201121T100000
DTSTAMP:20260424T001416
CREATED:20170206T051335Z
LAST-MODIFIED:20201124T130534Z
UID:10000924-1605945600-1605952800@www.racetime.info
SUMMARY:Run The Ridge Turkey Trot: 1K\, 5K & 10K
DESCRIPTION:Run The Ridge Turkey Trot 5K Overall Results\n\nRun The Ridge Turkey Trot 10K Overall Results
URL:https://www.racetime.info/event/run-the-ridge-5k-run-walk-1k-youth-run-postponed/
LOCATION:Burr Ridge Shopping Center\, 150 Burr Ridge Parkway\, Burr Ridge\, IL\, 60527\, United States
CATEGORIES:2020-11 Results (November)
ORGANIZER;CN="Suzanne Gray":MAILTO:suzanne@right-fit.com
GEO:41.7489203;-87.9183919
X-APPLE-STRUCTURED-LOCATION;VALUE=URI;X-ADDRESS=Burr Ridge Shopping Center 150 Burr Ridge Parkway Burr Ridge IL 60527 United States;X-APPLE-RADIUS=500;X-TITLE=150 Burr Ridge Parkway:geo:-87.9183919,41.7489203
END:VEVENT
BEGIN:VEVENT
DTSTART;TZID=America/Chicago:20200606T080000
DTEND;TZID=America/Chicago:20200606T100000
DTSTAMP:20260424T001416
CREATED:20170206T051335Z
LAST-MODIFIED:20200625T121701Z
UID:10000923-1591430400-1591437600@www.racetime.info
SUMMARY:Run The Ridge 5K Run/Walk & 1K Youth Run:  POSTPONED
DESCRIPTION:
URL:https://www.racetime.info/event/run-the-ridge-5k-run-walk-1k-youth-run-3/
LOCATION:Burr Ridge Shopping Center\, 150 Burr Ridge Parkway\, Burr Ridge\, IL\, 60527\, United States
ORGANIZER;CN="Suzanne Gray":MAILTO:suzanne@right-fit.com
GEO:41.7489203;-87.9183919
X-APPLE-STRUCTURED-LOCATION;VALUE=URI;X-ADDRESS=Burr Ridge Shopping Center 150 Burr Ridge Parkway Burr Ridge IL 60527 United States;X-APPLE-RADIUS=500;X-TITLE=150 Burr Ridge Parkway:geo:-87.9183919,41.7489203
END:VEVENT
BEGIN:VEVENT
DTSTART;TZID=America/Chicago:20190601T080000
DTEND;TZID=America/Chicago:20190601T100000
DTSTAMP:20260424T001416
CREATED:20170206T051335Z
LAST-MODIFIED:20190601T174314Z
UID:10000921-1559376000-1559383200@www.racetime.info
SUMMARY:Run The Ridge 5K Run/Walk & 1K Youth Run
DESCRIPTION:Run The Ridge 1K Overall Results\n\nRun The Ridge 5K Age Group Results\n\nRun The Ridge 5K Overall Results\n\nRun The Ridge 5K Wheeler Overall Results\n\nRun The Ridge Team Results
URL:https://www.racetime.info/event/run-the-ridge-5k-run-walk-1k-youth-run-2/
LOCATION:Burr Ridge Shopping Center\, 150 Burr Ridge Parkway\, Burr Ridge\, IL\, 60527\, United States
CATEGORIES:2019-06 Results (June)
ORGANIZER;CN="Suzanne Gray":MAILTO:suzanne@right-fit.com
GEO:41.7489203;-87.9183919
X-APPLE-STRUCTURED-LOCATION;VALUE=URI;X-ADDRESS=Burr Ridge Shopping Center 150 Burr Ridge Parkway Burr Ridge IL 60527 United States;X-APPLE-RADIUS=500;X-TITLE=150 Burr Ridge Parkway:geo:-87.9183919,41.7489203
END:VEVENT
BEGIN:VEVENT
DTSTART;TZID=America/Chicago:20180602T080000
DTEND;TZID=America/Chicago:20180602T100000
DTSTAMP:20260424T001416
CREATED:20170206T051335Z
LAST-MODIFIED:20180602T160013Z
UID:10000367-1527926400-1527933600@www.racetime.info
SUMMARY:Run The Ridge 5K Run/Walk & 1K Youth Run
DESCRIPTION:Run The Ridge 5K Age Group Results\n\nRun The Ridge 5K Overall Results\n\nRun The Ridge 5K Team Results\n\nRun The Ridge 1K Overall Results\n\nRun The Ridge 1K Team Results\n\nRun The Ridge 1K Wheeler Overall Results
URL:https://www.racetime.info/event/run-the-ridge-5k-run-walk-1k-youth-run/
LOCATION:Burr Ridge Shopping Center\, 150 Burr Ridge Parkway\, Burr Ridge\, IL\, 60527\, United States
CATEGORIES:2018-06 Results (June)
ORGANIZER;CN="Suzanne Gray":MAILTO:suzanne@right-fit.com
GEO:41.7489203;-87.9183919
X-APPLE-STRUCTURED-LOCATION;VALUE=URI;X-ADDRESS=Burr Ridge Shopping Center 150 Burr Ridge Parkway Burr Ridge IL 60527 United States;X-APPLE-RADIUS=500;X-TITLE=150 Burr Ridge Parkway:geo:-87.9183919,41.7489203
END:VEVENT
BEGIN:VEVENT
DTSTART;TZID=America/Chicago:20170603T080000
DTEND;TZID=America/Chicago:20170603T100000
DTSTAMP:20260424T001416
CREATED:20170206T051335Z
LAST-MODIFIED:20170603T181322Z
UID:10000365-1496476800-1496484000@www.racetime.info
SUMMARY:Run The Ridge 5K Run/Walk & 1K Youth Run
DESCRIPTION:Run The Ridge 1K Overall Results\n\nRun The Ridge 5K Age Group Results\n\nRun The Ridge 5K Overall Results
URL:https://www.racetime.info/event/run-the-ridge-5k-runwalk-1k-youth-run/
LOCATION:Burr Ridge Shopping Center\, 150 Burr Ridge Parkway\, Burr Ridge\, IL\, 60527\, United States
CATEGORIES:2017-06 Results (June)
ORGANIZER;CN="Suzanne Gray":MAILTO:suzanne@right-fit.com
GEO:41.7489203;-87.9183919
X-APPLE-STRUCTURED-LOCATION;VALUE=URI;X-ADDRESS=Burr Ridge Shopping Center 150 Burr Ridge Parkway Burr Ridge IL 60527 United States;X-APPLE-RADIUS=500;X-TITLE=150 Burr Ridge Parkway:geo:-87.9183919,41.7489203
END:VEVENT
BEGIN:VEVENT
DTSTART;TZID=America/Chicago:20150726T090000
DTEND;TZID=America/Chicago:20150726T110000
DTSTAMP:20260424T001416
CREATED:20150409T034518Z
LAST-MODIFIED:20150728T105236Z
UID:10000190-1437901200-1437908400@www.racetime.info
SUMMARY:Run For Veterans 5K Run/Walk
DESCRIPTION:Run For Veterans 5K Age Group Results\n\nRun For Veterans 5K Overall Results
URL:https://www.racetime.info/event/run-for-veterans-2/
LOCATION:Burr Ridge Shopping Center\, 150 Burr Ridge Parkway\, Burr Ridge\, IL\, 60527\, United States
CATEGORIES:2015-07 Results (July)
ORGANIZER;CN="Pauline Ozols":MAILTO:pozols@runforveterans.com
GEO:41.7489203;-87.9183919
X-APPLE-STRUCTURED-LOCATION;VALUE=URI;X-ADDRESS=Burr Ridge Shopping Center 150 Burr Ridge Parkway Burr Ridge IL 60527 United States;X-APPLE-RADIUS=500;X-TITLE=150 Burr Ridge Parkway:geo:-87.9183919,41.7489203
END:VEVENT
END:VCALENDAR