BEGIN:VCALENDAR
VERSION:2.0
PRODID:-//Race Time - ECPv6.15.13//NONSGML v1.0//EN
CALSCALE:GREGORIAN
METHOD:PUBLISH
X-ORIGINAL-URL:https://www.racetime.info
X-WR-CALDESC:Events for Race Time
REFRESH-INTERVAL;VALUE=DURATION:PT1H
X-Robots-Tag:noindex
X-PUBLISHED-TTL:PT1H
BEGIN:VTIMEZONE
TZID:America/Chicago
BEGIN:DAYLIGHT
TZOFFSETFROM:-0600
TZOFFSETTO:-0500
TZNAME:CDT
DTSTART:20140309T080000
END:DAYLIGHT
BEGIN:STANDARD
TZOFFSETFROM:-0500
TZOFFSETTO:-0600
TZNAME:CST
DTSTART:20141102T070000
END:STANDARD
BEGIN:DAYLIGHT
TZOFFSETFROM:-0600
TZOFFSETTO:-0500
TZNAME:CDT
DTSTART:20150308T080000
END:DAYLIGHT
BEGIN:STANDARD
TZOFFSETFROM:-0500
TZOFFSETTO:-0600
TZNAME:CST
DTSTART:20151101T070000
END:STANDARD
BEGIN:DAYLIGHT
TZOFFSETFROM:-0600
TZOFFSETTO:-0500
TZNAME:CDT
DTSTART:20160313T080000
END:DAYLIGHT
BEGIN:STANDARD
TZOFFSETFROM:-0500
TZOFFSETTO:-0600
TZNAME:CST
DTSTART:20161106T070000
END:STANDARD
END:VTIMEZONE
BEGIN:VEVENT
DTSTART;TZID=America/Chicago:20150530T080000
DTEND;TZID=America/Chicago:20150530T110000
DTSTAMP:20260424T051313
CREATED:20150409T034508Z
LAST-MODIFIED:20150829T202444Z
UID:10000154-1432972800-1432983600@www.racetime.info
SUMMARY:Run The Ridge
DESCRIPTION:Run The Ridge 1K Overall Results\n\nRun The Ridge 5K Age Group Results\n\nRun The Ridge 5K Overall Results
URL:https://www.racetime.info/event/run-the-ridge-2/
LOCATION:Burr Ridge Shopping Plaza\, Burr Ridge\, IL\, United States
CATEGORIES:2015-05 Results (May)
ORGANIZER;CN="Suzanne Gray":MAILTO:suzanne@right-fit.com
GEO:41.7489203;-87.9183919
END:VEVENT
END:VCALENDAR