BEGIN:VCALENDAR
VERSION:2.0
PRODID:-//Race Time - ECPv6.15.13//NONSGML v1.0//EN
CALSCALE:GREGORIAN
METHOD:PUBLISH
X-ORIGINAL-URL:https://www.racetime.info
X-WR-CALDESC:Events for Race Time
REFRESH-INTERVAL;VALUE=DURATION:PT1H
X-Robots-Tag:noindex
X-PUBLISHED-TTL:PT1H
BEGIN:VTIMEZONE
TZID:America/Chicago
BEGIN:DAYLIGHT
TZOFFSETFROM:-0600
TZOFFSETTO:-0500
TZNAME:CDT
DTSTART:20210314T080000
END:DAYLIGHT
BEGIN:STANDARD
TZOFFSETFROM:-0500
TZOFFSETTO:-0600
TZNAME:CST
DTSTART:20211107T070000
END:STANDARD
BEGIN:DAYLIGHT
TZOFFSETFROM:-0600
TZOFFSETTO:-0500
TZNAME:CDT
DTSTART:20220313T080000
END:DAYLIGHT
BEGIN:STANDARD
TZOFFSETFROM:-0500
TZOFFSETTO:-0600
TZNAME:CST
DTSTART:20221106T070000
END:STANDARD
BEGIN:DAYLIGHT
TZOFFSETFROM:-0600
TZOFFSETTO:-0500
TZNAME:CDT
DTSTART:20230312T080000
END:DAYLIGHT
BEGIN:STANDARD
TZOFFSETFROM:-0500
TZOFFSETTO:-0600
TZNAME:CST
DTSTART:20231105T070000
END:STANDARD
BEGIN:DAYLIGHT
TZOFFSETFROM:-0600
TZOFFSETTO:-0500
TZNAME:CDT
DTSTART:20240310T080000
END:DAYLIGHT
BEGIN:STANDARD
TZOFFSETFROM:-0500
TZOFFSETTO:-0600
TZNAME:CST
DTSTART:20241103T070000
END:STANDARD
BEGIN:DAYLIGHT
TZOFFSETFROM:-0600
TZOFFSETTO:-0500
TZNAME:CDT
DTSTART:20250309T080000
END:DAYLIGHT
BEGIN:STANDARD
TZOFFSETFROM:-0500
TZOFFSETTO:-0600
TZNAME:CST
DTSTART:20251102T070000
END:STANDARD
BEGIN:DAYLIGHT
TZOFFSETFROM:-0600
TZOFFSETTO:-0500
TZNAME:CDT
DTSTART:20260308T080000
END:DAYLIGHT
BEGIN:STANDARD
TZOFFSETFROM:-0500
TZOFFSETTO:-0600
TZNAME:CST
DTSTART:20261101T070000
END:STANDARD
END:VTIMEZONE
BEGIN:VEVENT
DTSTART;TZID=America/Chicago:20250821T183000
DTEND;TZID=America/Chicago:20250821T200000
DTSTAMP:20260423T195943
CREATED:20250325T185333Z
LAST-MODIFIED:20250710T222729Z
UID:10002300-1755801000-1755806400@www.racetime.info
SUMMARY:The Longest Day 5K * 10K * Kids Dash
DESCRIPTION:
URL:https://www.racetime.info/event/the-longest-day-5k-10k-kids-dash/
LOCATION:Busse Woods Grove 26\, Elk Grove Village\, IL\, United States
ORGANIZER;CN="Mary Agnes Zellmer":MAILTO:maz@chicagoracemanagement.com
END:VEVENT
BEGIN:VEVENT
DTSTART;TZID=America/Chicago:20250503T083000
DTEND;TZID=America/Chicago:20250503T103000
DTSTAMP:20260423T195943
CREATED:20250401T121153Z
LAST-MODIFIED:20250503T233533Z
UID:10002305-1746261000-1746268200@www.racetime.info
SUMMARY:Run For Rett 5K & 1 Mile
DESCRIPTION:Run For Rett 1 Mile Overall Results\n\nRun For Rett 5K Age Group Results\n\nRun For Rett 5K Overall Results
URL:https://www.racetime.info/event/run-for-rett-5k-1-mile-2/
LOCATION:Busse Woods Grove 26\, Elk Grove Village\, IL\, United States
CATEGORIES:2025-05 Results (May)
ORGANIZER;CN="Diane Ross":MAILTO:diross62@aol.com
END:VEVENT
BEGIN:VEVENT
DTSTART;TZID=America/Chicago:20240504T083000
DTEND;TZID=America/Chicago:20240504T103000
DTSTAMP:20260423T195943
CREATED:20220123T225147Z
LAST-MODIFIED:20240504T182341Z
UID:10002080-1714811400-1714818600@www.racetime.info
SUMMARY:Run For Rett 5K & 1 Mile
DESCRIPTION:Run for Rett 1 Mile Overall Results\n\nRun for Rett 5K Age Group Results\n\nRun for Rett 5K Overall Results
URL:https://www.racetime.info/event/copy-of-run-for-rett-5k-1-mile-2/
LOCATION:Busse Woods Grove 26\, Elk Grove Village\, IL\, United States
CATEGORIES:2024-05 Results (May)
ORGANIZER;CN="Diane Ross":MAILTO:diross62@aol.com
END:VEVENT
BEGIN:VEVENT
DTSTART;TZID=America/Chicago:20240421T110000
DTEND;TZID=America/Chicago:20240421T123000
DTSTAMP:20260423T195943
CREATED:20240308T132801Z
LAST-MODIFIED:20240421T200738Z
UID:10002217-1713697200-1713702600@www.racetime.info
SUMMARY:Harcerstwo on the Run 5K
DESCRIPTION:Harcerstwo On The Run 5K Age Group Results\n\nHarcerstwo On The Run 5K Overall Results
URL:https://www.racetime.info/event/harcerstwo-on-the-run-5k/
LOCATION:Busse Woods Grove 26\, Elk Grove Village\, IL\, United States
CATEGORIES:2024-04 Results (April)
ORGANIZER;CN="Joanna Gadzala":MAILTO:ref-zuchy.tatry@zhp.org
END:VEVENT
BEGIN:VEVENT
DTSTART;TZID=America/Chicago:20231015T100000
DTEND;TZID=America/Chicago:20231015T123000
DTSTAMP:20260423T195943
CREATED:20220724T112624Z
LAST-MODIFIED:20231015T185720Z
UID:10002129-1697364000-1697373000@www.racetime.info
SUMMARY:Butterfly 5K Walk\, Run & Flutter
DESCRIPTION:Butterfly 5K Overall Results
URL:https://www.racetime.info/event/copy-of-butterfly-5k-walk-run-flutter/
LOCATION:Busse Woods Grove 26\, Elk Grove Village\, IL\, United States
CATEGORIES:2023-10 Results (October)
ORGANIZER;CN="Rachel French":MAILTO:rfrench@thehapfoundation.org
END:VEVENT
BEGIN:VEVENT
DTSTART;TZID=America/Chicago:20221002T090000
DTEND;TZID=America/Chicago:20221002T110000
DTSTAMP:20260423T195943
CREATED:20220724T112624Z
LAST-MODIFIED:20221002T195400Z
UID:10002128-1664701200-1664708400@www.racetime.info
SUMMARY:Butterfly 5K Walk\, Run & Flutter
DESCRIPTION:Butterfly 5K Overall Results
URL:https://www.racetime.info/event/butterfly-5k-walk-run-flutter/
LOCATION:Busse Woods Grove 26\, Elk Grove Village\, IL\, United States
CATEGORIES:2022-10 Results (October)
ORGANIZER;CN="Rachel French":MAILTO:rfrench@thehapfoundation.org
END:VEVENT
END:VCALENDAR