BEGIN:VCALENDAR
VERSION:2.0
PRODID:-//Race Time - ECPv6.15.13//NONSGML v1.0//EN
CALSCALE:GREGORIAN
METHOD:PUBLISH
X-WR-CALNAME:Race Time
X-ORIGINAL-URL:https://www.racetime.info
X-WR-CALDESC:Events for Race Time
REFRESH-INTERVAL;VALUE=DURATION:PT1H
X-Robots-Tag:noindex
X-PUBLISHED-TTL:PT1H
BEGIN:VTIMEZONE
TZID:America/Chicago
BEGIN:DAYLIGHT
TZOFFSETFROM:-0600
TZOFFSETTO:-0500
TZNAME:CDT
DTSTART:20160313T080000
END:DAYLIGHT
BEGIN:STANDARD
TZOFFSETFROM:-0500
TZOFFSETTO:-0600
TZNAME:CST
DTSTART:20161106T070000
END:STANDARD
BEGIN:DAYLIGHT
TZOFFSETFROM:-0600
TZOFFSETTO:-0500
TZNAME:CDT
DTSTART:20170312T080000
END:DAYLIGHT
BEGIN:STANDARD
TZOFFSETFROM:-0500
TZOFFSETTO:-0600
TZNAME:CST
DTSTART:20171105T070000
END:STANDARD
BEGIN:DAYLIGHT
TZOFFSETFROM:-0600
TZOFFSETTO:-0500
TZNAME:CDT
DTSTART:20180311T080000
END:DAYLIGHT
BEGIN:STANDARD
TZOFFSETFROM:-0500
TZOFFSETTO:-0600
TZNAME:CST
DTSTART:20181104T070000
END:STANDARD
BEGIN:DAYLIGHT
TZOFFSETFROM:-0600
TZOFFSETTO:-0500
TZNAME:CDT
DTSTART:20190310T080000
END:DAYLIGHT
BEGIN:STANDARD
TZOFFSETFROM:-0500
TZOFFSETTO:-0600
TZNAME:CST
DTSTART:20191103T070000
END:STANDARD
END:VTIMEZONE
BEGIN:VEVENT
DTSTART;TZID=America/Chicago:20181027T103000
DTEND;TZID=America/Chicago:20181027T123000
DTSTAMP:20260424T001058
CREATED:20181008T181403Z
LAST-MODIFIED:20181027T184308Z
UID:10001019-1540636200-1540643400@www.racetime.info
SUMMARY:St. Matthew's Pumpkin 5K Run and Walk and 2K Youth Run
DESCRIPTION:St. Matthew’s Pumpkin 5K Run Age Group Results\n\nSt. Matthew’s Pumpkin 5K Run Overall Results\n\nSt. Matthew’s Pumpkin 5K Walk Age Group Results\n\nSt. Matthew’s Pumpkin 5K Walk Overall Results\n\nSt. Matthew’s Pumpkin 2K Overall Results
URL:https://www.racetime.info/event/st-matthews-pumpkin-5k-run-and-walk-and-2k-run/
LOCATION:Camera Park\, Glendale Heights\, IL\, IL\, United States
CATEGORIES:2018-10 Results (October)
ORGANIZER;CN="Cyndi Kochowicz":MAILTO:cyndi.kochowicz@polyone.com
GEO:41.9103068;-88.0717353
END:VEVENT
BEGIN:VEVENT
DTSTART;TZID=America/Chicago:20171018T164500
DTEND;TZID=America/Chicago:20171018T180000
DTSTAMP:20260424T001058
CREATED:20171019T021613Z
LAST-MODIFIED:20171019T023511Z
UID:10001687-1508345100-1508349600@www.racetime.info
SUMMARY:WSC Fresh/Soph & JV Girls Cross Country Meet
DESCRIPTION:WSC Fresh Soph Girls Overall Results\n\nWSC Fresh Soph Girls Team Results\n\nWSC JV Girls Overall Results\n\nWSC JV Girls Team Results
URL:https://www.racetime.info/event/wsc-freshsoph-jv-girls-cross-country-meet/
LOCATION:Camera Park\, Glendale Heights\, IL\, IL\, United States
CATEGORIES:2017 Cross Country Results
GEO:41.9103068;-88.0717353
END:VEVENT
END:VCALENDAR