BEGIN:VCALENDAR
VERSION:2.0
PRODID:-//Race Time - ECPv6.15.13//NONSGML v1.0//EN
CALSCALE:GREGORIAN
METHOD:PUBLISH
X-ORIGINAL-URL:https://www.racetime.info
X-WR-CALDESC:Events for Race Time
REFRESH-INTERVAL;VALUE=DURATION:PT1H
X-Robots-Tag:noindex
X-PUBLISHED-TTL:PT1H
BEGIN:VTIMEZONE
TZID:America/Chicago
BEGIN:DAYLIGHT
TZOFFSETFROM:-0600
TZOFFSETTO:-0500
TZNAME:CDT
DTSTART:20170312T080000
END:DAYLIGHT
BEGIN:STANDARD
TZOFFSETFROM:-0500
TZOFFSETTO:-0600
TZNAME:CST
DTSTART:20171105T070000
END:STANDARD
BEGIN:DAYLIGHT
TZOFFSETFROM:-0600
TZOFFSETTO:-0500
TZNAME:CDT
DTSTART:20180311T080000
END:DAYLIGHT
BEGIN:STANDARD
TZOFFSETFROM:-0500
TZOFFSETTO:-0600
TZNAME:CST
DTSTART:20181104T070000
END:STANDARD
BEGIN:DAYLIGHT
TZOFFSETFROM:-0600
TZOFFSETTO:-0500
TZNAME:CDT
DTSTART:20190310T080000
END:DAYLIGHT
BEGIN:STANDARD
TZOFFSETFROM:-0500
TZOFFSETTO:-0600
TZNAME:CST
DTSTART:20191103T070000
END:STANDARD
END:VTIMEZONE
BEGIN:VEVENT
DTSTART;TZID=America/Chicago:20180714T080000
DTEND;TZID=America/Chicago:20180714T100000
DTSTAMP:20260424T041611
CREATED:20180710T111243Z
LAST-MODIFIED:20180714T162811Z
UID:10000987-1531555200-1531562400@www.racetime.info
SUMMARY:Wings of Mercy Runway 5k Run/Walk
DESCRIPTION:Wings of Mercy 5K Age Group Results\n\nWings of Mercy 5K Overall Results
URL:https://www.racetime.info/event/wings-of-mercy-5k-run-walk/
LOCATION:Campbell Airport\, 22731 Townline Road\, Grayslake\, IL\, 60050\, United States
CATEGORIES:2018-07 Results (July)
ORGANIZER;CN="Grace Spelde":MAILTO:grace@wingsofmercy.org
GEO:42.326102;-88.076438
X-APPLE-STRUCTURED-LOCATION;VALUE=URI;X-ADDRESS=Campbell Airport 22731 Townline Road Grayslake IL 60050 United States;X-APPLE-RADIUS=500;X-TITLE=22731 Townline Road:geo:-88.076438,42.326102
END:VEVENT
END:VCALENDAR