BEGIN:VCALENDAR
VERSION:2.0
PRODID:-//Race Time - ECPv6.15.13//NONSGML v1.0//EN
CALSCALE:GREGORIAN
METHOD:PUBLISH
X-ORIGINAL-URL:https://www.racetime.info
X-WR-CALDESC:Events for Race Time
REFRESH-INTERVAL;VALUE=DURATION:PT1H
X-Robots-Tag:noindex
X-PUBLISHED-TTL:PT1H
BEGIN:VTIMEZONE
TZID:America/Chicago
BEGIN:DAYLIGHT
TZOFFSETFROM:-0600
TZOFFSETTO:-0500
TZNAME:CDT
DTSTART:20170312T080000
END:DAYLIGHT
BEGIN:STANDARD
TZOFFSETFROM:-0500
TZOFFSETTO:-0600
TZNAME:CST
DTSTART:20171105T070000
END:STANDARD
BEGIN:DAYLIGHT
TZOFFSETFROM:-0600
TZOFFSETTO:-0500
TZNAME:CDT
DTSTART:20180311T080000
END:DAYLIGHT
BEGIN:STANDARD
TZOFFSETFROM:-0500
TZOFFSETTO:-0600
TZNAME:CST
DTSTART:20181104T070000
END:STANDARD
BEGIN:DAYLIGHT
TZOFFSETFROM:-0600
TZOFFSETTO:-0500
TZNAME:CDT
DTSTART:20190310T080000
END:DAYLIGHT
BEGIN:STANDARD
TZOFFSETFROM:-0500
TZOFFSETTO:-0600
TZNAME:CST
DTSTART:20191103T070000
END:STANDARD
BEGIN:DAYLIGHT
TZOFFSETFROM:-0600
TZOFFSETTO:-0500
TZNAME:CDT
DTSTART:20200308T080000
END:DAYLIGHT
BEGIN:STANDARD
TZOFFSETFROM:-0500
TZOFFSETTO:-0600
TZNAME:CST
DTSTART:20201101T070000
END:STANDARD
BEGIN:DAYLIGHT
TZOFFSETFROM:-0600
TZOFFSETTO:-0500
TZNAME:CDT
DTSTART:20210314T080000
END:DAYLIGHT
BEGIN:STANDARD
TZOFFSETFROM:-0500
TZOFFSETTO:-0600
TZNAME:CST
DTSTART:20211107T070000
END:STANDARD
BEGIN:DAYLIGHT
TZOFFSETFROM:-0600
TZOFFSETTO:-0500
TZNAME:CDT
DTSTART:20220313T080000
END:DAYLIGHT
BEGIN:STANDARD
TZOFFSETFROM:-0500
TZOFFSETTO:-0600
TZNAME:CST
DTSTART:20221106T070000
END:STANDARD
BEGIN:DAYLIGHT
TZOFFSETFROM:-0600
TZOFFSETTO:-0500
TZNAME:CDT
DTSTART:20230312T080000
END:DAYLIGHT
BEGIN:STANDARD
TZOFFSETFROM:-0500
TZOFFSETTO:-0600
TZNAME:CST
DTSTART:20231105T070000
END:STANDARD
BEGIN:DAYLIGHT
TZOFFSETFROM:-0600
TZOFFSETTO:-0500
TZNAME:CDT
DTSTART:20240310T080000
END:DAYLIGHT
BEGIN:STANDARD
TZOFFSETFROM:-0500
TZOFFSETTO:-0600
TZNAME:CST
DTSTART:20241103T070000
END:STANDARD
BEGIN:DAYLIGHT
TZOFFSETFROM:-0600
TZOFFSETTO:-0500
TZNAME:CDT
DTSTART:20250309T080000
END:DAYLIGHT
BEGIN:STANDARD
TZOFFSETFROM:-0500
TZOFFSETTO:-0600
TZNAME:CST
DTSTART:20251102T070000
END:STANDARD
BEGIN:DAYLIGHT
TZOFFSETFROM:-0600
TZOFFSETTO:-0500
TZNAME:CDT
DTSTART:20260308T080000
END:DAYLIGHT
BEGIN:STANDARD
TZOFFSETFROM:-0500
TZOFFSETTO:-0600
TZNAME:CST
DTSTART:20261101T070000
END:STANDARD
BEGIN:DAYLIGHT
TZOFFSETFROM:-0600
TZOFFSETTO:-0500
TZNAME:CDT
DTSTART:20270314T080000
END:DAYLIGHT
BEGIN:STANDARD
TZOFFSETFROM:-0500
TZOFFSETTO:-0600
TZNAME:CST
DTSTART:20271107T070000
END:STANDARD
END:VTIMEZONE
BEGIN:VEVENT
DTSTART;TZID=America/Chicago:20260418T090000
DTEND;TZID=America/Chicago:20260418T103000
DTSTAMP:20260424T011734
CREATED:20260302T124955Z
LAST-MODIFIED:20260418T180611Z
UID:10002504-1776502800-1776508200@www.racetime.info
SUMMARY:Semblex Get Fit 5K Run/Walk (Private)
DESCRIPTION:Semblex Get Fit 5K Age Group Results\n \nSemblex Get Fit 5K Overall Results
URL:https://www.racetime.info/event/semblex-get-fit-5k-run-walk-private-4/
LOCATION:Cantigny Park\, 1S151 Winfield Road\, Wheaton\, IL\, 60187\, United States
CATEGORIES:2026-04 Results (April)
ORGANIZER;CN="Karla Chirinos":MAILTO:kchirinos@semblex.com
GEO:41.8549443;-88.1559782
X-APPLE-STRUCTURED-LOCATION;VALUE=URI;X-ADDRESS=Cantigny Park 1S151 Winfield Road Wheaton IL 60187 United States;X-APPLE-RADIUS=500;X-TITLE=1S151 Winfield Road:geo:-88.1559782,41.8549443
END:VEVENT
BEGIN:VEVENT
DTSTART;TZID=America/Chicago:20250329T090000
DTEND;TZID=America/Chicago:20250329T103000
DTSTAMP:20260424T011734
CREATED:20250223T124309Z
LAST-MODIFIED:20250329T180140Z
UID:10002250-1743238800-1743244200@www.racetime.info
SUMMARY:Semblex Get Fit 5K Run/Walk (Private)
DESCRIPTION:Semblex GetFit 5K Age Group Results\n\nSemblex GetFit 5K Overall Results
URL:https://www.racetime.info/event/semblex-get-fit-5k-run-walk-private-3/
LOCATION:Cantigny Park\, 1S151 Winfield Road\, Wheaton\, IL\, 60187\, United States
CATEGORIES:2025-03 Results (March)
ORGANIZER;CN="Karla Chirinos":MAILTO:kchirinos@semblex.com
GEO:41.8549443;-88.1559782
X-APPLE-STRUCTURED-LOCATION;VALUE=URI;X-ADDRESS=Cantigny Park 1S151 Winfield Road Wheaton IL 60187 United States;X-APPLE-RADIUS=500;X-TITLE=1S151 Winfield Road:geo:-88.1559782,41.8549443
END:VEVENT
BEGIN:VEVENT
DTSTART;TZID=America/Chicago:20240420T090000
DTEND;TZID=America/Chicago:20240420T103000
DTSTAMP:20260424T011734
CREATED:20190217T191120Z
LAST-MODIFIED:20240420T184842Z
UID:10001037-1713603600-1713609000@www.racetime.info
SUMMARY:Semblex Get Fit 5K Run/Walk (Private)
DESCRIPTION:Semblex Get Fit 5K Age Group Results\n\nSemblex Get Fit 5K Overall Results
URL:https://www.racetime.info/event/copy-of-semblex-get-fit-5k-run-walk-private/
LOCATION:Cantigny Park\, 1S151 Winfield Road\, Wheaton\, IL\, 60187\, United States
CATEGORIES:2024-04 Results (April)
ORGANIZER;CN="Karla Chirinos":MAILTO:kchirinos@semblex.com
GEO:41.8549443;-88.1559782
X-APPLE-STRUCTURED-LOCATION;VALUE=URI;X-ADDRESS=Cantigny Park 1S151 Winfield Road Wheaton IL 60187 United States;X-APPLE-RADIUS=500;X-TITLE=1S151 Winfield Road:geo:-88.1559782,41.8549443
END:VEVENT
BEGIN:VEVENT
DTSTART;TZID=America/Chicago:20230506T090000
DTEND;TZID=America/Chicago:20230506T110000
DTSTAMP:20260424T011734
CREATED:20190217T191120Z
LAST-MODIFIED:20230506T162821Z
UID:10001035-1683363600-1683370800@www.racetime.info
SUMMARY:Semblex Get Fit 5K Run/Walk (Private)
DESCRIPTION:Semblex 5K Age Group Results\n\nSemblex 5K Overall Results
URL:https://www.racetime.info/event/copy-of-semblex-get-fit-5k-run-walk-private-cancelled/
LOCATION:Cantigny Park\, 1S151 Winfield Road\, Wheaton\, IL\, 60187\, United States
CATEGORIES:2023-05 Results (May)
ORGANIZER;CN="Dan Zima":MAILTO:dzima@semblex.com
GEO:41.8549443;-88.1559782
X-APPLE-STRUCTURED-LOCATION;VALUE=URI;X-ADDRESS=Cantigny Park 1S151 Winfield Road Wheaton IL 60187 United States;X-APPLE-RADIUS=500;X-TITLE=1S151 Winfield Road:geo:-88.1559782,41.8549443
END:VEVENT
BEGIN:VEVENT
DTSTART;TZID=America/Chicago:20230422T083000
DTEND;TZID=America/Chicago:20230423T113000
DTSTAMP:20260424T011734
CREATED:20210412T112638Z
LAST-MODIFIED:20230322T112504Z
UID:10001973-1682152200-1682249400@www.racetime.info
SUMMARY:Fight Hunger 5K & 10K
DESCRIPTION:
URL:https://www.racetime.info/event/copy-of-fight-hunger-5k-10k/
LOCATION:Cantigny Park\, 1S151 Winfield Road\, Wheaton\, IL\, 60187\, United States
ORGANIZER;CN="Tiffany King":MAILTO:tking@northernilfoodbank.org
GEO:41.8549443;-88.1559782
X-APPLE-STRUCTURED-LOCATION;VALUE=URI;X-ADDRESS=Cantigny Park 1S151 Winfield Road Wheaton IL 60187 United States;X-APPLE-RADIUS=500;X-TITLE=1S151 Winfield Road:geo:-88.1559782,41.8549443
END:VEVENT
BEGIN:VEVENT
DTSTART;TZID=America/Chicago:20221029T090000
DTEND;TZID=America/Chicago:20221029T110000
DTSTAMP:20260424T011734
CREATED:20220409T140512Z
LAST-MODIFIED:20221029T192706Z
UID:10002109-1667034000-1667041200@www.racetime.info
SUMMARY:Race to Cure Sarcoma 5K Run and 1 Mile Fun Run/Walk
DESCRIPTION:Run For Sarcoma 5K Overall Results
URL:https://www.racetime.info/event/race-to-cure-sarcoma-5k-run-and-1-mile-fun-run-walk/
LOCATION:Cantigny Park\, 1S151 Winfield Road\, Wheaton\, IL\, 60187\, United States
CATEGORIES:2022-10 Results (October)
ORGANIZER;CN="Shelby Ostrander":MAILTO:sostrander@curesarcoma.org
GEO:41.8549443;-88.1559782
X-APPLE-STRUCTURED-LOCATION;VALUE=URI;X-ADDRESS=Cantigny Park 1S151 Winfield Road Wheaton IL 60187 United States;X-APPLE-RADIUS=500;X-TITLE=1S151 Winfield Road:geo:-88.1559782,41.8549443
END:VEVENT
BEGIN:VEVENT
DTSTART;TZID=America/Chicago:20220925T080000
DTEND;TZID=America/Chicago:20220925T110000
DTSTAMP:20260424T011734
CREATED:20220803T031848Z
LAST-MODIFIED:20220925T174737Z
UID:10002136-1664092800-1664103600@www.racetime.info
SUMMARY:Turn The World Around 1 Mile * 5K * 10K * Kids Dash
DESCRIPTION:Turn The World Around 5K Age Group Results\n\nTurn The World Around 5K Overall Results\n\nTurn The World Around 10K Age Group Results\n\nTurn The World Around 10K Overall Results
URL:https://www.racetime.info/event/turn-the-world-around-1-mile-5k-10k-kids-dash/
LOCATION:Cantigny Park\, 1S151 Winfield Road\, Wheaton\, IL\, 60187\, United States
CATEGORIES:2022-09 Results (September)
ORGANIZER;CN="MaryBeth Collins":MAILTO:mebmik2017@gmail.com
GEO:41.8549443;-88.1559782
X-APPLE-STRUCTURED-LOCATION;VALUE=URI;X-ADDRESS=Cantigny Park 1S151 Winfield Road Wheaton IL 60187 United States;X-APPLE-RADIUS=500;X-TITLE=1S151 Winfield Road:geo:-88.1559782,41.8549443
END:VEVENT
BEGIN:VEVENT
DTSTART;TZID=America/Chicago:20220423T083000
DTEND;TZID=America/Chicago:20220424T103000
DTSTAMP:20260424T011734
CREATED:20210412T112638Z
LAST-MODIFIED:20220123T210527Z
UID:10001972-1650702600-1650796200@www.racetime.info
SUMMARY:Fight Hunger 5K & 10K
DESCRIPTION:
URL:https://www.racetime.info/event/fight-hunger-5k-10k-2/
LOCATION:Cantigny Park\, 1S151 Winfield Road\, Wheaton\, IL\, 60187\, United States
ORGANIZER;CN="Tiffany King":MAILTO:tking@northernilfoodbank.org
GEO:41.8549443;-88.1559782
X-APPLE-STRUCTURED-LOCATION;VALUE=URI;X-ADDRESS=Cantigny Park 1S151 Winfield Road Wheaton IL 60187 United States;X-APPLE-RADIUS=500;X-TITLE=1S151 Winfield Road:geo:-88.1559782,41.8549443
END:VEVENT
BEGIN:VEVENT
DTSTART;TZID=America/Chicago:20210417T080000
DTEND;TZID=America/Chicago:20210417T130000
DTSTAMP:20260424T011734
CREATED:20210412T112638Z
LAST-MODIFIED:20210419T201934Z
UID:10001971-1618646400-1618664400@www.racetime.info
SUMMARY:Fight Hunger 5K & 10K
DESCRIPTION:Fight Hunger 5K Overall Results\n\nFight Hunger 5K Team Results\n\nFight Hunger 10K Overall Results\n\nFight Hunger 10K Team Results
URL:https://www.racetime.info/event/fight-hunger-5k-10k/
LOCATION:Cantigny Park\, 1S151 Winfield Road\, Wheaton\, IL\, 60187\, United States
CATEGORIES:2021-04 Results (April)
ORGANIZER;CN="Tiffany King":MAILTO:tking@northernilfoodbank.org
GEO:41.8549443;-88.1559782
X-APPLE-STRUCTURED-LOCATION;VALUE=URI;X-ADDRESS=Cantigny Park 1S151 Winfield Road Wheaton IL 60187 United States;X-APPLE-RADIUS=500;X-TITLE=1S151 Winfield Road:geo:-88.1559782,41.8549443
END:VEVENT
BEGIN:VEVENT
DTSTART;TZID=America/Chicago:20201024T090000
DTEND;TZID=America/Chicago:20201024T110000
DTSTAMP:20260424T011734
CREATED:20201018T190757Z
LAST-MODIFIED:20201025T172925Z
UID:10001156-1603530000-1603537200@www.racetime.info
SUMMARY:St. Francis IHSA Class 2A Regional XC Meet
DESCRIPTION:IHSA Class 2A Regional Varsity Girls Overall Results\n\nIHSA Class 2A Regional Varsity Girls Team Results\n\nIHSA Class 2A Regional Varsity Boys Overall Results\n\nIHSA Class 2A Regional Varsity Boys Team Results
URL:https://www.racetime.info/event/st-francis-regional-xc-meet/
LOCATION:Cantigny Park\, 1S151 Winfield Road\, Wheaton\, IL\, 60187\, United States
CATEGORIES:2020 Cross Country Results
ORGANIZER;CN="Scott Nelson":MAILTO:snelson@sfhscollegeprep.org
GEO:41.8549443;-88.1559782
X-APPLE-STRUCTURED-LOCATION;VALUE=URI;X-ADDRESS=Cantigny Park 1S151 Winfield Road Wheaton IL 60187 United States;X-APPLE-RADIUS=500;X-TITLE=1S151 Winfield Road:geo:-88.1559782,41.8549443
END:VEVENT
BEGIN:VEVENT
DTSTART;TZID=America/Chicago:20201017T090000
DTEND;TZID=America/Chicago:20201017T110000
DTSTAMP:20260424T011734
CREATED:20190217T191120Z
LAST-MODIFIED:20200909T115551Z
UID:10001033-1602925200-1602932400@www.racetime.info
SUMMARY:Semblex Get Fit 5K Run/Walk (Private): CANCELLED
DESCRIPTION:
URL:https://www.racetime.info/event/semblex-get-fit-5k-run-walk-private-2/
LOCATION:Cantigny Park\, 1S151 Winfield Road\, Wheaton\, IL\, 60187\, United States
GEO:41.8549443;-88.1559782
X-APPLE-STRUCTURED-LOCATION;VALUE=URI;X-ADDRESS=Cantigny Park 1S151 Winfield Road Wheaton IL 60187 United States;X-APPLE-RADIUS=500;X-TITLE=1S151 Winfield Road:geo:-88.1559782,41.8549443
END:VEVENT
BEGIN:VEVENT
DTSTART;TZID=America/Chicago:20200418T090000
DTEND;TZID=America/Chicago:20200418T110000
DTSTAMP:20260424T011734
CREATED:20180219T210614Z
LAST-MODIFIED:20200317T105020Z
UID:10001740-1587200400-1587207600@www.racetime.info
SUMMARY:The Foodie 5K Run/Walk: VIRTUAL RUN
DESCRIPTION:
URL:https://www.racetime.info/event/the-foodie-5k-run-walk-6/
LOCATION:Cantigny Park\, 1S151 Winfield Road\, Wheaton\, IL\, 60187\, United States
GEO:41.8549443;-88.1559782
X-APPLE-STRUCTURED-LOCATION;VALUE=URI;X-ADDRESS=Cantigny Park 1S151 Winfield Road Wheaton IL 60187 United States;X-APPLE-RADIUS=500;X-TITLE=1S151 Winfield Road:geo:-88.1559782,41.8549443
END:VEVENT
BEGIN:VEVENT
DTSTART;TZID=America/Chicago:20190928T090000
DTEND;TZID=America/Chicago:20190928T110000
DTSTAMP:20260424T011734
CREATED:20190217T191120Z
LAST-MODIFIED:20190217T191120Z
UID:10001032-1569661200-1569668400@www.racetime.info
SUMMARY:Semblex Get Fit 5K Run/Walk (Private)
DESCRIPTION:
URL:https://www.racetime.info/event/semblex-get-fit-5k-run-walk-private/
LOCATION:Cantigny Park\, 1S151 Winfield Road\, Wheaton\, IL\, 60187\, United States
GEO:41.8549443;-88.1559782
X-APPLE-STRUCTURED-LOCATION;VALUE=URI;X-ADDRESS=Cantigny Park 1S151 Winfield Road Wheaton IL 60187 United States;X-APPLE-RADIUS=500;X-TITLE=1S151 Winfield Road:geo:-88.1559782,41.8549443
END:VEVENT
BEGIN:VEVENT
DTSTART;TZID=America/Chicago:20190427T090000
DTEND;TZID=America/Chicago:20190427T110000
DTSTAMP:20260424T011734
CREATED:20180219T210614Z
LAST-MODIFIED:20190127T165426Z
UID:10000920-1556355600-1556362800@www.racetime.info
SUMMARY:The Foodie 5K Run/Walk
DESCRIPTION:
URL:https://www.racetime.info/event/the-foodie-5k-run-walk-4/
LOCATION:Cantigny Park\, 1S151 Winfield Road\, Wheaton\, IL\, 60187\, United States
GEO:41.8549443;-88.1559782
X-APPLE-STRUCTURED-LOCATION;VALUE=URI;X-ADDRESS=Cantigny Park 1S151 Winfield Road Wheaton IL 60187 United States;X-APPLE-RADIUS=500;X-TITLE=1S151 Winfield Road:geo:-88.1559782,41.8549443
END:VEVENT
BEGIN:VEVENT
DTSTART;TZID=America/Chicago:20180915T090000
DTEND;TZID=America/Chicago:20180915T230000
DTSTAMP:20260424T011734
CREATED:20180307T181307Z
LAST-MODIFIED:20180915T183544Z
UID:10001746-1537002000-1537052400@www.racetime.info
SUMMARY:Semblex 5K (Private Event)
DESCRIPTION:Please contact the race director for results.
URL:https://www.racetime.info/event/semblex-5k-private-event/
LOCATION:Cantigny Park\, 1S151 Winfield Road\, Wheaton\, IL\, 60187\, United States
CATEGORIES:2018-09 Results (September)
ORGANIZER;CN="Karla Chirinos":MAILTO:kchirinos@semblex.com
GEO:41.8549443;-88.1559782
X-APPLE-STRUCTURED-LOCATION;VALUE=URI;X-ADDRESS=Cantigny Park 1S151 Winfield Road Wheaton IL 60187 United States;X-APPLE-RADIUS=500;X-TITLE=1S151 Winfield Road:geo:-88.1559782,41.8549443
END:VEVENT
BEGIN:VEVENT
DTSTART;TZID=America/Chicago:20180407T090000
DTEND;TZID=America/Chicago:20180407T110000
DTSTAMP:20260424T011734
CREATED:20180219T210614Z
LAST-MODIFIED:20180407T204156Z
UID:10000917-1523091600-1523098800@www.racetime.info
SUMMARY:The Foodie 5K Run/Walk
DESCRIPTION:Foodie 5K Age Group Report Cantigny 1\n\nFoodie 5K Overall Report Cantigny 1
URL:https://www.racetime.info/event/the-foodie-5k-run-walk/
LOCATION:Cantigny Park\, 1S151 Winfield Road\, Wheaton\, IL\, 60187\, United States
CATEGORIES:2018-04 Results (April)
GEO:41.8549443;-88.1559782
X-APPLE-STRUCTURED-LOCATION;VALUE=URI;X-ADDRESS=Cantigny Park 1S151 Winfield Road Wheaton IL 60187 United States;X-APPLE-RADIUS=500;X-TITLE=1S151 Winfield Road:geo:-88.1559782,41.8549443
END:VEVENT
END:VCALENDAR