BEGIN:VCALENDAR
VERSION:2.0
PRODID:-//Race Time - ECPv6.15.13//NONSGML v1.0//EN
CALSCALE:GREGORIAN
METHOD:PUBLISH
X-WR-CALNAME:Race Time
X-ORIGINAL-URL:https://www.racetime.info
X-WR-CALDESC:Events for Race Time
REFRESH-INTERVAL;VALUE=DURATION:PT1H
X-Robots-Tag:noindex
X-PUBLISHED-TTL:PT1H
BEGIN:VTIMEZONE
TZID:America/Chicago
BEGIN:DAYLIGHT
TZOFFSETFROM:-0600
TZOFFSETTO:-0500
TZNAME:CDT
DTSTART:20160313T080000
END:DAYLIGHT
BEGIN:STANDARD
TZOFFSETFROM:-0500
TZOFFSETTO:-0600
TZNAME:CST
DTSTART:20161106T070000
END:STANDARD
BEGIN:DAYLIGHT
TZOFFSETFROM:-0600
TZOFFSETTO:-0500
TZNAME:CDT
DTSTART:20170312T080000
END:DAYLIGHT
BEGIN:STANDARD
TZOFFSETFROM:-0500
TZOFFSETTO:-0600
TZNAME:CST
DTSTART:20171105T070000
END:STANDARD
BEGIN:DAYLIGHT
TZOFFSETFROM:-0600
TZOFFSETTO:-0500
TZNAME:CDT
DTSTART:20180311T080000
END:DAYLIGHT
BEGIN:STANDARD
TZOFFSETFROM:-0500
TZOFFSETTO:-0600
TZNAME:CST
DTSTART:20181104T070000
END:STANDARD
END:VTIMEZONE
BEGIN:VEVENT
DTSTART;TZID=America/Chicago:20170603T080000
DTEND;TZID=America/Chicago:20170603T100000
DTSTAMP:20260424T065527
CREATED:20170304T122916Z
LAST-MODIFIED:20170603T181517Z
UID:10001123-1496476800-1496484000@www.racetime.info
SUMMARY:Making Strides for Education 5K Run/Walk
DESCRIPTION:Making Strides for Education 5K Overall Results
URL:https://www.racetime.info/event/making-strides-for-education-5k-runwalk/
LOCATION:Carthage College\, 2001 Alford Park Drive\, Kenosha\, WI\, 53140\, United States
CATEGORIES:2017-06 Results (June)
ORGANIZER;CN="Matt Winans":MAILTO:mwinans@comportho.com
GEO:42.6226966;-87.8211267
X-APPLE-STRUCTURED-LOCATION;VALUE=URI;X-ADDRESS=Carthage College 2001 Alford Park Drive Kenosha WI 53140 United States;X-APPLE-RADIUS=500;X-TITLE=2001 Alford Park Drive:geo:-87.8211267,42.6226966
END:VEVENT
END:VCALENDAR