BEGIN:VCALENDAR
VERSION:2.0
PRODID:-//Race Time - ECPv6.15.13//NONSGML v1.0//EN
CALSCALE:GREGORIAN
METHOD:PUBLISH
X-WR-CALNAME:Race Time
X-ORIGINAL-URL:https://www.racetime.info
X-WR-CALDESC:Events for Race Time
REFRESH-INTERVAL;VALUE=DURATION:PT1H
X-Robots-Tag:noindex
X-PUBLISHED-TTL:PT1H
BEGIN:VTIMEZONE
TZID:America/Chicago
BEGIN:DAYLIGHT
TZOFFSETFROM:-0600
TZOFFSETTO:-0500
TZNAME:CDT
DTSTART:20150308T080000
END:DAYLIGHT
BEGIN:STANDARD
TZOFFSETFROM:-0500
TZOFFSETTO:-0600
TZNAME:CST
DTSTART:20151101T070000
END:STANDARD
BEGIN:DAYLIGHT
TZOFFSETFROM:-0600
TZOFFSETTO:-0500
TZNAME:CDT
DTSTART:20160313T080000
END:DAYLIGHT
BEGIN:STANDARD
TZOFFSETFROM:-0500
TZOFFSETTO:-0600
TZNAME:CST
DTSTART:20161106T070000
END:STANDARD
BEGIN:DAYLIGHT
TZOFFSETFROM:-0600
TZOFFSETTO:-0500
TZNAME:CDT
DTSTART:20170312T080000
END:DAYLIGHT
BEGIN:STANDARD
TZOFFSETFROM:-0500
TZOFFSETTO:-0600
TZNAME:CST
DTSTART:20171105T070000
END:STANDARD
BEGIN:DAYLIGHT
TZOFFSETFROM:-0600
TZOFFSETTO:-0500
TZNAME:CDT
DTSTART:20180311T080000
END:DAYLIGHT
BEGIN:STANDARD
TZOFFSETFROM:-0500
TZOFFSETTO:-0600
TZNAME:CST
DTSTART:20181104T070000
END:STANDARD
END:VTIMEZONE
BEGIN:VEVENT
DTSTART;TZID=America/Chicago:20170923T090000
DTEND;TZID=America/Chicago:20170923T120000
DTSTAMP:20260424T012402
CREATED:20170726T121020Z
LAST-MODIFIED:20170923T193251Z
UID:10000745-1506157200-1506168000@www.racetime.info
SUMMARY:Leyden Cross Country Invitational Meet
DESCRIPTION:Leyden Invite FS Boys Overall Results\n\nLeyden Invite FS Boys Team Results\n\nLeyden Invite FS Girls Overall Results\n\nLeyden Invite FS Girls Team Results\n\nLeyden Invite Varsity Boys Overall Results\n\nLeyden Invite Varsity Boys Team Results\n\nLeyden Invite Varsity Girls Overall Results\n\nLeyden Invite Varsity Girls Team Results\n\nLeyden Invite Open Boys Overall Results\n\nLeyden Invite Open Boys Team Results\n\nLeyden Invite Open Girls Overall Results\n\nLeyden Invite Open Girls Team Results
URL:https://www.racetime.info/event/leyden-cross-country-invitational-meet/
LOCATION:Center Point Preserve\, 400 N. Wolf Road\, Northlake\, IL\, 60164\, United States
CATEGORIES:2017 Cross Country Results
ORGANIZER;CN="Emily Schader":MAILTO:eschader@leyden212.org
GEO:41.914363;-87.9036794
X-APPLE-STRUCTURED-LOCATION;VALUE=URI;X-ADDRESS=Center Point Preserve 400 N. Wolf Road Northlake IL 60164 United States;X-APPLE-RADIUS=500;X-TITLE=400 N. Wolf Road:geo:-87.9036794,41.914363
END:VEVENT
BEGIN:VEVENT
DTSTART;TZID=America/Chicago:20160924T090000
DTEND;TZID=America/Chicago:20160924T120000
DTSTAMP:20260424T012402
CREATED:20160830T010256Z
LAST-MODIFIED:20160924T193016Z
UID:10000307-1474707600-1474718400@www.racetime.info
SUMMARY:West Leyden Eagle's Cross Country Invitational
DESCRIPTION:Fresh-Soph Girls & Boys Overall Results\n\nFresh-Soph Girls Team Results\n\nFresh-Soph Boys Team Results\n\nVarsity Girls & Boys Overall Results\n\nVarsity Girls Team Results\n\nVarsity Boys Team Results\n\nOpen Girls & Boys Overall Results\n\nOpen Girls Team Results\n\nOpen Boys Team Results
URL:https://www.racetime.info/event/west-leyden-eagles-cross-country-invitational/
LOCATION:Center Point Preserve\, 400 N. Wolf Road\, Northlake\, IL\, 60164\, United States
CATEGORIES:2016 Cross Country Results
ORGANIZER;CN="Emily Schader":MAILTO:eschader@leyden212.org
GEO:41.914363;-87.9036794
X-APPLE-STRUCTURED-LOCATION;VALUE=URI;X-ADDRESS=Center Point Preserve 400 N. Wolf Road Northlake IL 60164 United States;X-APPLE-RADIUS=500;X-TITLE=400 N. Wolf Road:geo:-87.9036794,41.914363
END:VEVENT
END:VCALENDAR