BEGIN:VCALENDAR
VERSION:2.0
PRODID:-//Race Time - ECPv6.15.13//NONSGML v1.0//EN
CALSCALE:GREGORIAN
METHOD:PUBLISH
X-ORIGINAL-URL:https://www.racetime.info
X-WR-CALDESC:Events for Race Time
REFRESH-INTERVAL;VALUE=DURATION:PT1H
X-Robots-Tag:noindex
X-PUBLISHED-TTL:PT1H
BEGIN:VTIMEZONE
TZID:America/Chicago
BEGIN:DAYLIGHT
TZOFFSETFROM:-0600
TZOFFSETTO:-0500
TZNAME:CDT
DTSTART:20150308T080000
END:DAYLIGHT
BEGIN:STANDARD
TZOFFSETFROM:-0500
TZOFFSETTO:-0600
TZNAME:CST
DTSTART:20151101T070000
END:STANDARD
BEGIN:DAYLIGHT
TZOFFSETFROM:-0600
TZOFFSETTO:-0500
TZNAME:CDT
DTSTART:20160313T080000
END:DAYLIGHT
BEGIN:STANDARD
TZOFFSETFROM:-0500
TZOFFSETTO:-0600
TZNAME:CST
DTSTART:20161106T070000
END:STANDARD
BEGIN:DAYLIGHT
TZOFFSETFROM:-0600
TZOFFSETTO:-0500
TZNAME:CDT
DTSTART:20170312T080000
END:DAYLIGHT
BEGIN:STANDARD
TZOFFSETFROM:-0500
TZOFFSETTO:-0600
TZNAME:CST
DTSTART:20171105T070000
END:STANDARD
END:VTIMEZONE
BEGIN:VEVENT
DTSTART;TZID=America/Chicago:20160723T073000
DTEND;TZID=America/Chicago:20160723T100000
DTSTAMP:20260423T210957
CREATED:20160512T003916Z
LAST-MODIFIED:20160726T113604Z
UID:10000654-1469259000-1469268000@www.racetime.info
SUMMARY:Guns N' Hoses 5K Run/Walk & 1K Youth Fun Run
DESCRIPTION:Guns & Hoses 5K Age Group Results\n\nGuns & Hoses 5K Overall Results
URL:https://www.racetime.info/event/guns-n-hoses-5k-runwalk-1k-youth-fun-run/
LOCATION:Christ The King Church\, 9235 S. Hamilton Avenue\, Chicago\, IL\, United States
CATEGORIES:2016-07 Results (July)
ORGANIZER;CN="Mary Agnes Zellmer":MAILTO:maz@chicagoracemanagement.com
GEO:41.7255292;-87.6761179
X-APPLE-STRUCTURED-LOCATION;VALUE=URI;X-ADDRESS=Christ The King Church 9235 S. Hamilton Avenue Chicago IL United States;X-APPLE-RADIUS=500;X-TITLE=9235 S. Hamilton Avenue:geo:-87.6761179,41.7255292
END:VEVENT
END:VCALENDAR