BEGIN:VCALENDAR
VERSION:2.0
PRODID:-//Race Time - ECPv6.15.13//NONSGML v1.0//EN
CALSCALE:GREGORIAN
METHOD:PUBLISH
X-WR-CALNAME:Race Time
X-ORIGINAL-URL:https://www.racetime.info
X-WR-CALDESC:Events for Race Time
REFRESH-INTERVAL;VALUE=DURATION:PT1H
X-Robots-Tag:noindex
X-PUBLISHED-TTL:PT1H
BEGIN:VTIMEZONE
TZID:America/Chicago
BEGIN:DAYLIGHT
TZOFFSETFROM:-0600
TZOFFSETTO:-0500
TZNAME:CDT
DTSTART:20140309T080000
END:DAYLIGHT
BEGIN:STANDARD
TZOFFSETFROM:-0500
TZOFFSETTO:-0600
TZNAME:CST
DTSTART:20141102T070000
END:STANDARD
BEGIN:DAYLIGHT
TZOFFSETFROM:-0600
TZOFFSETTO:-0500
TZNAME:CDT
DTSTART:20150308T080000
END:DAYLIGHT
BEGIN:STANDARD
TZOFFSETFROM:-0500
TZOFFSETTO:-0600
TZNAME:CST
DTSTART:20151101T070000
END:STANDARD
BEGIN:DAYLIGHT
TZOFFSETFROM:-0600
TZOFFSETTO:-0500
TZNAME:CDT
DTSTART:20160313T080000
END:DAYLIGHT
BEGIN:STANDARD
TZOFFSETFROM:-0500
TZOFFSETTO:-0600
TZNAME:CST
DTSTART:20161106T070000
END:STANDARD
BEGIN:DAYLIGHT
TZOFFSETFROM:-0600
TZOFFSETTO:-0500
TZNAME:CDT
DTSTART:20170312T080000
END:DAYLIGHT
BEGIN:STANDARD
TZOFFSETFROM:-0500
TZOFFSETTO:-0600
TZNAME:CST
DTSTART:20171105T070000
END:STANDARD
BEGIN:DAYLIGHT
TZOFFSETFROM:-0600
TZOFFSETTO:-0500
TZNAME:CDT
DTSTART:20180311T080000
END:DAYLIGHT
BEGIN:STANDARD
TZOFFSETFROM:-0500
TZOFFSETTO:-0600
TZNAME:CST
DTSTART:20181104T070000
END:STANDARD
BEGIN:DAYLIGHT
TZOFFSETFROM:-0600
TZOFFSETTO:-0500
TZNAME:CDT
DTSTART:20190310T080000
END:DAYLIGHT
BEGIN:STANDARD
TZOFFSETFROM:-0500
TZOFFSETTO:-0600
TZNAME:CST
DTSTART:20191103T070000
END:STANDARD
BEGIN:DAYLIGHT
TZOFFSETFROM:-0600
TZOFFSETTO:-0500
TZNAME:CDT
DTSTART:20200308T080000
END:DAYLIGHT
BEGIN:STANDARD
TZOFFSETFROM:-0500
TZOFFSETTO:-0600
TZNAME:CST
DTSTART:20201101T070000
END:STANDARD
END:VTIMEZONE
BEGIN:VEVENT
DTSTART;TZID=America/Chicago:20191123T090000
DTEND;TZID=America/Chicago:20191123T110000
DTSTAMP:20260424T035510
CREATED:20170621T211501Z
LAST-MODIFIED:20191123T185119Z
UID:10001503-1574499600-1574506800@www.racetime.info
SUMMARY:Gobbler Gallop 5K Run/Walk
DESCRIPTION:Waterman’s Gobbler Gallop 5K Age Group Results\n\nWaterman’s Gobbler Gallop 5K Overall Results\n\nWaterman’s Gobbler Gallop Team Results
URL:https://www.racetime.info/event/gobbler-gallop-5k-run-walk-2/
LOCATION:Clinton Township Community Center\, 160 W. Lincoln Hwy (US Route 30)\, Waterman\, IL\, 60556\, United States
CATEGORIES:2019-11 Results (November)
ORGANIZER;CN="Shawn Blobaum":MAILTO:gobblergallop@live.com
GEO:41.7716963;-88.7736942
X-APPLE-STRUCTURED-LOCATION;VALUE=URI;X-ADDRESS=Clinton Township Community Center 160 W. Lincoln Hwy (US Route 30) Waterman IL 60556 United States;X-APPLE-RADIUS=500;X-TITLE=160 W. Lincoln Hwy (US Route 30):geo:-88.7736942,41.7716963
END:VEVENT
BEGIN:VEVENT
DTSTART;TZID=America/Chicago:20181117T090000
DTEND;TZID=America/Chicago:20181117T110000
DTSTAMP:20260424T035510
CREATED:20170621T211501Z
LAST-MODIFIED:20181117T201143Z
UID:10001502-1542445200-1542452400@www.racetime.info
SUMMARY:Gobbler Gallop 5K Run/Walk
DESCRIPTION:Gobbler Gallop 5K Age Group Results\n\nGobbler Gallop 5K Overall Results\n\nGobbler Gallop Team Results
URL:https://www.racetime.info/event/gobbler-gallop-5k-run-walk/
LOCATION:Clinton Township Community Center\, 160 W. Lincoln Hwy (US Route 30)\, Waterman\, IL\, 60556\, United States
CATEGORIES:2018-11 Results (November)
ORGANIZER;CN="Shawn Blobaum":MAILTO:gobblergallop@live.com
GEO:41.7716963;-88.7736942
X-APPLE-STRUCTURED-LOCATION;VALUE=URI;X-ADDRESS=Clinton Township Community Center 160 W. Lincoln Hwy (US Route 30) Waterman IL 60556 United States;X-APPLE-RADIUS=500;X-TITLE=160 W. Lincoln Hwy (US Route 30):geo:-88.7736942,41.7716963
END:VEVENT
BEGIN:VEVENT
DTSTART;TZID=America/Chicago:20171118T090000
DTEND;TZID=America/Chicago:20171118T110000
DTSTAMP:20260424T035510
CREATED:20170621T211501Z
LAST-MODIFIED:20171118T203600Z
UID:10001501-1510995600-1511002800@www.racetime.info
SUMMARY:Gobbler Gallop 5K Run/Walk
DESCRIPTION:Gobbler Gallop 5K Age Group Results\n\nGobbler Gallop 5K Overall Results
URL:https://www.racetime.info/event/gobbler-gallop-5k-runwalk-3/
LOCATION:Clinton Township Community Center\, 160 W. Lincoln Hwy (US Route 30)\, Waterman\, IL\, 60556\, United States
CATEGORIES:2017-11 Results (November)
ORGANIZER;CN="Shawn Blobaum":MAILTO:gobblergallop@live.com
GEO:41.7716963;-88.7736942
X-APPLE-STRUCTURED-LOCATION;VALUE=URI;X-ADDRESS=Clinton Township Community Center 160 W. Lincoln Hwy (US Route 30) Waterman IL 60556 United States;X-APPLE-RADIUS=500;X-TITLE=160 W. Lincoln Hwy (US Route 30):geo:-88.7736942,41.7716963
END:VEVENT
BEGIN:VEVENT
DTSTART;TZID=America/Chicago:20161119T090000
DTEND;TZID=America/Chicago:20161119T110000
DTSTAMP:20260424T035510
CREATED:20160419T000459Z
LAST-MODIFIED:20161119T184156Z
UID:10000235-1479546000-1479553200@www.racetime.info
SUMMARY:Gobbler Gallop 5K Run/Walk
DESCRIPTION:Gobbler Gallop 5K Age Group Results\n\nGobbler Gallop 5K Overall Results\n\nGobbler Gallop Team Results
URL:https://www.racetime.info/event/gobbler-gallop-5k-runwalk-2/
LOCATION:Clinton Township Community Center\, 160 W. Lincoln Hwy (US Route 30)\, Waterman\, IL\, 60556\, United States
CATEGORIES:2016-11 Results (November)
ORGANIZER;CN="Karen Fenske":MAILTO:gobblergallop@live.com
GEO:41.7716963;-88.7736942
X-APPLE-STRUCTURED-LOCATION;VALUE=URI;X-ADDRESS=Clinton Township Community Center 160 W. Lincoln Hwy (US Route 30) Waterman IL 60556 United States;X-APPLE-RADIUS=500;X-TITLE=160 W. Lincoln Hwy (US Route 30):geo:-88.7736942,41.7716963
END:VEVENT
BEGIN:VEVENT
DTSTART;TZID=America/Chicago:20151121T090000
DTEND;TZID=America/Chicago:20151121T110000
DTSTAMP:20260424T035510
CREATED:20150829T024402Z
LAST-MODIFIED:20151121T183513Z
UID:10000113-1448096400-1448103600@www.racetime.info
SUMMARY:Gobbler Gallop 5K Run/Walk
DESCRIPTION:Gobbler Gallop 5K Age Group Results\n\nGobbler Gallop 5K Overall Results
URL:https://www.racetime.info/event/gobbler-gallop-5k-runwalk/
LOCATION:Clinton Township Community Center\, 160 W. Lincoln Hwy (US Route 30)\, Waterman\, IL\, 60556\, United States
CATEGORIES:2015-11 Results (November)
ORGANIZER;CN="Karen Fenske":MAILTO:gobblergallop@live.com
GEO:41.7716963;-88.7736942
X-APPLE-STRUCTURED-LOCATION;VALUE=URI;X-ADDRESS=Clinton Township Community Center 160 W. Lincoln Hwy (US Route 30) Waterman IL 60556 United States;X-APPLE-RADIUS=500;X-TITLE=160 W. Lincoln Hwy (US Route 30):geo:-88.7736942,41.7716963
END:VEVENT
END:VCALENDAR