BEGIN:VCALENDAR
VERSION:2.0
PRODID:-//Race Time - ECPv6.15.13//NONSGML v1.0//EN
CALSCALE:GREGORIAN
METHOD:PUBLISH
X-ORIGINAL-URL:https://www.racetime.info
X-WR-CALDESC:Events for Race Time
REFRESH-INTERVAL;VALUE=DURATION:PT1H
X-Robots-Tag:noindex
X-PUBLISHED-TTL:PT1H
BEGIN:VTIMEZONE
TZID:America/Chicago
BEGIN:DAYLIGHT
TZOFFSETFROM:-0600
TZOFFSETTO:-0500
TZNAME:CDT
DTSTART:20160313T080000
END:DAYLIGHT
BEGIN:STANDARD
TZOFFSETFROM:-0500
TZOFFSETTO:-0600
TZNAME:CST
DTSTART:20161106T070000
END:STANDARD
BEGIN:DAYLIGHT
TZOFFSETFROM:-0600
TZOFFSETTO:-0500
TZNAME:CDT
DTSTART:20170312T080000
END:DAYLIGHT
BEGIN:STANDARD
TZOFFSETFROM:-0500
TZOFFSETTO:-0600
TZNAME:CST
DTSTART:20171105T070000
END:STANDARD
BEGIN:DAYLIGHT
TZOFFSETFROM:-0600
TZOFFSETTO:-0500
TZNAME:CDT
DTSTART:20180311T080000
END:DAYLIGHT
BEGIN:STANDARD
TZOFFSETFROM:-0500
TZOFFSETTO:-0600
TZNAME:CST
DTSTART:20181104T070000
END:STANDARD
END:VTIMEZONE
BEGIN:VEVENT
DTSTART;TZID=America/Chicago:20171017T160000
DTEND;TZID=America/Chicago:20171017T180000
DTSTAMP:20260424T053606
CREATED:20170913T190834Z
LAST-MODIFIED:20171018T032704Z
UID:10001667-1508256000-1508263200@www.racetime.info
SUMMARY:NPC Conference Cross Country Meet
DESCRIPTION:NPC Conference 7th Grade Girls Overall Results\n\nNPC Conference 7th Grade Girls Team Results\n\nNPC Conference 7th Grade Boys Overall Results\n\nNPC Conference 7th Grade Boys Team Results\n\nNPC Conference 8th Grade Girls Overall Results\n\nNPC Conference 8th Grade Girls Team Results\n\nNPC Conference 8th Grade Boys Overall Results\n\nNPC Conference 8th Grade Boys Team Results
URL:https://www.racetime.info/event/npc-conference-cross-country-meet/
LOCATION:Commissioner’s Park Naperville\, 3704 111th Street\, Naperville\, IL\, 60564\, United States
CATEGORIES:2017 Cross Country Results
ORGANIZER;CN="Kevin Cox":MAILTO:kevin_cox@ipsd.org
GEO:41.6784202;-88.2181204
X-APPLE-STRUCTURED-LOCATION;VALUE=URI;X-ADDRESS=Commissioner’s Park Naperville 3704 111th Street Naperville IL 60564 United States;X-APPLE-RADIUS=500;X-TITLE=3704 111th Street:geo:-88.2181204,41.6784202
END:VEVENT
END:VCALENDAR