BEGIN:VCALENDAR
VERSION:2.0
PRODID:-//Race Time - ECPv6.15.13//NONSGML v1.0//EN
CALSCALE:GREGORIAN
METHOD:PUBLISH
X-ORIGINAL-URL:https://www.racetime.info
X-WR-CALDESC:Events for Race Time
REFRESH-INTERVAL;VALUE=DURATION:PT1H
X-Robots-Tag:noindex
X-PUBLISHED-TTL:PT1H
BEGIN:VTIMEZONE
TZID:America/Chicago
BEGIN:DAYLIGHT
TZOFFSETFROM:-0600
TZOFFSETTO:-0500
TZNAME:CDT
DTSTART:20150308T080000
END:DAYLIGHT
BEGIN:STANDARD
TZOFFSETFROM:-0500
TZOFFSETTO:-0600
TZNAME:CST
DTSTART:20151101T070000
END:STANDARD
BEGIN:DAYLIGHT
TZOFFSETFROM:-0600
TZOFFSETTO:-0500
TZNAME:CDT
DTSTART:20160313T080000
END:DAYLIGHT
BEGIN:STANDARD
TZOFFSETFROM:-0500
TZOFFSETTO:-0600
TZNAME:CST
DTSTART:20161106T070000
END:STANDARD
BEGIN:DAYLIGHT
TZOFFSETFROM:-0600
TZOFFSETTO:-0500
TZNAME:CDT
DTSTART:20170312T080000
END:DAYLIGHT
BEGIN:STANDARD
TZOFFSETFROM:-0500
TZOFFSETTO:-0600
TZNAME:CST
DTSTART:20171105T070000
END:STANDARD
BEGIN:DAYLIGHT
TZOFFSETFROM:-0600
TZOFFSETTO:-0500
TZNAME:CDT
DTSTART:20180311T080000
END:DAYLIGHT
BEGIN:STANDARD
TZOFFSETFROM:-0500
TZOFFSETTO:-0600
TZNAME:CST
DTSTART:20181104T070000
END:STANDARD
BEGIN:DAYLIGHT
TZOFFSETFROM:-0600
TZOFFSETTO:-0500
TZNAME:CDT
DTSTART:20190310T080000
END:DAYLIGHT
BEGIN:STANDARD
TZOFFSETFROM:-0500
TZOFFSETTO:-0600
TZNAME:CST
DTSTART:20191103T070000
END:STANDARD
BEGIN:DAYLIGHT
TZOFFSETFROM:-0600
TZOFFSETTO:-0500
TZNAME:CDT
DTSTART:20200308T080000
END:DAYLIGHT
BEGIN:STANDARD
TZOFFSETFROM:-0500
TZOFFSETTO:-0600
TZNAME:CST
DTSTART:20201101T070000
END:STANDARD
BEGIN:DAYLIGHT
TZOFFSETFROM:-0600
TZOFFSETTO:-0500
TZNAME:CDT
DTSTART:20210314T080000
END:DAYLIGHT
BEGIN:STANDARD
TZOFFSETFROM:-0500
TZOFFSETTO:-0600
TZNAME:CST
DTSTART:20211107T070000
END:STANDARD
BEGIN:DAYLIGHT
TZOFFSETFROM:-0600
TZOFFSETTO:-0500
TZNAME:CDT
DTSTART:20220313T080000
END:DAYLIGHT
BEGIN:STANDARD
TZOFFSETFROM:-0500
TZOFFSETTO:-0600
TZNAME:CST
DTSTART:20221106T070000
END:STANDARD
BEGIN:DAYLIGHT
TZOFFSETFROM:-0600
TZOFFSETTO:-0500
TZNAME:CDT
DTSTART:20230312T080000
END:DAYLIGHT
BEGIN:STANDARD
TZOFFSETFROM:-0500
TZOFFSETTO:-0600
TZNAME:CST
DTSTART:20231105T070000
END:STANDARD
BEGIN:DAYLIGHT
TZOFFSETFROM:-0600
TZOFFSETTO:-0500
TZNAME:CDT
DTSTART:20240310T080000
END:DAYLIGHT
BEGIN:STANDARD
TZOFFSETFROM:-0500
TZOFFSETTO:-0600
TZNAME:CST
DTSTART:20241103T070000
END:STANDARD
BEGIN:DAYLIGHT
TZOFFSETFROM:-0600
TZOFFSETTO:-0500
TZNAME:CDT
DTSTART:20250309T080000
END:DAYLIGHT
BEGIN:STANDARD
TZOFFSETFROM:-0500
TZOFFSETTO:-0600
TZNAME:CST
DTSTART:20251102T070000
END:STANDARD
BEGIN:DAYLIGHT
TZOFFSETFROM:-0600
TZOFFSETTO:-0500
TZNAME:CDT
DTSTART:20260308T080000
END:DAYLIGHT
BEGIN:STANDARD
TZOFFSETFROM:-0500
TZOFFSETTO:-0600
TZNAME:CST
DTSTART:20261101T070000
END:STANDARD
END:VTIMEZONE
BEGIN:VEVENT
DTSTART;TZID=America/Chicago:20250220T084500
DTEND;TZID=America/Chicago:20250220T150000
DTSTAMP:20260424T012536
CREATED:20250127T203747Z
LAST-MODIFIED:20250201T004220Z
UID:10002239-1740041100-1740063600@www.racetime.info
SUMMARY:Race Director Seminar/Workshop
DESCRIPTION:
URL:https://www.racetime.info/event/race-director-seminar-workshop/
LOCATION:Crowne Plaza Hotel\, 1250 Roosevelt Road\, Glen Ellyn\, IL\, 60137\, United States
ORGANIZER;CN="Julie Pearson":MAILTO:racetime21@hotmail.com
GEO:41.8603269;-88.0284935
X-APPLE-STRUCTURED-LOCATION;VALUE=URI;X-ADDRESS=Crowne Plaza Hotel 1250 Roosevelt Road Glen Ellyn IL 60137 United States;X-APPLE-RADIUS=500;X-TITLE=1250 Roosevelt Road:geo:-88.0284935,41.8603269
END:VEVENT
BEGIN:VEVENT
DTSTART;TZID=America/Chicago:20190214T084500
DTEND;TZID=America/Chicago:20190214T150000
DTSTAMP:20260424T012536
CREATED:20171211T012350Z
LAST-MODIFIED:20190111T130908Z
UID:10001706-1550133900-1550156400@www.racetime.info
SUMMARY:Race Time's Race Director's Seminar
DESCRIPTION:
URL:https://www.racetime.info/event/race-times-race-directors-seminar/
LOCATION:Crowne Plaza Hotel\, 1250 Roosevelt Road\, Glen Ellyn\, IL\, 60137\, United States
ORGANIZER;CN="Julie Pearson":MAILTO:racetime21@hotmail.com
GEO:41.8603269;-88.0284935
X-APPLE-STRUCTURED-LOCATION;VALUE=URI;X-ADDRESS=Crowne Plaza Hotel 1250 Roosevelt Road Glen Ellyn IL 60137 United States;X-APPLE-RADIUS=500;X-TITLE=1250 Roosevelt Road:geo:-88.0284935,41.8603269
END:VEVENT
BEGIN:VEVENT
DTSTART;TZID=America/Chicago:20180222T084500
DTEND;TZID=America/Chicago:20180222T150000
DTSTAMP:20260424T012536
CREATED:20171211T012350Z
LAST-MODIFIED:20180104T133218Z
UID:10001705-1519289100-1519311600@www.racetime.info
SUMMARY:Launch 2018!  Race Time's Race Director's Seminar
DESCRIPTION:
URL:https://www.racetime.info/event/launch-2018-race-times-race-directors-seminar/
LOCATION:Crowne Plaza Hotel\, 1250 Roosevelt Road\, Glen Ellyn\, IL\, 60137\, United States
ORGANIZER;CN="Julie Pearson":MAILTO:racetime21@hotmail.com
GEO:41.8603269;-88.0284935
X-APPLE-STRUCTURED-LOCATION;VALUE=URI;X-ADDRESS=Crowne Plaza Hotel 1250 Roosevelt Road Glen Ellyn IL 60137 United States;X-APPLE-RADIUS=500;X-TITLE=1250 Roosevelt Road:geo:-88.0284935,41.8603269
END:VEVENT
BEGIN:VEVENT
DTSTART;TZID=America/Chicago:20160205T090000
DTEND;TZID=America/Chicago:20160205T160000
DTSTAMP:20260424T012536
CREATED:20160104T220915Z
LAST-MODIFIED:20160104T220915Z
UID:10000155-1454662800-1454688000@www.racetime.info
SUMMARY:Race Directors Seminar
DESCRIPTION:
URL:https://www.racetime.info/event/race-directors-seminar/
LOCATION:Crowne Plaza Hotel\, 1250 Roosevelt Road\, Glen Ellyn\, IL\, 60137\, United States
ORGANIZER;CN="Julie Pearson":MAILTO:racetime21@hotmail.com
GEO:41.8603269;-88.0284935
X-APPLE-STRUCTURED-LOCATION;VALUE=URI;X-ADDRESS=Crowne Plaza Hotel 1250 Roosevelt Road Glen Ellyn IL 60137 United States;X-APPLE-RADIUS=500;X-TITLE=1250 Roosevelt Road:geo:-88.0284935,41.8603269
END:VEVENT
END:VCALENDAR