BEGIN:VCALENDAR
VERSION:2.0
PRODID:-//Race Time - ECPv6.15.13//NONSGML v1.0//EN
CALSCALE:GREGORIAN
METHOD:PUBLISH
X-ORIGINAL-URL:https://www.racetime.info
X-WR-CALDESC:Events for Race Time
REFRESH-INTERVAL;VALUE=DURATION:PT1H
X-Robots-Tag:noindex
X-PUBLISHED-TTL:PT1H
BEGIN:VTIMEZONE
TZID:America/Chicago
BEGIN:DAYLIGHT
TZOFFSETFROM:-0600
TZOFFSETTO:-0500
TZNAME:CDT
DTSTART:20140309T080000
END:DAYLIGHT
BEGIN:STANDARD
TZOFFSETFROM:-0500
TZOFFSETTO:-0600
TZNAME:CST
DTSTART:20141102T070000
END:STANDARD
BEGIN:DAYLIGHT
TZOFFSETFROM:-0600
TZOFFSETTO:-0500
TZNAME:CDT
DTSTART:20150308T080000
END:DAYLIGHT
BEGIN:STANDARD
TZOFFSETFROM:-0500
TZOFFSETTO:-0600
TZNAME:CST
DTSTART:20151101T070000
END:STANDARD
BEGIN:DAYLIGHT
TZOFFSETFROM:-0600
TZOFFSETTO:-0500
TZNAME:CDT
DTSTART:20160313T080000
END:DAYLIGHT
BEGIN:STANDARD
TZOFFSETFROM:-0500
TZOFFSETTO:-0600
TZNAME:CST
DTSTART:20161106T070000
END:STANDARD
BEGIN:DAYLIGHT
TZOFFSETFROM:-0600
TZOFFSETTO:-0500
TZNAME:CDT
DTSTART:20170312T080000
END:DAYLIGHT
BEGIN:STANDARD
TZOFFSETFROM:-0500
TZOFFSETTO:-0600
TZNAME:CST
DTSTART:20171105T070000
END:STANDARD
BEGIN:DAYLIGHT
TZOFFSETFROM:-0600
TZOFFSETTO:-0500
TZNAME:CDT
DTSTART:20180311T080000
END:DAYLIGHT
BEGIN:STANDARD
TZOFFSETFROM:-0500
TZOFFSETTO:-0600
TZNAME:CST
DTSTART:20181104T070000
END:STANDARD
BEGIN:DAYLIGHT
TZOFFSETFROM:-0600
TZOFFSETTO:-0500
TZNAME:CDT
DTSTART:20190310T080000
END:DAYLIGHT
BEGIN:STANDARD
TZOFFSETFROM:-0500
TZOFFSETTO:-0600
TZNAME:CST
DTSTART:20191103T070000
END:STANDARD
BEGIN:DAYLIGHT
TZOFFSETFROM:-0600
TZOFFSETTO:-0500
TZNAME:CDT
DTSTART:20200308T080000
END:DAYLIGHT
BEGIN:STANDARD
TZOFFSETFROM:-0500
TZOFFSETTO:-0600
TZNAME:CST
DTSTART:20201101T070000
END:STANDARD
BEGIN:DAYLIGHT
TZOFFSETFROM:-0600
TZOFFSETTO:-0500
TZNAME:CDT
DTSTART:20210314T080000
END:DAYLIGHT
BEGIN:STANDARD
TZOFFSETFROM:-0500
TZOFFSETTO:-0600
TZNAME:CST
DTSTART:20211107T070000
END:STANDARD
BEGIN:DAYLIGHT
TZOFFSETFROM:-0600
TZOFFSETTO:-0500
TZNAME:CDT
DTSTART:20220313T080000
END:DAYLIGHT
BEGIN:STANDARD
TZOFFSETFROM:-0500
TZOFFSETTO:-0600
TZNAME:CST
DTSTART:20221106T070000
END:STANDARD
BEGIN:DAYLIGHT
TZOFFSETFROM:-0600
TZOFFSETTO:-0500
TZNAME:CDT
DTSTART:20230312T080000
END:DAYLIGHT
BEGIN:STANDARD
TZOFFSETFROM:-0500
TZOFFSETTO:-0600
TZNAME:CST
DTSTART:20231105T070000
END:STANDARD
BEGIN:DAYLIGHT
TZOFFSETFROM:-0600
TZOFFSETTO:-0500
TZNAME:CDT
DTSTART:20240310T080000
END:DAYLIGHT
BEGIN:STANDARD
TZOFFSETFROM:-0500
TZOFFSETTO:-0600
TZNAME:CST
DTSTART:20241103T070000
END:STANDARD
BEGIN:DAYLIGHT
TZOFFSETFROM:-0600
TZOFFSETTO:-0500
TZNAME:CDT
DTSTART:20250309T080000
END:DAYLIGHT
BEGIN:STANDARD
TZOFFSETFROM:-0500
TZOFFSETTO:-0600
TZNAME:CST
DTSTART:20251102T070000
END:STANDARD
BEGIN:DAYLIGHT
TZOFFSETFROM:-0600
TZOFFSETTO:-0500
TZNAME:CDT
DTSTART:20260308T080000
END:DAYLIGHT
BEGIN:STANDARD
TZOFFSETFROM:-0500
TZOFFSETTO:-0600
TZNAME:CST
DTSTART:20261101T070000
END:STANDARD
END:VTIMEZONE
BEGIN:VEVENT
DTSTART;TZID=America/Chicago:20250928T090000
DTEND;TZID=America/Chicago:20250929T103000
DTSTAMP:20260423T194307
CREATED:20250820T124654Z
LAST-MODIFIED:20250928T182158Z
UID:10002424-1759050000-1759141800@www.racetime.info
SUMMARY:Inside Out Club 5K Run/Walk
DESCRIPTION:Inside Out 5K Age Group Results\n\nInside Out 5K Overall Results
URL:https://www.racetime.info/event/inside-out-club-5k-run-walk-3/
LOCATION:Danada Forest Preserve\, 3S580 Naperville Road\, Wheaton\, IL\, 60187\, United States
CATEGORIES:2025-09 Results (September)
ORGANIZER;CN="Marion Ruthig":MAILTO:marion@isupportcommunity.org
GEO:41.819072;-88.1124109
X-APPLE-STRUCTURED-LOCATION;VALUE=URI;X-ADDRESS=Danada Forest Preserve 3S580 Naperville Road Wheaton IL 60187 United States;X-APPLE-RADIUS=500;X-TITLE=3S580 Naperville Road:geo:-88.1124109,41.819072
END:VEVENT
BEGIN:VEVENT
DTSTART;TZID=America/Chicago:20250927T090000
DTEND;TZID=America/Chicago:20250927T110000
DTSTAMP:20260423T194307
CREATED:20250820T123608Z
LAST-MODIFIED:20250927T165009Z
UID:10002421-1758963600-1758970800@www.racetime.info
SUMMARY:Chick-Fil-A 5K Run/Walk
DESCRIPTION:Chick Fil A 5K Age Group Results\n\nChick Fil A 5K Overall Results
URL:https://www.racetime.info/event/chick-fil-a-5k-run-walk/
LOCATION:Danada Forest Preserve\, 3S580 Naperville Road\, Wheaton\, IL\, 60187\, United States
CATEGORIES:2025-09 Results (September)
ORGANIZER;CN="Mary Agnes Zellmer":MAILTO:maz@chicagoracemanagement.com
GEO:41.819072;-88.1124109
X-APPLE-STRUCTURED-LOCATION;VALUE=URI;X-ADDRESS=Danada Forest Preserve 3S580 Naperville Road Wheaton IL 60187 United States;X-APPLE-RADIUS=500;X-TITLE=3S580 Naperville Road:geo:-88.1124109,41.819072
END:VEVENT
BEGIN:VEVENT
DTSTART;TZID=America/Chicago:20250608T090000
DTEND;TZID=America/Chicago:20250608T110000
DTSTAMP:20260423T194307
CREATED:20250406T141014Z
LAST-MODIFIED:20250608T171132Z
UID:10002334-1749373200-1749380400@www.racetime.info
SUMMARY:Happy Feet Healthy Heart 5K Run/Walk
DESCRIPTION:Happy Feet 5K Age Group Results\n\nHappy Feet 5K Overall Results
URL:https://www.racetime.info/event/happy-feet-healthy-heart-5k-run-walk-3/
LOCATION:Danada Forest Preserve\, 3S580 Naperville Road\, Wheaton\, IL\, 60187\, United States
CATEGORIES:2025-06 Results (June)
ORGANIZER;CN="Vimi Shukla":MAILTO:vimishukla1981@gmail.com
GEO:41.819072;-88.1124109
X-APPLE-STRUCTURED-LOCATION;VALUE=URI;X-ADDRESS=Danada Forest Preserve 3S580 Naperville Road Wheaton IL 60187 United States;X-APPLE-RADIUS=500;X-TITLE=3S580 Naperville Road:geo:-88.1124109,41.819072
END:VEVENT
BEGIN:VEVENT
DTSTART;TZID=America/Chicago:20240922T090000
DTEND;TZID=America/Chicago:20240922T103000
DTSTAMP:20260423T194307
CREATED:20170308T123621Z
LAST-MODIFIED:20240606T122047Z
UID:10000473-1726995600-1727001000@www.racetime.info
SUMMARY:Inside Out Club 5K Run/Walk
DESCRIPTION:
URL:https://www.racetime.info/event/copy-of-inside-out-club-5k-run-walk-3/
LOCATION:Danada Forest Preserve\, 3S580 Naperville Road\, Wheaton\, IL\, 60187\, United States
ORGANIZER;CN="Marion Ruthig":MAILTO:marion@isupportcommunity.org
GEO:41.819072;-88.1124109
X-APPLE-STRUCTURED-LOCATION;VALUE=URI;X-ADDRESS=Danada Forest Preserve 3S580 Naperville Road Wheaton IL 60187 United States;X-APPLE-RADIUS=500;X-TITLE=3S580 Naperville Road:geo:-88.1124109,41.819072
END:VEVENT
BEGIN:VEVENT
DTSTART;TZID=America/Chicago:20230924T090000
DTEND;TZID=America/Chicago:20230925T103000
DTSTAMP:20260423T194307
CREATED:20170308T123621Z
LAST-MODIFIED:20230924T174455Z
UID:10000471-1695546000-1695637800@www.racetime.info
SUMMARY:Inside Out Club 5K Run/Walk
DESCRIPTION:Inside Out 5K Age Group Results\n\nInside Out 5K Overall Results\n\nInside Out Team Results
URL:https://www.racetime.info/event/copy-of-inside-out-club-5k-run-walk-2/
LOCATION:Danada Forest Preserve\, 3S580 Naperville Road\, Wheaton\, IL\, 60187\, United States
CATEGORIES:2023-09 Results (September)
ORGANIZER;CN="Marion Ruthig":MAILTO:marion@isupportcommunity.org
GEO:41.819072;-88.1124109
X-APPLE-STRUCTURED-LOCATION;VALUE=URI;X-ADDRESS=Danada Forest Preserve 3S580 Naperville Road Wheaton IL 60187 United States;X-APPLE-RADIUS=500;X-TITLE=3S580 Naperville Road:geo:-88.1124109,41.819072
END:VEVENT
BEGIN:VEVENT
DTSTART;TZID=America/Chicago:20220925T090000
DTEND;TZID=America/Chicago:20220926T103000
DTSTAMP:20260423T194307
CREATED:20170308T123621Z
LAST-MODIFIED:20220925T174950Z
UID:10000469-1664096400-1664188200@www.racetime.info
SUMMARY:Inside Out Club 5K Run/Walk
DESCRIPTION:Inside Out Club 5K Age Group Results\n\nInside Out Club 5K Overall Results\n\nInside Out Club Team Results
URL:https://www.racetime.info/event/copy-of-inside-out-club-5k-run-walk/
LOCATION:Danada Forest Preserve\, 3S580 Naperville Road\, Wheaton\, IL\, 60187\, United States
CATEGORIES:2022-09 Results (September)
ORGANIZER;CN="Marion Ruthig":MAILTO:marion@isupportcommunity.org
GEO:41.819072;-88.1124109
X-APPLE-STRUCTURED-LOCATION;VALUE=URI;X-ADDRESS=Danada Forest Preserve 3S580 Naperville Road Wheaton IL 60187 United States;X-APPLE-RADIUS=500;X-TITLE=3S580 Naperville Road:geo:-88.1124109,41.819072
END:VEVENT
BEGIN:VEVENT
DTSTART;TZID=America/Chicago:20210926T080000
DTEND;TZID=America/Chicago:20210926T100000
DTSTAMP:20260423T194307
CREATED:20170308T123621Z
LAST-MODIFIED:20210926T193105Z
UID:10000468-1632643200-1632650400@www.racetime.info
SUMMARY:Inside Out Club 5K Run/Walk
DESCRIPTION:Inside Out Club 5K Age Group\n\nInside Out Club 5K Overall Results
URL:https://www.racetime.info/event/inside-out-club-5k-run-walk-2/
LOCATION:Danada Forest Preserve\, 3S580 Naperville Road\, Wheaton\, IL\, 60187\, United States
CATEGORIES:2021-09 Results (September)
ORGANIZER;CN="Marion Ruthig":MAILTO:marion@isupportcommunity.org
GEO:41.819072;-88.1124109
X-APPLE-STRUCTURED-LOCATION;VALUE=URI;X-ADDRESS=Danada Forest Preserve 3S580 Naperville Road Wheaton IL 60187 United States;X-APPLE-RADIUS=500;X-TITLE=3S580 Naperville Road:geo:-88.1124109,41.819072
END:VEVENT
BEGIN:VEVENT
DTSTART;TZID=America/Chicago:20200321T080000
DTEND;TZID=America/Chicago:20200321T100000
DTSTAMP:20260423T194307
CREATED:20200304T130604Z
LAST-MODIFIED:20200316T201550Z
UID:10001948-1584777600-1584784800@www.racetime.info
SUMMARY:Leprechaun Lane 5K & 10K - POSTPONED
DESCRIPTION:
URL:https://www.racetime.info/event/leprechaun-lane-5k-10k/
LOCATION:Danada Forest Preserve\, 3S580 Naperville Road\, Wheaton\, IL\, 60187\, United States
ORGANIZER;CN="Julie Pearson":MAILTO:racetime21@hotmail.com
GEO:41.819072;-88.1124109
X-APPLE-STRUCTURED-LOCATION;VALUE=URI;X-ADDRESS=Danada Forest Preserve 3S580 Naperville Road Wheaton IL 60187 United States;X-APPLE-RADIUS=500;X-TITLE=3S580 Naperville Road:geo:-88.1124109,41.819072
END:VEVENT
BEGIN:VEVENT
DTSTART;TZID=America/Chicago:20191110T080000
DTEND;TZID=America/Chicago:20191110T100000
DTSTAMP:20260423T194307
CREATED:20170308T123621Z
LAST-MODIFIED:20191110T171013Z
UID:10000467-1573372800-1573380000@www.racetime.info
SUMMARY:Inside Out Club 5K Run/Walk
DESCRIPTION:Inside Out Club 5K Age Group Results\n\nInside Out Club 5K Overall Results\n\nInside Out Club Team Results
URL:https://www.racetime.info/event/inside-out-club-5k-run-walk/
LOCATION:Danada Forest Preserve\, 3S580 Naperville Road\, Wheaton\, IL\, 60187\, United States
CATEGORIES:2019-11 Results (November)
ORGANIZER;CN="Marion Ruthig":MAILTO:marion@isupportcommunity.org
GEO:41.819072;-88.1124109
X-APPLE-STRUCTURED-LOCATION;VALUE=URI;X-ADDRESS=Danada Forest Preserve 3S580 Naperville Road Wheaton IL 60187 United States;X-APPLE-RADIUS=500;X-TITLE=3S580 Naperville Road:geo:-88.1124109,41.819072
END:VEVENT
BEGIN:VEVENT
DTSTART;TZID=America/Chicago:20180930T080000
DTEND;TZID=America/Chicago:20180930T100000
DTSTAMP:20260423T194307
CREATED:20170308T123621Z
LAST-MODIFIED:20181001T120907Z
UID:10000466-1538294400-1538301600@www.racetime.info
SUMMARY:Inside Out Club 5K Run/Walk
DESCRIPTION:Inside Out Club 5K Age Group Results\n\nInside Out Club 5K Overall Results\n\nInside Out Club Team Results
URL:https://www.racetime.info/event/i-support-community-represent-5k-run-walk-kids-dash/
LOCATION:Danada Forest Preserve\, 3S580 Naperville Road\, Wheaton\, IL\, 60187\, United States
CATEGORIES:2018-09 Results (September)
ORGANIZER;CN="Marion Ruthig":MAILTO:marion@isupportcommunity.org
GEO:41.819072;-88.1124109
X-APPLE-STRUCTURED-LOCATION;VALUE=URI;X-ADDRESS=Danada Forest Preserve 3S580 Naperville Road Wheaton IL 60187 United States;X-APPLE-RADIUS=500;X-TITLE=3S580 Naperville Road:geo:-88.1124109,41.819072
END:VEVENT
BEGIN:VEVENT
DTSTART;TZID=America/Chicago:20180811T084500
DTEND;TZID=America/Chicago:20180811T103000
DTSTAMP:20260423T194307
CREATED:20170220T175917Z
LAST-MODIFIED:20180811T170937Z
UID:10001048-1533977100-1533983400@www.racetime.info
SUMMARY:ECFA's 5K4Kids Run/Walk & Kids 1/2 Mile Fun Run
DESCRIPTION:ECFA Run4Kids 5K Age Group Results\n\nECFA Run4Kids 5K Overall Results
URL:https://www.racetime.info/event/ecfas-5k4kids-run-walk-kids-1-2-mile-fun-run/
LOCATION:Danada Forest Preserve\, 3S580 Naperville Road\, Wheaton\, IL\, 60187\, United States
CATEGORIES:2018-08 Results (August)
ORGANIZER;CN="Odette Navarro":MAILTO:5k4kids@evancfa.org
GEO:41.819072;-88.1124109
X-APPLE-STRUCTURED-LOCATION;VALUE=URI;X-ADDRESS=Danada Forest Preserve 3S580 Naperville Road Wheaton IL 60187 United States;X-APPLE-RADIUS=500;X-TITLE=3S580 Naperville Road:geo:-88.1124109,41.819072
END:VEVENT
BEGIN:VEVENT
DTSTART;TZID=America/Chicago:20180513T080000
DTEND;TZID=America/Chicago:20180513T100000
DTSTAMP:20260423T194307
CREATED:20180309T180433Z
LAST-MODIFIED:20180513T164141Z
UID:10001754-1526198400-1526205600@www.racetime.info
SUMMARY:Run For Our Sons Mother's Day 5K Run/Walk
DESCRIPTION:Run For Our Sons 5K Overall Results
URL:https://www.racetime.info/event/run-for-our-sons-5k-run-walk/
LOCATION:Danada Forest Preserve\, 3S580 Naperville Road\, Wheaton\, IL\, 60187\, United States
CATEGORIES:2018-05 Results (May)
ORGANIZER;CN="Louise Crow Arnold":MAILTO:louieusa2015@gmail.com
GEO:41.819072;-88.1124109
X-APPLE-STRUCTURED-LOCATION;VALUE=URI;X-ADDRESS=Danada Forest Preserve 3S580 Naperville Road Wheaton IL 60187 United States;X-APPLE-RADIUS=500;X-TITLE=3S580 Naperville Road:geo:-88.1124109,41.819072
END:VEVENT
BEGIN:VEVENT
DTSTART;TZID=America/Chicago:20170924T080000
DTEND;TZID=America/Chicago:20170924T100000
DTSTAMP:20260423T194307
CREATED:20170308T123621Z
LAST-MODIFIED:20170924T204018Z
UID:10000464-1506240000-1506247200@www.racetime.info
SUMMARY:I Support Community: Represent 5K Run/Walk & Kids Dash
DESCRIPTION:Represent 5K Age Group Results\n\nRepresent 5K Overall Results\n\nRepresent 5K Team Results
URL:https://www.racetime.info/event/i-support-community-represent-5k-runwalk-kids-dash/
LOCATION:Danada Forest Preserve\, 3S580 Naperville Road\, Wheaton\, IL\, 60187\, United States
CATEGORIES:2017-09 Results (September)
ORGANIZER;CN="Marion Ruthig":MAILTO:marion@isupportcommunity.org
GEO:41.819072;-88.1124109
X-APPLE-STRUCTURED-LOCATION;VALUE=URI;X-ADDRESS=Danada Forest Preserve 3S580 Naperville Road Wheaton IL 60187 United States;X-APPLE-RADIUS=500;X-TITLE=3S580 Naperville Road:geo:-88.1124109,41.819072
END:VEVENT
BEGIN:VEVENT
DTSTART;TZID=America/Chicago:20170826T100000
DTEND;TZID=America/Chicago:20170826T100000
DTSTAMP:20260423T194307
CREATED:20170609T210521Z
LAST-MODIFIED:20170826T182152Z
UID:10000634-1503741600-1503741600@www.racetime.info
SUMMARY:Uskana 5K Run/Walk
DESCRIPTION:Uskana 5K Age Group Results\n\nUskana 5K Overall Results
URL:https://www.racetime.info/event/uskana-5k-runwalk/
LOCATION:Danada Forest Preserve\, 3S580 Naperville Road\, Wheaton\, IL\, 60187\, United States
CATEGORIES:2017-08 Results (August)
ORGANIZER;CN="Florim Zendeli":MAILTO:florim.zendeli@gmail.com
GEO:41.819072;-88.1124109
X-APPLE-STRUCTURED-LOCATION;VALUE=URI;X-ADDRESS=Danada Forest Preserve 3S580 Naperville Road Wheaton IL 60187 United States;X-APPLE-RADIUS=500;X-TITLE=3S580 Naperville Road:geo:-88.1124109,41.819072
END:VEVENT
BEGIN:VEVENT
DTSTART;TZID=America/Chicago:20170820T080000
DTEND;TZID=America/Chicago:20170820T100000
DTSTAMP:20260423T194307
CREATED:20170404T132314Z
LAST-MODIFIED:20170822T190005Z
UID:10000526-1503216000-1503223200@www.racetime.info
SUMMARY:Windrunner 10K Run
DESCRIPTION:Windrunner’s 10K Age Group Results\n\nWindrunner’s 10K Overall Results
URL:https://www.racetime.info/event/windrunner-10k-run-2/
LOCATION:Danada Forest Preserve\, 3S580 Naperville Road\, Wheaton\, IL\, 60187\, United States
CATEGORIES:2017-08 Results (August)
ORGANIZER;CN="Bill Bollinger":MAILTO:windrunner.race.director@gmail.com
GEO:41.819072;-88.1124109
X-APPLE-STRUCTURED-LOCATION;VALUE=URI;X-ADDRESS=Danada Forest Preserve 3S580 Naperville Road Wheaton IL 60187 United States;X-APPLE-RADIUS=500;X-TITLE=3S580 Naperville Road:geo:-88.1124109,41.819072
END:VEVENT
BEGIN:VEVENT
DTSTART;TZID=America/Chicago:20170812T084500
DTEND;TZID=America/Chicago:20170812T103000
DTSTAMP:20260423T194307
CREATED:20170220T175917Z
LAST-MODIFIED:20170812T174248Z
UID:10001047-1502527500-1502533800@www.racetime.info
SUMMARY:ECFA's 5K4Kids Run/Walk & Kids 1/2 Mile Fun Run
DESCRIPTION:ECFA’s Run4Kids 5K Age Group Results\n\nECFA’s Run4Kids 5K Overall Results
URL:https://www.racetime.info/event/ecfas-5k4kids-runwalk-kids-12-mile-fun-run/
LOCATION:Danada Forest Preserve\, 3S580 Naperville Road\, Wheaton\, IL\, 60187\, United States
CATEGORIES:2017-08 Results (August)
ORGANIZER;CN="Odette Navarro":MAILTO:5k4kids@evancfa.org
GEO:41.819072;-88.1124109
X-APPLE-STRUCTURED-LOCATION;VALUE=URI;X-ADDRESS=Danada Forest Preserve 3S580 Naperville Road Wheaton IL 60187 United States;X-APPLE-RADIUS=500;X-TITLE=3S580 Naperville Road:geo:-88.1124109,41.819072
END:VEVENT
BEGIN:VEVENT
DTSTART;TZID=America/Chicago:20160925T080000
DTEND;TZID=America/Chicago:20160925T100000
DTSTAMP:20260423T194307
CREATED:20160327T210338Z
LAST-MODIFIED:20160925T190551Z
UID:10000586-1474790400-1474797600@www.racetime.info
SUMMARY:I Support Community 5K Run/Walk & Youth 50 Yard Dash
DESCRIPTION:I Support 5K Age Group Results\n\nI Support 5K Overall Results\n\nI Support Team Results
URL:https://www.racetime.info/event/i-support-community-5k-runwalk-youth-50-yard-dash/
LOCATION:Danada Forest Preserve\, 3S580 Naperville Road\, Wheaton\, IL\, 60187\, United States
CATEGORIES:2016-09 Results (September)
ORGANIZER;CN="Marion Ruthig":MAILTO:marion@isupportcommunity.org
GEO:41.819072;-88.1124109
X-APPLE-STRUCTURED-LOCATION;VALUE=URI;X-ADDRESS=Danada Forest Preserve 3S580 Naperville Road Wheaton IL 60187 United States;X-APPLE-RADIUS=500;X-TITLE=3S580 Naperville Road:geo:-88.1124109,41.819072
END:VEVENT
BEGIN:VEVENT
DTSTART;TZID=America/Chicago:20160924T100000
DTEND;TZID=America/Chicago:20160924T120000
DTSTAMP:20260423T194307
CREATED:20160415T235611Z
LAST-MODIFIED:20160926T131954Z
UID:10000233-1474711200-1474718400@www.racetime.info
SUMMARY:Addiction Awareness & Recovery 5K Run/Walk
DESCRIPTION:Recovery 5K Age Group Results\n\nRecovery 5K Overall Results
URL:https://www.racetime.info/event/addition-awareness-recovery-5k-runwalk/
LOCATION:Danada Forest Preserve\, 3S580 Naperville Road\, Wheaton\, IL\, 60187\, United States
CATEGORIES:2016-09 Results (September)
ORGANIZER;CN="Joseph Udell":MAILTO:josephudell@reagan.com
GEO:41.819072;-88.1124109
X-APPLE-STRUCTURED-LOCATION;VALUE=URI;X-ADDRESS=Danada Forest Preserve 3S580 Naperville Road Wheaton IL 60187 United States;X-APPLE-RADIUS=500;X-TITLE=3S580 Naperville Road:geo:-88.1124109,41.819072
END:VEVENT
BEGIN:VEVENT
DTSTART;TZID=America/Chicago:20160904T100000
DTEND;TZID=America/Chicago:20160904T120000
DTSTAMP:20260423T194307
CREATED:20160610T114124Z
LAST-MODIFIED:20160904T184846Z
UID:10000675-1472983200-1472990400@www.racetime.info
SUMMARY:U5KANA 5K Run/Walk
DESCRIPTION:Uskana 5K Age Group Results\n\nUskana 5K Overall Results
URL:https://www.racetime.info/event/u5kana-5k-runwalk/
LOCATION:Danada Forest Preserve\, 3S580 Naperville Road\, Wheaton\, IL\, 60187\, United States
CATEGORIES:2016-09 Results (September)
ORGANIZER;CN="Florim Zendeli":MAILTO:florim.zendeli@gmail.com
GEO:41.819072;-88.1124109
X-APPLE-STRUCTURED-LOCATION;VALUE=URI;X-ADDRESS=Danada Forest Preserve 3S580 Naperville Road Wheaton IL 60187 United States;X-APPLE-RADIUS=500;X-TITLE=3S580 Naperville Road:geo:-88.1124109,41.819072
END:VEVENT
BEGIN:VEVENT
DTSTART;TZID=America/Chicago:20160821T080000
DTEND;TZID=America/Chicago:20160821T100000
DTSTAMP:20260423T194307
CREATED:20160623T101610Z
LAST-MODIFIED:20160821T171504Z
UID:10000700-1471766400-1471773600@www.racetime.info
SUMMARY:Windrunner 10K Run
DESCRIPTION:Windrunners 10K Age Group Results\n\nWindrunners 10K Overall Results
URL:https://www.racetime.info/event/windrunner-10k-run/
LOCATION:Danada Forest Preserve\, 3S580 Naperville Road\, Wheaton\, IL\, 60187\, United States
CATEGORIES:2016-08 Results (August)
ORGANIZER;CN="Bill Igoe":MAILTO:windrunner.race.director@gmail.com
GEO:41.819072;-88.1124109
X-APPLE-STRUCTURED-LOCATION;VALUE=URI;X-ADDRESS=Danada Forest Preserve 3S580 Naperville Road Wheaton IL 60187 United States;X-APPLE-RADIUS=500;X-TITLE=3S580 Naperville Road:geo:-88.1124109,41.819072
END:VEVENT
BEGIN:VEVENT
DTSTART;TZID=America/Chicago:20160811T180000
DTEND;TZID=America/Chicago:20160811T200000
DTSTAMP:20260423T194307
CREATED:20160630T120005Z
LAST-MODIFIED:20160812T033503Z
UID:10000278-1470938400-1470945600@www.racetime.info
SUMMARY:ECFA  5K For Kids: 5K & 10K Trail Run; 10 Mile Bike; 1/2 Mile Fun Run & Toddler Trot
DESCRIPTION:ECFA Run4Kids .5 Mile Youth Run\n\nECFA Run4Kids 5K Age Group Results\n\nECFA Run4Kids 5K Overall Results\n\nECFA Run4Kids 10K Age Group Results\n\nECFA Run4Kids 10K Overall Results
URL:https://www.racetime.info/event/ecfa-5k-for-kids-5k-10-mile-bike-12-mile-fun-run-toddler-trot/
LOCATION:Danada Forest Preserve\, 3S580 Naperville Road\, Wheaton\, IL\, 60187\, United States
CATEGORIES:2016-08 Results (August)
ORGANIZER;CN="Odette Navarro":MAILTO:5k4kids@evancfa.org
GEO:41.819072;-88.1124109
X-APPLE-STRUCTURED-LOCATION;VALUE=URI;X-ADDRESS=Danada Forest Preserve 3S580 Naperville Road Wheaton IL 60187 United States;X-APPLE-RADIUS=500;X-TITLE=3S580 Naperville Road:geo:-88.1124109,41.819072
END:VEVENT
BEGIN:VEVENT
DTSTART;TZID=America/Chicago:20160618T100000
DTEND;TZID=America/Chicago:20160618T120000
DTSTAMP:20260423T194307
CREATED:20160327T215552Z
LAST-MODIFIED:20160618T172305Z
UID:10000592-1466244000-1466251200@www.racetime.info
SUMMARY:One Last Race 5K Run/Walk
DESCRIPTION:One Last Race 5K Overall Results
URL:https://www.racetime.info/event/one-last-race-5k-runwalk/
LOCATION:Danada Forest Preserve\, 3S580 Naperville Road\, Wheaton\, IL\, 60187\, United States
CATEGORIES:2016-06 Results (June)
ORGANIZER;CN="Jennifer Wirth":MAILTO:jenniferwirth@msn.com
GEO:41.819072;-88.1124109
X-APPLE-STRUCTURED-LOCATION;VALUE=URI;X-ADDRESS=Danada Forest Preserve 3S580 Naperville Road Wheaton IL 60187 United States;X-APPLE-RADIUS=500;X-TITLE=3S580 Naperville Road:geo:-88.1124109,41.819072
END:VEVENT
BEGIN:VEVENT
DTSTART;TZID=America/Chicago:20151024T080000
DTEND;TZID=America/Chicago:20151024T100000
DTSTAMP:20260423T194307
CREATED:20150902T190630Z
LAST-MODIFIED:20151024T210038Z
UID:10000129-1445673600-1445680800@www.racetime.info
SUMMARY:CURRAMUS 5K Run/Walk
DESCRIPTION:Curramus 5K Age Group Results\n\nCurramus 5K Overall Results
URL:https://www.racetime.info/event/curramus-5k-runwalk/
LOCATION:Danada Forest Preserve\, 3S580 Naperville Road\, Wheaton\, IL\, 60187\, United States
CATEGORIES:2015-10 Results (October)
ORGANIZER;CN="Lisa Morris":MAILTO:nca.lisam@gmail.com
GEO:41.819072;-88.1124109
X-APPLE-STRUCTURED-LOCATION;VALUE=URI;X-ADDRESS=Danada Forest Preserve 3S580 Naperville Road Wheaton IL 60187 United States;X-APPLE-RADIUS=500;X-TITLE=3S580 Naperville Road:geo:-88.1124109,41.819072
END:VEVENT
BEGIN:VEVENT
DTSTART;TZID=America/Chicago:20150920T080000
DTEND;TZID=America/Chicago:20150920T110000
DTSTAMP:20260423T194307
CREATED:20150901T024811Z
LAST-MODIFIED:20150920T180748Z
UID:10000382-1442736000-1442746800@www.racetime.info
SUMMARY:I Support Community: Represent 5K Run/Walk
DESCRIPTION:Represent 5K Age Group Results\n\nRepresent 5K Overall Results\n\nRepresent Team Results
URL:https://www.racetime.info/event/i-support-represent-5k-runwalk/
LOCATION:Danada Forest Preserve\, 3S580 Naperville Road\, Wheaton\, IL\, 60187\, United States
CATEGORIES:2015-09 Results (September)
ORGANIZER;CN="Marion Ruthig":MAILTO:marion@isupportcommunity.org
GEO:41.819072;-88.1124109
X-APPLE-STRUCTURED-LOCATION;VALUE=URI;X-ADDRESS=Danada Forest Preserve 3S580 Naperville Road Wheaton IL 60187 United States;X-APPLE-RADIUS=500;X-TITLE=3S580 Naperville Road:geo:-88.1124109,41.819072
END:VEVENT
BEGIN:VEVENT
DTSTART;TZID=America/Chicago:20150823T080000
DTEND;TZID=America/Chicago:20150823T110000
DTSTAMP:20260423T194307
CREATED:20150615T112959Z
LAST-MODIFIED:20150824T011456Z
UID:10000271-1440316800-1440327600@www.racetime.info
SUMMARY:Windrunners 10K Run
DESCRIPTION:Windrunners 10K Age Group Results\n\nWindrunners 10K Overall Results
URL:https://www.racetime.info/event/windrunners-10k-run/
LOCATION:Danada Forest Preserve\, 3S580 Naperville Road\, Wheaton\, IL\, 60187\, United States
CATEGORIES:2015-08 Results (August)
ORGANIZER;CN="Bill Igoe":MAILTO:windrunner.race.director@gmail.com
GEO:41.819072;-88.1124109
X-APPLE-STRUCTURED-LOCATION;VALUE=URI;X-ADDRESS=Danada Forest Preserve 3S580 Naperville Road Wheaton IL 60187 United States;X-APPLE-RADIUS=500;X-TITLE=3S580 Naperville Road:geo:-88.1124109,41.819072
END:VEVENT
BEGIN:VEVENT
DTSTART;TZID=America/Chicago:20150813T180000
DTEND;TZID=America/Chicago:20150813T200000
DTSTAMP:20260423T194307
CREATED:20150720T175401Z
LAST-MODIFIED:20150814T032325Z
UID:10000299-1439488800-1439496000@www.racetime.info
SUMMARY:ECFA's 5K 4 Kids Run & Youth Dashes
DESCRIPTION:ECFA 5K Overall Results\n\nECFA Youth Run
URL:https://www.racetime.info/event/ecfas-5k-4-kids-run-youth-dashes/
LOCATION:Danada Forest Preserve\, 3S580 Naperville Road\, Wheaton\, IL\, 60187\, United States
CATEGORIES:2015-08 Results (August)
ORGANIZER;CN="Odette Navarro":MAILTO:5k4kids@evancfa.org
GEO:41.819072;-88.1124109
X-APPLE-STRUCTURED-LOCATION;VALUE=URI;X-ADDRESS=Danada Forest Preserve 3S580 Naperville Road Wheaton IL 60187 United States;X-APPLE-RADIUS=500;X-TITLE=3S580 Naperville Road:geo:-88.1124109,41.819072
END:VEVENT
BEGIN:VEVENT
DTSTART;TZID=America/Chicago:20150411T093000
DTEND;TZID=America/Chicago:20150411T093000
DTSTAMP:20260423T194307
CREATED:20150324T202516Z
LAST-MODIFIED:20150802T043124Z
UID:10000068-1428744600-1428744600@www.racetime.info
SUMMARY:7th Annual Young Life Access Run/Walk
DESCRIPTION:All Access 5K Age Group Results\n\nAll Access 5K Overall Results\n\nAll Access 10K Age Group Results\n\nAll Access 10K Overall Results
URL:https://www.racetime.info/event/7th-annual-young-life-access-5k-runwalk-10k-run/
LOCATION:Danada Forest Preserve\, 3S580 Naperville Road\, Wheaton\, IL\, 60187\, United States
CATEGORIES:2015-04 Results (April)
ORGANIZER;CN="Matt Margaron":MAILTO:matt@ylchicago.com
GEO:41.819072;-88.1124109
X-APPLE-STRUCTURED-LOCATION;VALUE=URI;X-ADDRESS=Danada Forest Preserve 3S580 Naperville Road Wheaton IL 60187 United States;X-APPLE-RADIUS=500;X-TITLE=3S580 Naperville Road:geo:-88.1124109,41.819072
END:VEVENT
END:VCALENDAR