BEGIN:VCALENDAR
VERSION:2.0
PRODID:-//Race Time - ECPv6.15.13//NONSGML v1.0//EN
CALSCALE:GREGORIAN
METHOD:PUBLISH
X-ORIGINAL-URL:https://www.racetime.info
X-WR-CALDESC:Events for Race Time
REFRESH-INTERVAL;VALUE=DURATION:PT1H
X-Robots-Tag:noindex
X-PUBLISHED-TTL:PT1H
BEGIN:VTIMEZONE
TZID:America/Chicago
BEGIN:DAYLIGHT
TZOFFSETFROM:-0600
TZOFFSETTO:-0500
TZNAME:CDT
DTSTART:20210314T080000
END:DAYLIGHT
BEGIN:STANDARD
TZOFFSETFROM:-0500
TZOFFSETTO:-0600
TZNAME:CST
DTSTART:20211107T070000
END:STANDARD
BEGIN:DAYLIGHT
TZOFFSETFROM:-0600
TZOFFSETTO:-0500
TZNAME:CDT
DTSTART:20220313T080000
END:DAYLIGHT
BEGIN:STANDARD
TZOFFSETFROM:-0500
TZOFFSETTO:-0600
TZNAME:CST
DTSTART:20221106T070000
END:STANDARD
BEGIN:DAYLIGHT
TZOFFSETFROM:-0600
TZOFFSETTO:-0500
TZNAME:CDT
DTSTART:20230312T080000
END:DAYLIGHT
BEGIN:STANDARD
TZOFFSETFROM:-0500
TZOFFSETTO:-0600
TZNAME:CST
DTSTART:20231105T070000
END:STANDARD
BEGIN:DAYLIGHT
TZOFFSETFROM:-0600
TZOFFSETTO:-0500
TZNAME:CDT
DTSTART:20240310T080000
END:DAYLIGHT
BEGIN:STANDARD
TZOFFSETFROM:-0500
TZOFFSETTO:-0600
TZNAME:CST
DTSTART:20241103T070000
END:STANDARD
BEGIN:DAYLIGHT
TZOFFSETFROM:-0600
TZOFFSETTO:-0500
TZNAME:CDT
DTSTART:20250309T080000
END:DAYLIGHT
BEGIN:STANDARD
TZOFFSETFROM:-0500
TZOFFSETTO:-0600
TZNAME:CST
DTSTART:20251102T070000
END:STANDARD
BEGIN:DAYLIGHT
TZOFFSETFROM:-0600
TZOFFSETTO:-0500
TZNAME:CDT
DTSTART:20260308T080000
END:DAYLIGHT
BEGIN:STANDARD
TZOFFSETFROM:-0500
TZOFFSETTO:-0600
TZNAME:CST
DTSTART:20261101T070000
END:STANDARD
END:VTIMEZONE
BEGIN:VEVENT
DTSTART;TZID=America/Chicago:20250621T083000
DTEND;TZID=America/Chicago:20250621T100000
DTSTAMP:20260423T200011
CREATED:20250406T145153Z
LAST-MODIFIED:20250621T182500Z
UID:10002340-1750494600-1750500000@www.racetime.info
SUMMARY:JOURNEYS: Superhero 5K Run/Walk & 1 Mile Youth Run
DESCRIPTION:JOURNEYS The Road Home 5K Age Group Results\n\nJOURNEYS The Road Home 5K Overall Results
URL:https://www.racetime.info/event/journeys-superhero-5k-run-walk-1-mile-youth-run-2/
LOCATION:Deer Grove East Forest Preserve\, 100 West Dundee\, Palatine\, IL\, 60074\, United States
CATEGORIES:2025-06 Results (June)
ORGANIZER;CN="Kate Hassemer":MAILTO:k.hassemer@journeystheroadhome.org
GEO:42.143126;-88.0144015
X-APPLE-STRUCTURED-LOCATION;VALUE=URI;X-ADDRESS=Deer Grove East Forest Preserve 100 West Dundee Palatine IL 60074 United States;X-APPLE-RADIUS=500;X-TITLE=100 West Dundee:geo:-88.0144015,42.143126
END:VEVENT
BEGIN:VEVENT
DTSTART;TZID=America/Chicago:20240622T083000
DTEND;TZID=America/Chicago:20240622T100000
DTSTAMP:20260423T200011
CREATED:20170124T202720Z
LAST-MODIFIED:20240622T172730Z
UID:10000877-1719045000-1719050400@www.racetime.info
SUMMARY:JOURNEYS: Superhero 5K Run/Walk & 1 Mile Youth Run
DESCRIPTION:JOURNEYS 1M Overall Results\n\nJOURNEYS 5K Age Group Results\n\nJOURNEYS 5K Overall Results
URL:https://www.racetime.info/event/copy-of-journeys-superhero-5k-run-walk-1-mile-youth-run-3/
LOCATION:Deer Grove East Forest Preserve\, 100 West Dundee\, Palatine\, IL\, 60074\, United States
CATEGORIES:2024-06 Results (June)
ORGANIZER;CN="Kate Hassemer":MAILTO:k.hassemer@journeystheroadhome.org
GEO:42.143126;-88.0144015
X-APPLE-STRUCTURED-LOCATION;VALUE=URI;X-ADDRESS=Deer Grove East Forest Preserve 100 West Dundee Palatine IL 60074 United States;X-APPLE-RADIUS=500;X-TITLE=100 West Dundee:geo:-88.0144015,42.143126
END:VEVENT
BEGIN:VEVENT
DTSTART;TZID=America/Chicago:20230617T083000
DTEND;TZID=America/Chicago:20230617T103000
DTSTAMP:20260423T200011
CREATED:20170124T202720Z
LAST-MODIFIED:20230618T003328Z
UID:10000874-1686990600-1686997800@www.racetime.info
SUMMARY:JOURNEYS: Superhero 5K Run/Walk & 1 Mile Youth Run
DESCRIPTION:Journeys Superhero 5K Age Group Results\n\nJourneys Superhero 5K Overall Results
URL:https://www.racetime.info/event/copy-of-journeys-superhero-5k-run-walk-1-mile-youth-run-2/
LOCATION:Deer Grove East Forest Preserve\, 100 West Dundee\, Palatine\, IL\, 60074\, United States
CATEGORIES:2023-06 Results (June)
ORGANIZER;CN="Kate Hassemer":MAILTO:k.hassemer@journeystheroadhome.org
GEO:42.143126;-88.0144015
X-APPLE-STRUCTURED-LOCATION;VALUE=URI;X-ADDRESS=Deer Grove East Forest Preserve 100 West Dundee Palatine IL 60074 United States;X-APPLE-RADIUS=500;X-TITLE=100 West Dundee:geo:-88.0144015,42.143126
END:VEVENT
BEGIN:VEVENT
DTSTART;TZID=America/Chicago:20220618T083000
DTEND;TZID=America/Chicago:20220618T100000
DTSTAMP:20260423T200011
CREATED:20170124T202720Z
LAST-MODIFIED:20220618T160754Z
UID:10000873-1655541000-1655546400@www.racetime.info
SUMMARY:JOURNEYS: Superhero 5K Run/Walk & 1 Mile Youth Run
DESCRIPTION:Journeys Superhero 1 Mile Overall Results\n\nJourneys Superhero 5K Age Group Results\n\nJourneys Superhero 5K Overall Results
URL:https://www.racetime.info/event/copy-of-journeys-superhero-5k-run-walk-1-mile-youth-run/
LOCATION:Deer Grove East Forest Preserve\, 100 West Dundee\, Palatine\, IL\, 60074\, United States
CATEGORIES:2022-06 Results (June)
ORGANIZER;CN="Kate Hassemer":MAILTO:k.hassemer@journeystheroadhome.org
GEO:42.143126;-88.0144015
X-APPLE-STRUCTURED-LOCATION;VALUE=URI;X-ADDRESS=Deer Grove East Forest Preserve 100 West Dundee Palatine IL 60074 United States;X-APPLE-RADIUS=500;X-TITLE=100 West Dundee:geo:-88.0144015,42.143126
END:VEVENT
BEGIN:VEVENT
DTSTART;TZID=America/Chicago:20220522T070000
DTEND;TZID=America/Chicago:20220522T100000
DTSTAMP:20260423T200011
CREATED:20220429T011337Z
LAST-MODIFIED:20220531T001340Z
UID:10001293-1653202800-1653213600@www.racetime.info
SUMMARY:Deer Grove Trail Half Marathon and 10K
DESCRIPTION:Deer Grove 10K Age Group Results\n\nDeer Grove 10K Overall Results\n\nDeer Grove Half Marathon Age Group Results\n\nDeer Grove Half Marathon Overall Results\n\nDeer Grove Less Than Half Marathon\n\nDeer Grove Virtual 10K Results
URL:https://www.racetime.info/event/deer-grove-trail-half-marathon-and-10k/
LOCATION:Deer Grove East Forest Preserve\, 100 West Dundee\, Palatine\, IL\, 60074\, United States
CATEGORIES:2022-05 Results (May)
ORGANIZER;CN="Jose del Risco":MAILTO:j.delrisco@worthyourmile.com
GEO:42.143126;-88.0144015
X-APPLE-STRUCTURED-LOCATION;VALUE=URI;X-ADDRESS=Deer Grove East Forest Preserve 100 West Dundee Palatine IL 60074 United States;X-APPLE-RADIUS=500;X-TITLE=100 West Dundee:geo:-88.0144015,42.143126
END:VEVENT
BEGIN:VEVENT
DTSTART;TZID=America/Chicago:20220501T080000
DTEND;TZID=America/Chicago:20220501T100000
DTSTAMP:20260423T200011
CREATED:20220408T110812Z
LAST-MODIFIED:20220501T182940Z
UID:10002108-1651392000-1651399200@www.racetime.info
SUMMARY:Saving Tiny Hearts 5K Run/Walk & Kids Dash
DESCRIPTION:Heartbeat Heroes 5K Age Group Results\n\nHeartbeat Heroes 5K Overall Results
URL:https://www.racetime.info/event/saving-tiny-hearts-5k-run-walk-kids-dash/
LOCATION:Deer Grove East Forest Preserve\, 100 West Dundee\, Palatine\, IL\, 60074\, United States
CATEGORIES:2022-05 Results (May)
ORGANIZER;CN="Mike Higginson":MAILTO:mike.higginson@savingtinyhearts.org
GEO:42.143126;-88.0144015
X-APPLE-STRUCTURED-LOCATION;VALUE=URI;X-ADDRESS=Deer Grove East Forest Preserve 100 West Dundee Palatine IL 60074 United States;X-APPLE-RADIUS=500;X-TITLE=100 West Dundee:geo:-88.0144015,42.143126
END:VEVENT
END:VCALENDAR