BEGIN:VCALENDAR
VERSION:2.0
PRODID:-//Race Time - ECPv6.15.13//NONSGML v1.0//EN
CALSCALE:GREGORIAN
METHOD:PUBLISH
X-WR-CALNAME:Race Time
X-ORIGINAL-URL:https://www.racetime.info
X-WR-CALDESC:Events for Race Time
REFRESH-INTERVAL;VALUE=DURATION:PT1H
X-Robots-Tag:noindex
X-PUBLISHED-TTL:PT1H
BEGIN:VTIMEZONE
TZID:America/Chicago
BEGIN:DAYLIGHT
TZOFFSETFROM:-0600
TZOFFSETTO:-0500
TZNAME:CDT
DTSTART:20250309T080000
END:DAYLIGHT
BEGIN:STANDARD
TZOFFSETFROM:-0500
TZOFFSETTO:-0600
TZNAME:CST
DTSTART:20251102T070000
END:STANDARD
BEGIN:DAYLIGHT
TZOFFSETFROM:-0600
TZOFFSETTO:-0500
TZNAME:CDT
DTSTART:20260308T080000
END:DAYLIGHT
BEGIN:STANDARD
TZOFFSETFROM:-0500
TZOFFSETTO:-0600
TZNAME:CST
DTSTART:20261101T070000
END:STANDARD
BEGIN:DAYLIGHT
TZOFFSETFROM:-0600
TZOFFSETTO:-0500
TZNAME:CDT
DTSTART:20270314T080000
END:DAYLIGHT
BEGIN:STANDARD
TZOFFSETFROM:-0500
TZOFFSETTO:-0600
TZNAME:CST
DTSTART:20271107T070000
END:STANDARD
END:VTIMEZONE
BEGIN:VEVENT
DTSTART;TZID=America/Chicago:20260516T090000
DTEND;TZID=America/Chicago:20260516T170000
DTSTAMP:20260423T182253
CREATED:20260305T131320Z
LAST-MODIFIED:20260305T131320Z
UID:10002513-1778922000-1778950800@www.racetime.info
SUMMARY:Foster The Future 5K Run * 1 Mile Family Walk
DESCRIPTION:
URL:https://www.racetime.info/event/foster-the-future-5k-run-1-mile-family-walk/
LOCATION:Deer Grove East Forest Preserve\, 100 West Dundee\, Palatine\, IL\, 60074\, United States
ORGANIZER;CN="Jessica Stockl":MAILTO:jessica.stockl@chicagoangels.org
GEO:42.143126;-88.0144015
X-APPLE-STRUCTURED-LOCATION;VALUE=URI;X-ADDRESS=Deer Grove East Forest Preserve 100 West Dundee Palatine IL 60074 United States;X-APPLE-RADIUS=500;X-TITLE=100 West Dundee:geo:-88.0144015,42.143126
END:VEVENT
BEGIN:VEVENT
DTSTART;TZID=America/Chicago:20260606T072000
DTEND;TZID=America/Chicago:20260606T100000
DTSTAMP:20260423T182253
CREATED:20251209T130104Z
LAST-MODIFIED:20251209T130104Z
UID:10002459-1780730400-1780740000@www.racetime.info
SUMMARY:Oneness Run 5K*10K*Kids Dash
DESCRIPTION:
URL:https://www.racetime.info/event/oneness-run-5k10kkids-dash/
LOCATION:Deer Grove East Forest Preserve\, 100 West Dundee\, Palatine\, IL\, 60074\, United States
ORGANIZER;CN="Indermohan Mokha":MAILTO:indermohan@onenessrun.org
GEO:42.143126;-88.0144015
X-APPLE-STRUCTURED-LOCATION;VALUE=URI;X-ADDRESS=Deer Grove East Forest Preserve 100 West Dundee Palatine IL 60074 United States;X-APPLE-RADIUS=500;X-TITLE=100 West Dundee:geo:-88.0144015,42.143126
END:VEVENT
BEGIN:VEVENT
DTSTART;TZID=America/Chicago:20260620T083000
DTEND;TZID=America/Chicago:20260620T100000
DTSTAMP:20260423T182253
CREATED:20260216T131335Z
LAST-MODIFIED:20260216T131335Z
UID:10002494-1781944200-1781949600@www.racetime.info
SUMMARY:JOURNEYS: Superhero 5K Run/Walk & 1 Mile Youth Run
DESCRIPTION:
URL:https://www.racetime.info/event/journeys-superhero-5k-run-walk-1-mile-youth-run-3/
LOCATION:Deer Grove East Forest Preserve\, 100 West Dundee\, Palatine\, IL\, 60074\, United States
ORGANIZER;CN="Kate Hassemer":MAILTO:k.hassemer@journeystheroadhome.org
GEO:42.143126;-88.0144015
X-APPLE-STRUCTURED-LOCATION;VALUE=URI;X-ADDRESS=Deer Grove East Forest Preserve 100 West Dundee Palatine IL 60074 United States;X-APPLE-RADIUS=500;X-TITLE=100 West Dundee:geo:-88.0144015,42.143126
END:VEVENT
END:VCALENDAR