BEGIN:VCALENDAR
VERSION:2.0
PRODID:-//Race Time - ECPv6.15.13//NONSGML v1.0//EN
CALSCALE:GREGORIAN
METHOD:PUBLISH
X-ORIGINAL-URL:https://www.racetime.info
X-WR-CALDESC:Events for Race Time
REFRESH-INTERVAL;VALUE=DURATION:PT1H
X-Robots-Tag:noindex
X-PUBLISHED-TTL:PT1H
BEGIN:VTIMEZONE
TZID:America/Chicago
BEGIN:DAYLIGHT
TZOFFSETFROM:-0600
TZOFFSETTO:-0500
TZNAME:CDT
DTSTART:20140309T080000
END:DAYLIGHT
BEGIN:STANDARD
TZOFFSETFROM:-0500
TZOFFSETTO:-0600
TZNAME:CST
DTSTART:20141102T070000
END:STANDARD
BEGIN:DAYLIGHT
TZOFFSETFROM:-0600
TZOFFSETTO:-0500
TZNAME:CDT
DTSTART:20150308T080000
END:DAYLIGHT
BEGIN:STANDARD
TZOFFSETFROM:-0500
TZOFFSETTO:-0600
TZNAME:CST
DTSTART:20151101T070000
END:STANDARD
BEGIN:DAYLIGHT
TZOFFSETFROM:-0600
TZOFFSETTO:-0500
TZNAME:CDT
DTSTART:20160313T080000
END:DAYLIGHT
BEGIN:STANDARD
TZOFFSETFROM:-0500
TZOFFSETTO:-0600
TZNAME:CST
DTSTART:20161106T070000
END:STANDARD
END:VTIMEZONE
BEGIN:VEVENT
DTSTART;TZID=America/Chicago:20151025T081500
DTEND;TZID=America/Chicago:20151025T110000
DTSTAMP:20260424T024755
CREATED:20150902T190121Z
LAST-MODIFIED:20151025T161726Z
UID:10000126-1445760900-1445770800@www.racetime.info
SUMMARY:Be A Hero For Hope Shelter 5K/10K Run
DESCRIPTION:Shelter 5K Age Group Results\n\nShelter 5K Overall Results\n\nShelter 10K Age Group Results\n\nShelter 10K Overall Results
URL:https://www.racetime.info/event/family-shelter-service-5k10k-1-mile-run/
LOCATION:Downers Grove North High School\, 4436 Main Street\, Downers Grove\, IL\, 60515\, United States
CATEGORIES:2015-10 Results (October)
ORGANIZER;CN="Karen Walsh":MAILTO:karenw@familyshelterservice.net
GEO:41.8051502;-88.0121803
X-APPLE-STRUCTURED-LOCATION;VALUE=URI;X-ADDRESS=Downers Grove North High School 4436 Main Street Downers Grove IL 60515 United States;X-APPLE-RADIUS=500;X-TITLE=4436 Main Street:geo:-88.0121803,41.8051502
END:VEVENT
END:VCALENDAR