BEGIN:VCALENDAR
VERSION:2.0
PRODID:-//Race Time - ECPv6.15.13//NONSGML v1.0//EN
CALSCALE:GREGORIAN
METHOD:PUBLISH
X-ORIGINAL-URL:https://www.racetime.info
X-WR-CALDESC:Events for Race Time
REFRESH-INTERVAL;VALUE=DURATION:PT1H
X-Robots-Tag:noindex
X-PUBLISHED-TTL:PT1H
BEGIN:VTIMEZONE
TZID:America/Chicago
BEGIN:DAYLIGHT
TZOFFSETFROM:-0600
TZOFFSETTO:-0500
TZNAME:CDT
DTSTART:20140309T080000
END:DAYLIGHT
BEGIN:STANDARD
TZOFFSETFROM:-0500
TZOFFSETTO:-0600
TZNAME:CST
DTSTART:20141102T070000
END:STANDARD
BEGIN:DAYLIGHT
TZOFFSETFROM:-0600
TZOFFSETTO:-0500
TZNAME:CDT
DTSTART:20150308T080000
END:DAYLIGHT
BEGIN:STANDARD
TZOFFSETFROM:-0500
TZOFFSETTO:-0600
TZNAME:CST
DTSTART:20151101T070000
END:STANDARD
BEGIN:DAYLIGHT
TZOFFSETFROM:-0600
TZOFFSETTO:-0500
TZNAME:CDT
DTSTART:20160313T080000
END:DAYLIGHT
BEGIN:STANDARD
TZOFFSETFROM:-0500
TZOFFSETTO:-0600
TZNAME:CST
DTSTART:20161106T070000
END:STANDARD
BEGIN:DAYLIGHT
TZOFFSETFROM:-0600
TZOFFSETTO:-0500
TZNAME:CDT
DTSTART:20170312T080000
END:DAYLIGHT
BEGIN:STANDARD
TZOFFSETFROM:-0500
TZOFFSETTO:-0600
TZNAME:CST
DTSTART:20171105T070000
END:STANDARD
BEGIN:DAYLIGHT
TZOFFSETFROM:-0600
TZOFFSETTO:-0500
TZNAME:CDT
DTSTART:20180311T080000
END:DAYLIGHT
BEGIN:STANDARD
TZOFFSETFROM:-0500
TZOFFSETTO:-0600
TZNAME:CST
DTSTART:20181104T070000
END:STANDARD
END:VTIMEZONE
BEGIN:VEVENT
DTSTART;TZID=America/Chicago:20170923T083000
DTEND;TZID=America/Chicago:20170923T110000
DTSTAMP:20260424T020715
CREATED:20170514T094841Z
LAST-MODIFIED:20170923T184612Z
UID:10001408-1506155400-1506164400@www.racetime.info
SUMMARY:Run For Learning 5K\, 1K & Youth Dash
DESCRIPTION:Run For Learning Youth 1K Overall Results\n\nRun For Learning 5K Age Group Results\n\nRun For Learning 5K Overall Results
URL:https://www.racetime.info/event/run-for-learning-5k-1k-youth-dash/
LOCATION:Downtown Grayslake\, Whitney Street and Center Street\, Grayslake\, IL\, 60030\, United States
CATEGORIES:2017-09 Results (September)
ORGANIZER;CN="Holly Ness":MAILTO:runforlearning@gmail.com
GEO:42.3443252;-88.0402633
X-APPLE-STRUCTURED-LOCATION;VALUE=URI;X-ADDRESS=Downtown Grayslake Whitney Street and Center Street Grayslake IL 60030 United States;X-APPLE-RADIUS=500;X-TITLE=Whitney Street and Center Street:geo:-88.0402633,42.3443252
END:VEVENT
BEGIN:VEVENT
DTSTART;TZID=America/Chicago:20160924T083000
DTEND;TZID=America/Chicago:20160924T100000
DTSTAMP:20260424T020715
CREATED:20160521T012606Z
LAST-MODIFIED:20160924T193528Z
UID:10000662-1474705800-1474711200@www.racetime.info
SUMMARY:Run For Learning 5K & Youth Fun Run
DESCRIPTION:Run For Learning 5K Age Group Results\n\nRun For Learning 5K Overall Results\n\nRun For Learning Youth Run
URL:https://www.racetime.info/event/run-for-learning-5k-youth-fun-run/
LOCATION:Downtown Grayslake\, Whitney Street and Center Street\, Grayslake\, IL\, 60030\, United States
CATEGORIES:2016-09 Results (September)
ORGANIZER;CN="Holly Ness":MAILTO:runforlearning@gmail.com
GEO:42.3443252;-88.0402633
X-APPLE-STRUCTURED-LOCATION;VALUE=URI;X-ADDRESS=Downtown Grayslake Whitney Street and Center Street Grayslake IL 60030 United States;X-APPLE-RADIUS=500;X-TITLE=Whitney Street and Center Street:geo:-88.0402633,42.3443252
END:VEVENT
BEGIN:VEVENT
DTSTART;TZID=America/Chicago:20150919T083000
DTEND;TZID=America/Chicago:20150919T110000
DTSTAMP:20260424T020715
CREATED:20150708T183041Z
LAST-MODIFIED:20150919T181239Z
UID:10000072-1442651400-1442660400@www.racetime.info
SUMMARY:Run For Learning 5K Walk/Run\, 1K Fun Run & Kids Dash
DESCRIPTION:Run For Learning Youth Run\n\nRun For Learning 5K Age Group Results\n\nRun For Learning 5K Overall Results
URL:https://www.racetime.info/event/run-for-learning-5k-walkrun-1k-fun-run-kids-dash/
LOCATION:Downtown Grayslake\, Whitney Street and Center Street\, Grayslake\, IL\, 60030\, United States
CATEGORIES:2015-09 Results (September)
ORGANIZER;CN="Holly Ness":MAILTO:runforlearning@gmail.com
GEO:42.3443252;-88.0402633
X-APPLE-STRUCTURED-LOCATION;VALUE=URI;X-ADDRESS=Downtown Grayslake Whitney Street and Center Street Grayslake IL 60030 United States;X-APPLE-RADIUS=500;X-TITLE=Whitney Street and Center Street:geo:-88.0402633,42.3443252
END:VEVENT
END:VCALENDAR