BEGIN:VCALENDAR
VERSION:2.0
PRODID:-//Race Time - ECPv6.15.13//NONSGML v1.0//EN
CALSCALE:GREGORIAN
METHOD:PUBLISH
X-ORIGINAL-URL:https://www.racetime.info
X-WR-CALDESC:Events for Race Time
REFRESH-INTERVAL;VALUE=DURATION:PT1H
X-Robots-Tag:noindex
X-PUBLISHED-TTL:PT1H
BEGIN:VTIMEZONE
TZID:America/Chicago
BEGIN:DAYLIGHT
TZOFFSETFROM:-0600
TZOFFSETTO:-0500
TZNAME:CDT
DTSTART:20220313T080000
END:DAYLIGHT
BEGIN:STANDARD
TZOFFSETFROM:-0500
TZOFFSETTO:-0600
TZNAME:CST
DTSTART:20221106T070000
END:STANDARD
BEGIN:DAYLIGHT
TZOFFSETFROM:-0600
TZOFFSETTO:-0500
TZNAME:CDT
DTSTART:20230312T080000
END:DAYLIGHT
BEGIN:STANDARD
TZOFFSETFROM:-0500
TZOFFSETTO:-0600
TZNAME:CST
DTSTART:20231105T070000
END:STANDARD
BEGIN:DAYLIGHT
TZOFFSETFROM:-0600
TZOFFSETTO:-0500
TZNAME:CDT
DTSTART:20240310T080000
END:DAYLIGHT
BEGIN:STANDARD
TZOFFSETFROM:-0500
TZOFFSETTO:-0600
TZNAME:CST
DTSTART:20241103T070000
END:STANDARD
BEGIN:DAYLIGHT
TZOFFSETFROM:-0600
TZOFFSETTO:-0500
TZNAME:CDT
DTSTART:20250309T080000
END:DAYLIGHT
BEGIN:STANDARD
TZOFFSETFROM:-0500
TZOFFSETTO:-0600
TZNAME:CST
DTSTART:20251102T070000
END:STANDARD
BEGIN:DAYLIGHT
TZOFFSETFROM:-0600
TZOFFSETTO:-0500
TZNAME:CDT
DTSTART:20260308T080000
END:DAYLIGHT
BEGIN:STANDARD
TZOFFSETFROM:-0500
TZOFFSETTO:-0600
TZNAME:CST
DTSTART:20261101T070000
END:STANDARD
END:VTIMEZONE
BEGIN:VEVENT
DTSTART;TZID=America/Chicago:20251206T100000
DTEND;TZID=America/Chicago:20251206T233000
DTSTAMP:20260423T211650
CREATED:20250827T115218Z
LAST-MODIFIED:20251206T191637Z
UID:10002428-1765015200-1765063800@www.racetime.info
SUMMARY:Running with the Elves: A Very Merry Huntley Event
DESCRIPTION:Running of the Elves 1 Mile Overall Results\n\nRunning of the Elves 5K Age Group Results\n\nRunning of the Elves 5K Overall Results
URL:https://www.racetime.info/event/running-with-the-elves-a-very-merry-huntley-event-2/
LOCATION:Downtown Huntley\, Coral and Church Streets\, Huntley\, IL\, 60142\, United States
CATEGORIES:2025-12 Results (December)
ORGANIZER;CN="Jim Uszler":MAILTO:huntleyrotary@yahoo.com
END:VEVENT
BEGIN:VEVENT
DTSTART;TZID=America/Chicago:20241207T100000
DTEND;TZID=America/Chicago:20241207T233000
DTSTAMP:20260423T211650
CREATED:20220829T113346Z
LAST-MODIFIED:20241209T111225Z
UID:10002142-1733565600-1733614200@www.racetime.info
SUMMARY:Running with the Elves: A Very Merry Huntley Event
DESCRIPTION:Huntley Running of the Elves 1M Overall Results\n\nHuntley Running of the Elves 5K Age Group Results\n\nHuntley Running of the Elves 5K Overall Results
URL:https://www.racetime.info/event/copy-of-running-with-the-elves-a-very-merry-huntley-event-2/
LOCATION:Downtown Huntley\, Coral and Church Streets\, Huntley\, IL\, 60142\, United States
CATEGORIES:2024-12 Results (December)
ORGANIZER;CN="Jim Uszler":MAILTO:huntleyrotary@yahoo.com
END:VEVENT
BEGIN:VEVENT
DTSTART;TZID=America/Chicago:20231202T100000
DTEND;TZID=America/Chicago:20231202T123000
DTSTAMP:20260423T211650
CREATED:20220829T113346Z
LAST-MODIFIED:20231206T134517Z
UID:10002141-1701511200-1701520200@www.racetime.info
SUMMARY:Running with the Elves: A Very Merry Huntley Event
DESCRIPTION:Huntley Kids Dash Overall Results\n\nHuntley 5K Age Group Results\n\nHuntley 5K Overall Results\n\nHuntley 1 Mile Overall Results
URL:https://www.racetime.info/event/copy-of-running-with-the-elves-a-very-merry-huntley-event/
LOCATION:Downtown Huntley\, Coral and Church Streets\, Huntley\, IL\, 60142\, United States
CATEGORIES:2023-12 Results (December)
ORGANIZER;CN="Jim Uszler":MAILTO:huntleyrotary@yahoo.com
END:VEVENT
END:VCALENDAR