BEGIN:VCALENDAR
VERSION:2.0
PRODID:-//Race Time - ECPv6.15.13//NONSGML v1.0//EN
CALSCALE:GREGORIAN
METHOD:PUBLISH
X-ORIGINAL-URL:https://www.racetime.info
X-WR-CALDESC:Events for Race Time
REFRESH-INTERVAL;VALUE=DURATION:PT1H
X-Robots-Tag:noindex
X-PUBLISHED-TTL:PT1H
BEGIN:VTIMEZONE
TZID:America/Chicago
BEGIN:DAYLIGHT
TZOFFSETFROM:-0600
TZOFFSETTO:-0500
TZNAME:CDT
DTSTART:20160313T080000
END:DAYLIGHT
BEGIN:STANDARD
TZOFFSETFROM:-0500
TZOFFSETTO:-0600
TZNAME:CST
DTSTART:20161106T070000
END:STANDARD
BEGIN:DAYLIGHT
TZOFFSETFROM:-0600
TZOFFSETTO:-0500
TZNAME:CDT
DTSTART:20170312T080000
END:DAYLIGHT
BEGIN:STANDARD
TZOFFSETFROM:-0500
TZOFFSETTO:-0600
TZNAME:CST
DTSTART:20171105T070000
END:STANDARD
BEGIN:DAYLIGHT
TZOFFSETFROM:-0600
TZOFFSETTO:-0500
TZNAME:CDT
DTSTART:20180311T080000
END:DAYLIGHT
BEGIN:STANDARD
TZOFFSETFROM:-0500
TZOFFSETTO:-0600
TZNAME:CST
DTSTART:20181104T070000
END:STANDARD
BEGIN:DAYLIGHT
TZOFFSETFROM:-0600
TZOFFSETTO:-0500
TZNAME:CDT
DTSTART:20190310T080000
END:DAYLIGHT
BEGIN:STANDARD
TZOFFSETFROM:-0500
TZOFFSETTO:-0600
TZNAME:CST
DTSTART:20191103T070000
END:STANDARD
BEGIN:DAYLIGHT
TZOFFSETFROM:-0600
TZOFFSETTO:-0500
TZNAME:CDT
DTSTART:20200308T080000
END:DAYLIGHT
BEGIN:STANDARD
TZOFFSETFROM:-0500
TZOFFSETTO:-0600
TZNAME:CST
DTSTART:20201101T070000
END:STANDARD
BEGIN:DAYLIGHT
TZOFFSETFROM:-0600
TZOFFSETTO:-0500
TZNAME:CDT
DTSTART:20210314T080000
END:DAYLIGHT
BEGIN:STANDARD
TZOFFSETFROM:-0500
TZOFFSETTO:-0600
TZNAME:CST
DTSTART:20211107T070000
END:STANDARD
BEGIN:DAYLIGHT
TZOFFSETFROM:-0600
TZOFFSETTO:-0500
TZNAME:CDT
DTSTART:20220313T080000
END:DAYLIGHT
BEGIN:STANDARD
TZOFFSETFROM:-0500
TZOFFSETTO:-0600
TZNAME:CST
DTSTART:20221106T070000
END:STANDARD
END:VTIMEZONE
BEGIN:VEVENT
DTSTART;TZID=America/Chicago:20210807T090000
DTEND;TZID=America/Chicago:20210807T110000
DTSTAMP:20260423T213118
CREATED:20170615T155738Z
LAST-MODIFIED:20210705T212102Z
UID:10000666-1628326800-1628334000@www.racetime.info
SUMMARY:HaRUNbee 5K Run/Walk for Healthy Birth Outcomes
DESCRIPTION:
URL:https://www.racetime.info/event/harunbee-5k-run-walk-for-healthy-birth-outcomes-4/
LOCATION:Downtown Milwaukee\, North Avenue & Dr. Martin Luther King\, Jr.\, Drive\, Milwaukee\, WI\, 53212\, United States
ORGANIZER;CN="Tonda Thompson":MAILTO:harunbee5k@gmail.com
GEO:43.068014;-87.9140436
X-APPLE-STRUCTURED-LOCATION;VALUE=URI;X-ADDRESS=Downtown Milwaukee North Avenue & Dr. Martin Luther King Jr. Drive Milwaukee WI 53212 United States;X-APPLE-RADIUS=500;X-TITLE=North Avenue & Dr. Martin Luther King\, Jr.\, Drive:geo:-87.9140436,43.068014
END:VEVENT
BEGIN:VEVENT
DTSTART;TZID=America/Chicago:20200801T090000
DTEND;TZID=America/Chicago:20200801T110000
DTSTAMP:20260423T213118
CREATED:20170615T155738Z
LAST-MODIFIED:20200629T124641Z
UID:10000665-1596272400-1596279600@www.racetime.info
SUMMARY:HaRUNbee 5K Run/Walk for Healthy Birth Outcomes: VIRTUAL
DESCRIPTION:
URL:https://www.racetime.info/event/harunbee-5k-run-walk-for-healthy-birth-outcomes-3/
LOCATION:Downtown Milwaukee\, North Avenue & Dr. Martin Luther King\, Jr.\, Drive\, Milwaukee\, WI\, 53212\, United States
ORGANIZER;CN="Marcia Blackman":MAILTO:mblackman@unitedwaygmwc.org
GEO:43.068014;-87.9140436
X-APPLE-STRUCTURED-LOCATION;VALUE=URI;X-ADDRESS=Downtown Milwaukee North Avenue & Dr. Martin Luther King Jr. Drive Milwaukee WI 53212 United States;X-APPLE-RADIUS=500;X-TITLE=North Avenue & Dr. Martin Luther King\, Jr.\, Drive:geo:-87.9140436,43.068014
END:VEVENT
BEGIN:VEVENT
DTSTART;TZID=America/Chicago:20190803T090000
DTEND;TZID=America/Chicago:20190803T110000
DTSTAMP:20260423T213118
CREATED:20170615T155738Z
LAST-MODIFIED:20190803T173010Z
UID:10000664-1564822800-1564830000@www.racetime.info
SUMMARY:HaRUNbee 5K Run/Walk for Healthy Birth Outcomes
DESCRIPTION:HaRunBee 5K Overall Results
URL:https://www.racetime.info/event/harunbee-5k-run-walk-for-healthy-birth-outcomes-2/
LOCATION:Downtown Milwaukee\, North Avenue & Dr. Martin Luther King\, Jr.\, Drive\, Milwaukee\, WI\, 53212\, United States
CATEGORIES:2019-08 Results (August)
ORGANIZER;CN="Marcia Blackman":MAILTO:mblackman@unitedwaygmwc.org
GEO:43.068014;-87.9140436
X-APPLE-STRUCTURED-LOCATION;VALUE=URI;X-ADDRESS=Downtown Milwaukee North Avenue & Dr. Martin Luther King Jr. Drive Milwaukee WI 53212 United States;X-APPLE-RADIUS=500;X-TITLE=North Avenue & Dr. Martin Luther King\, Jr.\, Drive:geo:-87.9140436,43.068014
END:VEVENT
BEGIN:VEVENT
DTSTART;TZID=America/Chicago:20180804T090000
DTEND;TZID=America/Chicago:20180804T110000
DTSTAMP:20260423T213118
CREATED:20170615T155738Z
LAST-MODIFIED:20180804T182730Z
UID:10000672-1533373200-1533380400@www.racetime.info
SUMMARY:HaRUNbee 5K Run/Walk for Healthy Birth Outcomes
DESCRIPTION:HaRUNBee 5K Overall Results
URL:https://www.racetime.info/event/harunbee-5k-run-walk-for-healthy-birth-outcomes/
LOCATION:Downtown Milwaukee\, North Avenue & Dr. Martin Luther King\, Jr.\, Drive\, Milwaukee\, WI\, 53212\, United States
CATEGORIES:2018-08 Results (August)
ORGANIZER;CN="Marcia Blackman":MAILTO:mblackman@unitedwaygmwc.org
GEO:43.068014;-87.9140436
X-APPLE-STRUCTURED-LOCATION;VALUE=URI;X-ADDRESS=Downtown Milwaukee North Avenue & Dr. Martin Luther King Jr. Drive Milwaukee WI 53212 United States;X-APPLE-RADIUS=500;X-TITLE=North Avenue & Dr. Martin Luther King\, Jr.\, Drive:geo:-87.9140436,43.068014
END:VEVENT
BEGIN:VEVENT
DTSTART;TZID=America/Chicago:20170805T090000
DTEND;TZID=America/Chicago:20170805T110000
DTSTAMP:20260423T213118
CREATED:20170615T155738Z
LAST-MODIFIED:20170805T190424Z
UID:10001488-1501923600-1501930800@www.racetime.info
SUMMARY:HaRUNbee 5K Run/Walk for Healthy Birth Outcomes
DESCRIPTION:HaRUNbee 5K Run Overall Results\n\nHaRUNbee 5K Walk Overall Results\n\nHaRUNbee 5K Wheel Overall Results\n\nHaRUNBee Team Results
URL:https://www.racetime.info/event/harunbee-5k-runwalk-for-healthy-birth-outcomes/
LOCATION:Downtown Milwaukee\, North Avenue & Dr. Martin Luther King\, Jr.\, Drive\, Milwaukee\, WI\, 53212\, United States
CATEGORIES:2017-08 Results (August)
ORGANIZER;CN="Marcia Blackman":MAILTO:mblackman@unitedwaygmwc.org
GEO:43.068014;-87.9140436
X-APPLE-STRUCTURED-LOCATION;VALUE=URI;X-ADDRESS=Downtown Milwaukee North Avenue & Dr. Martin Luther King Jr. Drive Milwaukee WI 53212 United States;X-APPLE-RADIUS=500;X-TITLE=North Avenue & Dr. Martin Luther King\, Jr.\, Drive:geo:-87.9140436,43.068014
END:VEVENT
END:VCALENDAR