BEGIN:VCALENDAR
VERSION:2.0
PRODID:-//Race Time - ECPv6.15.13//NONSGML v1.0//EN
CALSCALE:GREGORIAN
METHOD:PUBLISH
X-ORIGINAL-URL:https://www.racetime.info
X-WR-CALDESC:Events for Race Time
REFRESH-INTERVAL;VALUE=DURATION:PT1H
X-Robots-Tag:noindex
X-PUBLISHED-TTL:PT1H
BEGIN:VTIMEZONE
TZID:America/Chicago
BEGIN:DAYLIGHT
TZOFFSETFROM:-0600
TZOFFSETTO:-0500
TZNAME:CDT
DTSTART:20210314T080000
END:DAYLIGHT
BEGIN:STANDARD
TZOFFSETFROM:-0500
TZOFFSETTO:-0600
TZNAME:CST
DTSTART:20211107T070000
END:STANDARD
BEGIN:DAYLIGHT
TZOFFSETFROM:-0600
TZOFFSETTO:-0500
TZNAME:CDT
DTSTART:20220313T080000
END:DAYLIGHT
BEGIN:STANDARD
TZOFFSETFROM:-0500
TZOFFSETTO:-0600
TZNAME:CST
DTSTART:20221106T070000
END:STANDARD
BEGIN:DAYLIGHT
TZOFFSETFROM:-0600
TZOFFSETTO:-0500
TZNAME:CDT
DTSTART:20230312T080000
END:DAYLIGHT
BEGIN:STANDARD
TZOFFSETFROM:-0500
TZOFFSETTO:-0600
TZNAME:CST
DTSTART:20231105T070000
END:STANDARD
BEGIN:DAYLIGHT
TZOFFSETFROM:-0600
TZOFFSETTO:-0500
TZNAME:CDT
DTSTART:20240310T080000
END:DAYLIGHT
BEGIN:STANDARD
TZOFFSETFROM:-0500
TZOFFSETTO:-0600
TZNAME:CST
DTSTART:20241103T070000
END:STANDARD
BEGIN:DAYLIGHT
TZOFFSETFROM:-0600
TZOFFSETTO:-0500
TZNAME:CDT
DTSTART:20250309T080000
END:DAYLIGHT
BEGIN:STANDARD
TZOFFSETFROM:-0500
TZOFFSETTO:-0600
TZNAME:CST
DTSTART:20251102T070000
END:STANDARD
BEGIN:DAYLIGHT
TZOFFSETFROM:-0600
TZOFFSETTO:-0500
TZNAME:CDT
DTSTART:20260308T080000
END:DAYLIGHT
BEGIN:STANDARD
TZOFFSETFROM:-0500
TZOFFSETTO:-0600
TZNAME:CST
DTSTART:20261101T070000
END:STANDARD
END:VTIMEZONE
BEGIN:VEVENT
DTSTART;TZID=America/Chicago:20250510T090000
DTEND;TZID=America/Chicago:20250510T103000
DTSTAMP:20260423T235350
CREATED:20250314T121621Z
LAST-MODIFIED:20250510T155950Z
UID:10002269-1746867600-1746873000@www.racetime.info
SUMMARY:Earlville PTA 5K Run/Walk
DESCRIPTION:Earlville 5K Age Group Results\n\nEarlville 5K Overall Results\n\nEarlville 5K Teachers Overall Results
URL:https://www.racetime.info/event/earlville-pta-5k-run-walk-2/
LOCATION:Earlville School\, 415 West Union Street\, Earlville\, IL\, 60518\, United States
CATEGORIES:2025-05 Results (May)
ORGANIZER;CN="Amber Clemens":MAILTO:earlvillepta1@gmail.com
END:VEVENT
BEGIN:VEVENT
DTSTART;TZID=America/Chicago:20240511T090000
DTEND;TZID=America/Chicago:20240511T103000
DTSTAMP:20260423T235350
CREATED:20220224T010301Z
LAST-MODIFIED:20240511T181335Z
UID:10002092-1715418000-1715423400@www.racetime.info
SUMMARY:Earlville PTA 5K Run/Walk
DESCRIPTION:Earlville 5K Age Group Results\n\nEarlville 5K Overall Results\n\nEarlville 5K Overall Teachers
URL:https://www.racetime.info/event/copy-of-earlville-pta-5k-run-walk-2/
LOCATION:Earlville School\, 415 West Union Street\, Earlville\, IL\, 60518\, United States
CATEGORIES:2024-05 Results (May)
ORGANIZER;CN="Amber Clemens":MAILTO:earlvillepta1@gmail.com
END:VEVENT
BEGIN:VEVENT
DTSTART;TZID=America/Chicago:20230422T090000
DTEND;TZID=America/Chicago:20230422T110000
DTSTAMP:20260423T235350
CREATED:20220224T010301Z
LAST-MODIFIED:20230422T200808Z
UID:10002091-1682154000-1682161200@www.racetime.info
SUMMARY:Earlville PTA 5K Run/Walk
DESCRIPTION:Earlville PTA 5K Age Group Results\n\nEarlville PTA 5K Overall Results\n\nEarlville PTA 5K Teachers Overall Results
URL:https://www.racetime.info/event/copy-of-earlville-pta-5k-run-walk/
LOCATION:Earlville School\, 415 West Union Street\, Earlville\, IL\, 60518\, United States
CATEGORIES:2023-04 Results (April)
ORGANIZER;CN="Amber Clemens":MAILTO:earlvillepta1@gmail.com
END:VEVENT
BEGIN:VEVENT
DTSTART;TZID=America/Chicago:20220423T090000
DTEND;TZID=America/Chicago:20220423T103000
DTSTAMP:20260423T235350
CREATED:20220224T010301Z
LAST-MODIFIED:20220423T214009Z
UID:10002090-1650704400-1650709800@www.racetime.info
SUMMARY:Earlville PTA 5K Run/Walk
DESCRIPTION:Earlville 5K Age Group Results\n\nEarlville 5K Overall Results\n\nEarlville Teachers Overall Results
URL:https://www.racetime.info/event/earlville-pta-5k-run-walk/
LOCATION:Earlville School\, 415 West Union Street\, Earlville\, IL\, 60518\, United States
CATEGORIES:2022-04 Results (April)
ORGANIZER;CN="Danielle Neri":MAILTO:earlvillepta1@gmail.com
END:VEVENT
END:VCALENDAR