BEGIN:VCALENDAR
VERSION:2.0
PRODID:-//Race Time - ECPv6.15.13//NONSGML v1.0//EN
CALSCALE:GREGORIAN
METHOD:PUBLISH
X-WR-CALNAME:Race Time
X-ORIGINAL-URL:https://www.racetime.info
X-WR-CALDESC:Events for Race Time
REFRESH-INTERVAL;VALUE=DURATION:PT1H
X-Robots-Tag:noindex
X-PUBLISHED-TTL:PT1H
BEGIN:VTIMEZONE
TZID:America/Chicago
BEGIN:DAYLIGHT
TZOFFSETFROM:-0600
TZOFFSETTO:-0500
TZNAME:CDT
DTSTART:20150308T080000
END:DAYLIGHT
BEGIN:STANDARD
TZOFFSETFROM:-0500
TZOFFSETTO:-0600
TZNAME:CST
DTSTART:20151101T070000
END:STANDARD
BEGIN:DAYLIGHT
TZOFFSETFROM:-0600
TZOFFSETTO:-0500
TZNAME:CDT
DTSTART:20160313T080000
END:DAYLIGHT
BEGIN:STANDARD
TZOFFSETFROM:-0500
TZOFFSETTO:-0600
TZNAME:CST
DTSTART:20161106T070000
END:STANDARD
BEGIN:DAYLIGHT
TZOFFSETFROM:-0600
TZOFFSETTO:-0500
TZNAME:CDT
DTSTART:20170312T080000
END:DAYLIGHT
BEGIN:STANDARD
TZOFFSETFROM:-0500
TZOFFSETTO:-0600
TZNAME:CST
DTSTART:20171105T070000
END:STANDARD
END:VTIMEZONE
BEGIN:VEVENT
DTSTART;TZID=America/Chicago:20160927T160000
DTEND;TZID=America/Chicago:20160927T170000
DTSTAMP:20260424T024500
CREATED:20160830T010550Z
LAST-MODIFIED:20160927T232620Z
UID:10000309-1474992000-1474995600@www.racetime.info
SUMMARY:Paris Cross Country Meet
DESCRIPTION:Mayo XC Boys & Girls Overall Results\n\nMay XC Girls Team Results\n\nMayo XC Boys Team Results
URL:https://www.racetime.info/event/paris-cross-country-meet-5/
LOCATION:Edgar County Fairgrounds\, 1104 N. Main Street\, Paris\, IL
CATEGORIES:2016 Cross Country Results
ORGANIZER;CN="Nick Sanders":MAILTO:sandersn@paris95.k12.il.us
GEO:39.630273;-87.6927984
X-APPLE-STRUCTURED-LOCATION;VALUE=URI;X-ADDRESS=Edgar County Fairgrounds 1104 N. Main Street Paris IL;X-APPLE-RADIUS=500;X-TITLE=1104 N. Main Street:geo:-87.6927984,39.630273
END:VEVENT
BEGIN:VEVENT
DTSTART;TZID=America/Chicago:20160912T160000
DTEND;TZID=America/Chicago:20160912T173000
DTSTAMP:20260424T024500
CREATED:20160830T003250Z
LAST-MODIFIED:20160913T004351Z
UID:10000783-1473696000-1473701400@www.racetime.info
SUMMARY:Paris XX Meet
DESCRIPTION:paris-sept-12-girls-overall-results\n\nparis-sept-12-girls-team-detail-results\n\nparis-sept-12-boys-overall-results\n\nparis-sept-12-boys-team-detail-results
URL:https://www.racetime.info/event/paris-xx-meet-2/
LOCATION:Edgar County Fairgrounds\, 1104 N. Main Street\, Paris\, IL
CATEGORIES:2016 Cross Country Results
ORGANIZER;CN="Nick Sanders":MAILTO:sandersn@paris95.k12.il.us
GEO:39.630273;-87.6927984
X-APPLE-STRUCTURED-LOCATION;VALUE=URI;X-ADDRESS=Edgar County Fairgrounds 1104 N. Main Street Paris IL;X-APPLE-RADIUS=500;X-TITLE=1104 N. Main Street:geo:-87.6927984,39.630273
END:VEVENT
BEGIN:VEVENT
DTSTART;TZID=America/Chicago:20160910T100000
DTEND;TZID=America/Chicago:20160910T120000
DTSTAMP:20260424T024500
CREATED:20160829T201910Z
LAST-MODIFIED:20160911T032303Z
UID:10000778-1473501600-1473508800@www.racetime.info
SUMMARY:Redbird Invitational XX Meet
DESCRIPTION:redbird-invitational-girls-overall-results\n\nredbird-invitational-girls-team-results\n\nredbird-invitational-boys-overall-results\n\nredbird-invitational-boys-team-results
URL:https://www.racetime.info/event/paris-xx-meet/
LOCATION:Edgar County Fairgrounds\, 1104 N. Main Street\, Paris\, IL
CATEGORIES:2016 Cross Country Results
ORGANIZER;CN="Nick Sanders":MAILTO:sandersn@paris95.k12.il.us
GEO:39.630273;-87.6927984
X-APPLE-STRUCTURED-LOCATION;VALUE=URI;X-ADDRESS=Edgar County Fairgrounds 1104 N. Main Street Paris IL;X-APPLE-RADIUS=500;X-TITLE=1104 N. Main Street:geo:-87.6927984,39.630273
END:VEVENT
END:VCALENDAR