BEGIN:VCALENDAR
VERSION:2.0
PRODID:-//Race Time - ECPv6.15.13//NONSGML v1.0//EN
CALSCALE:GREGORIAN
METHOD:PUBLISH
X-WR-CALNAME:Race Time
X-ORIGINAL-URL:https://www.racetime.info
X-WR-CALDESC:Events for Race Time
REFRESH-INTERVAL;VALUE=DURATION:PT1H
X-Robots-Tag:noindex
X-PUBLISHED-TTL:PT1H
BEGIN:VTIMEZONE
TZID:America/Chicago
BEGIN:DAYLIGHT
TZOFFSETFROM:-0600
TZOFFSETTO:-0500
TZNAME:CDT
DTSTART:20140309T080000
END:DAYLIGHT
BEGIN:STANDARD
TZOFFSETFROM:-0500
TZOFFSETTO:-0600
TZNAME:CST
DTSTART:20141102T070000
END:STANDARD
BEGIN:DAYLIGHT
TZOFFSETFROM:-0600
TZOFFSETTO:-0500
TZNAME:CDT
DTSTART:20150308T080000
END:DAYLIGHT
BEGIN:STANDARD
TZOFFSETFROM:-0500
TZOFFSETTO:-0600
TZNAME:CST
DTSTART:20151101T070000
END:STANDARD
BEGIN:DAYLIGHT
TZOFFSETFROM:-0600
TZOFFSETTO:-0500
TZNAME:CDT
DTSTART:20160313T080000
END:DAYLIGHT
BEGIN:STANDARD
TZOFFSETFROM:-0500
TZOFFSETTO:-0600
TZNAME:CST
DTSTART:20161106T070000
END:STANDARD
BEGIN:DAYLIGHT
TZOFFSETFROM:-0600
TZOFFSETTO:-0500
TZNAME:CDT
DTSTART:20170312T080000
END:DAYLIGHT
BEGIN:STANDARD
TZOFFSETFROM:-0500
TZOFFSETTO:-0600
TZNAME:CST
DTSTART:20171105T070000
END:STANDARD
BEGIN:DAYLIGHT
TZOFFSETFROM:-0600
TZOFFSETTO:-0500
TZNAME:CDT
DTSTART:20180311T080000
END:DAYLIGHT
BEGIN:STANDARD
TZOFFSETFROM:-0500
TZOFFSETTO:-0600
TZNAME:CST
DTSTART:20181104T070000
END:STANDARD
BEGIN:DAYLIGHT
TZOFFSETFROM:-0600
TZOFFSETTO:-0500
TZNAME:CDT
DTSTART:20190310T080000
END:DAYLIGHT
BEGIN:STANDARD
TZOFFSETFROM:-0500
TZOFFSETTO:-0600
TZNAME:CST
DTSTART:20191103T070000
END:STANDARD
BEGIN:DAYLIGHT
TZOFFSETFROM:-0600
TZOFFSETTO:-0500
TZNAME:CDT
DTSTART:20200308T080000
END:DAYLIGHT
BEGIN:STANDARD
TZOFFSETFROM:-0500
TZOFFSETTO:-0600
TZNAME:CST
DTSTART:20201101T070000
END:STANDARD
BEGIN:DAYLIGHT
TZOFFSETFROM:-0600
TZOFFSETTO:-0500
TZNAME:CDT
DTSTART:20210314T080000
END:DAYLIGHT
BEGIN:STANDARD
TZOFFSETFROM:-0500
TZOFFSETTO:-0600
TZNAME:CST
DTSTART:20211107T070000
END:STANDARD
BEGIN:DAYLIGHT
TZOFFSETFROM:-0600
TZOFFSETTO:-0500
TZNAME:CDT
DTSTART:20220313T080000
END:DAYLIGHT
BEGIN:STANDARD
TZOFFSETFROM:-0500
TZOFFSETTO:-0600
TZNAME:CST
DTSTART:20221106T070000
END:STANDARD
BEGIN:DAYLIGHT
TZOFFSETFROM:-0600
TZOFFSETTO:-0500
TZNAME:CDT
DTSTART:20230312T080000
END:DAYLIGHT
BEGIN:STANDARD
TZOFFSETFROM:-0500
TZOFFSETTO:-0600
TZNAME:CST
DTSTART:20231105T070000
END:STANDARD
BEGIN:DAYLIGHT
TZOFFSETFROM:-0600
TZOFFSETTO:-0500
TZNAME:CDT
DTSTART:20240310T080000
END:DAYLIGHT
BEGIN:STANDARD
TZOFFSETFROM:-0500
TZOFFSETTO:-0600
TZNAME:CST
DTSTART:20241103T070000
END:STANDARD
BEGIN:DAYLIGHT
TZOFFSETFROM:-0600
TZOFFSETTO:-0500
TZNAME:CDT
DTSTART:20250309T080000
END:DAYLIGHT
BEGIN:STANDARD
TZOFFSETFROM:-0500
TZOFFSETTO:-0600
TZNAME:CST
DTSTART:20251102T070000
END:STANDARD
BEGIN:DAYLIGHT
TZOFFSETFROM:-0600
TZOFFSETTO:-0500
TZNAME:CDT
DTSTART:20260308T080000
END:DAYLIGHT
BEGIN:STANDARD
TZOFFSETFROM:-0500
TZOFFSETTO:-0600
TZNAME:CST
DTSTART:20261101T070000
END:STANDARD
END:VTIMEZONE
BEGIN:VEVENT
DTSTART;TZID=America/Chicago:20250503T090000
DTEND;TZID=America/Chicago:20250503T103000
DTSTAMP:20260424T011826
CREATED:20250401T121258Z
LAST-MODIFIED:20250503T212559Z
UID:10002306-1746262800-1746268200@www.racetime.info
SUMMARY:Elim Eagles' Wings 5K Run/Walk/Roll
DESCRIPTION:Elim Eagles Wings 5K Age Group Results\n\nElim Eagles Wings 5K Overall Results
URL:https://www.racetime.info/event/elim-eagles-wings-5k-run-walk-roll-4/
LOCATION:Elim Christian Center\, 13020 S. Central Avenue\, Palos Heights\, IL\, United States
CATEGORIES:2025-05 Results (May)
ORGANIZER;CN="Lori Kuehl":MAILTO:lori.kuehl@elimcs.org
GEO:41.6557065;-87.7588161
X-APPLE-STRUCTURED-LOCATION;VALUE=URI;X-ADDRESS=Elim Christian Center 13020 S. Central Avenue Palos Heights IL United States;X-APPLE-RADIUS=500;X-TITLE=13020 S. Central Avenue:geo:-87.7588161,41.6557065
END:VEVENT
BEGIN:VEVENT
DTSTART;TZID=America/Chicago:20240518T090000
DTEND;TZID=America/Chicago:20240518T103000
DTSTAMP:20260424T011826
CREATED:20170130T143346Z
LAST-MODIFIED:20240518T164721Z
UID:10000894-1716022800-1716028200@www.racetime.info
SUMMARY:Elim Eagles' Wings 5K Run/Walk/Roll
DESCRIPTION:Elim Eagle’s Wings 5K Age Group Results\n\nElim Eagle’s Wings 5K Overall Results
URL:https://www.racetime.info/event/copy-of-elim-eagles-wings-5k-run-walk-roll-2/
LOCATION:Elim Christian Center\, 13020 S. Central Avenue\, Palos Heights\, IL\, United States
CATEGORIES:2024-05 Results (May)
ORGANIZER;CN="Lori Kuehl":MAILTO:lori.kuehl@elimcs.org
GEO:41.6557065;-87.7588161
X-APPLE-STRUCTURED-LOCATION;VALUE=URI;X-ADDRESS=Elim Christian Center 13020 S. Central Avenue Palos Heights IL United States;X-APPLE-RADIUS=500;X-TITLE=13020 S. Central Avenue:geo:-87.7588161,41.6557065
END:VEVENT
BEGIN:VEVENT
DTSTART;TZID=America/Chicago:20230513T090000
DTEND;TZID=America/Chicago:20230513T110000
DTSTAMP:20260424T011826
CREATED:20170130T143346Z
LAST-MODIFIED:20230514T003838Z
UID:10000892-1683968400-1683975600@www.racetime.info
SUMMARY:Elim Eagles' Wings 5K Run/Walk/Roll
DESCRIPTION:Elim 5K Age Group Results\n\nElim 5K Overall Results
URL:https://www.racetime.info/event/copy-of-elim-eagles-wings-5k-run-walk-roll/
LOCATION:Elim Christian Center\, 13020 S. Central Avenue\, Palos Heights\, IL\, United States
CATEGORIES:2023-05 Results (May)
ORGANIZER;CN="Lori Kuehl":MAILTO:lori.kuehl@elimcs.org
GEO:41.6557065;-87.7588161
X-APPLE-STRUCTURED-LOCATION;VALUE=URI;X-ADDRESS=Elim Christian Center 13020 S. Central Avenue Palos Heights IL United States;X-APPLE-RADIUS=500;X-TITLE=13020 S. Central Avenue:geo:-87.7588161,41.6557065
END:VEVENT
BEGIN:VEVENT
DTSTART;TZID=America/Chicago:20220514T090000
DTEND;TZID=America/Chicago:20220514T103000
DTSTAMP:20260424T011826
CREATED:20170130T143346Z
LAST-MODIFIED:20220514T191718Z
UID:10000890-1652518800-1652524200@www.racetime.info
SUMMARY:Elim Eagles' Wings 5K Run/Walk/Roll
DESCRIPTION:Elim 5K Age Group Results\n\nElim 5K Overall Results
URL:https://www.racetime.info/event/copy-of-elim-eagles-wings-5k-run-walk-roll-cancelled/
LOCATION:Elim Christian Center\, 13020 S. Central Avenue\, Palos Heights\, IL\, United States
CATEGORIES:2022-05 Results (May)
ORGANIZER;CN="Lori Kuehl":MAILTO:lori.kuehl@elimcs.org
GEO:41.6557065;-87.7588161
X-APPLE-STRUCTURED-LOCATION;VALUE=URI;X-ADDRESS=Elim Christian Center 13020 S. Central Avenue Palos Heights IL United States;X-APPLE-RADIUS=500;X-TITLE=13020 S. Central Avenue:geo:-87.7588161,41.6557065
END:VEVENT
BEGIN:VEVENT
DTSTART;TZID=America/Chicago:20200516T090000
DTEND;TZID=America/Chicago:20200516T110000
DTSTAMP:20260424T011826
CREATED:20170130T143346Z
LAST-MODIFIED:20200420T220927Z
UID:10000889-1589619600-1589626800@www.racetime.info
SUMMARY:Elim Eagles' Wings 5K Run/Walk/Roll: CANCELLED
DESCRIPTION:
URL:https://www.racetime.info/event/elim-eagles-wings-5k-run-walk-roll-3/
LOCATION:Elim Christian Center\, 13020 S. Central Avenue\, Palos Heights\, IL\, United States
ORGANIZER;CN="Lori Kuehl":MAILTO:lori.kuehl@elimcs.org
GEO:41.6557065;-87.7588161
X-APPLE-STRUCTURED-LOCATION;VALUE=URI;X-ADDRESS=Elim Christian Center 13020 S. Central Avenue Palos Heights IL United States;X-APPLE-RADIUS=500;X-TITLE=13020 S. Central Avenue:geo:-87.7588161,41.6557065
END:VEVENT
BEGIN:VEVENT
DTSTART;TZID=America/Chicago:20190511T090000
DTEND;TZID=America/Chicago:20190511T110000
DTSTAMP:20260424T011826
CREATED:20170130T143346Z
LAST-MODIFIED:20190511T192751Z
UID:10000888-1557565200-1557572400@www.racetime.info
SUMMARY:Elim Eagles' Wings 5K Run/Walk/Roll
DESCRIPTION:Elim 5K Age Group Results\n\nElim 5K Overall Results
URL:https://www.racetime.info/event/elim-eagles-wings-5k-run-walk-roll-2/
LOCATION:Elim Christian Center\, 13020 S. Central Avenue\, Palos Heights\, IL\, United States
CATEGORIES:2019-05 Results (May)
ORGANIZER;CN="Lori Kuehl":MAILTO:lori.kuehl@elimcs.org
GEO:41.6557065;-87.7588161
X-APPLE-STRUCTURED-LOCATION;VALUE=URI;X-ADDRESS=Elim Christian Center 13020 S. Central Avenue Palos Heights IL United States;X-APPLE-RADIUS=500;X-TITLE=13020 S. Central Avenue:geo:-87.7588161,41.6557065
END:VEVENT
BEGIN:VEVENT
DTSTART;TZID=America/Chicago:20180519T090000
DTEND;TZID=America/Chicago:20180519T110000
DTSTAMP:20260424T011826
CREATED:20170130T143346Z
LAST-MODIFIED:20180519T172633Z
UID:10000886-1526720400-1526727600@www.racetime.info
SUMMARY:Elim Eagles' Wings 5K Run/Walk/Roll
DESCRIPTION:Elim 5K Age Group Results\n\nElim 5K Overall Results
URL:https://www.racetime.info/event/elim-eagles-wings-5k-run-walk-roll/
LOCATION:Elim Christian Center\, 13020 S. Central Avenue\, Palos Heights\, IL\, United States
CATEGORIES:2018-05 Results (May)
ORGANIZER;CN="Lori Kuehl":MAILTO:lori.kuehl@elimcs.org
GEO:41.6557065;-87.7588161
X-APPLE-STRUCTURED-LOCATION;VALUE=URI;X-ADDRESS=Elim Christian Center 13020 S. Central Avenue Palos Heights IL United States;X-APPLE-RADIUS=500;X-TITLE=13020 S. Central Avenue:geo:-87.7588161,41.6557065
END:VEVENT
BEGIN:VEVENT
DTSTART;TZID=America/Chicago:20170520T090000
DTEND;TZID=America/Chicago:20170520T110000
DTSTAMP:20260424T011826
CREATED:20170130T143346Z
LAST-MODIFIED:20170524T101406Z
UID:10000884-1495270800-1495278000@www.racetime.info
SUMMARY:Elim Eagles' Wings 5K Run/Walk/Roll
DESCRIPTION:Elim 5K Age Group Results\n\nElim 5K Overall Results
URL:https://www.racetime.info/event/elim-eagles-wings-5k-runwalkroll/
LOCATION:Elim Christian Center\, 13020 S. Central Avenue\, Palos Heights\, IL\, United States
CATEGORIES:2017-05 Results (May)
ORGANIZER;CN="Lori Kuehl":MAILTO:lori.kuehl@elimcs.org
GEO:41.6557065;-87.7588161
X-APPLE-STRUCTURED-LOCATION;VALUE=URI;X-ADDRESS=Elim Christian Center 13020 S. Central Avenue Palos Heights IL United States;X-APPLE-RADIUS=500;X-TITLE=13020 S. Central Avenue:geo:-87.7588161,41.6557065
END:VEVENT
BEGIN:VEVENT
DTSTART;TZID=America/Chicago:20160507T090000
DTEND;TZID=America/Chicago:20160507T110000
DTSTAMP:20260424T011826
CREATED:20160124T031840Z
LAST-MODIFIED:20160511T232928Z
UID:10000176-1462611600-1462618800@www.racetime.info
SUMMARY:May The 5k Be With You: Run\, Walk & Roll 5K & 1 Mile
DESCRIPTION:May The 5K Be With You Age Group Results\n\nMay The 5K Be With You Overall Results
URL:https://www.racetime.info/event/may-the-5k-be-with-you-run-walk-roll-5k-1-mile/
LOCATION:Elim Christian Center\, 13020 S. Central Avenue\, Palos Heights\, IL\, United States
CATEGORIES:2016-05 Results (May)
ORGANIZER;CN="Lori Kuehl":MAILTO:lori.kuehl@elimcs.org
GEO:41.6557065;-87.7588161
X-APPLE-STRUCTURED-LOCATION;VALUE=URI;X-ADDRESS=Elim Christian Center 13020 S. Central Avenue Palos Heights IL United States;X-APPLE-RADIUS=500;X-TITLE=13020 S. Central Avenue:geo:-87.7588161,41.6557065
END:VEVENT
BEGIN:VEVENT
DTSTART;TZID=America/Chicago:20150509T090000
DTEND;TZID=America/Chicago:20150509T110000
DTSTAMP:20260424T011826
CREATED:20150409T034504Z
LAST-MODIFIED:20150829T201331Z
UID:10000005-1431162000-1431169200@www.racetime.info
SUMMARY:Eagles Wings
DESCRIPTION:Eagle’s Wings 5K Overall Results
URL:https://www.racetime.info/event/eagles-wings-2/
LOCATION:Elim Christian Center\, 13020 S. Central Avenue\, Palos Heights\, IL\, United States
CATEGORIES:2015-05 Results (May)
ATTACH;FMTTYPE=image/png:https://www.racetime.info/wp-content/uploads/2015/04/2015-05-09_Elim.png
ORGANIZER;CN="Lori Kuehl":MAILTO:lori.kuehl@elimcs.org
GEO:41.6557065;-87.7588161
X-APPLE-STRUCTURED-LOCATION;VALUE=URI;X-ADDRESS=Elim Christian Center 13020 S. Central Avenue Palos Heights IL United States;X-APPLE-RADIUS=500;X-TITLE=13020 S. Central Avenue:geo:-87.7588161,41.6557065
END:VEVENT
END:VCALENDAR