BEGIN:VCALENDAR
VERSION:2.0
PRODID:-//Race Time - ECPv6.15.13//NONSGML v1.0//EN
CALSCALE:GREGORIAN
METHOD:PUBLISH
X-ORIGINAL-URL:https://www.racetime.info
X-WR-CALDESC:Events for Race Time
REFRESH-INTERVAL;VALUE=DURATION:PT1H
X-Robots-Tag:noindex
X-PUBLISHED-TTL:PT1H
BEGIN:VTIMEZONE
TZID:America/Chicago
BEGIN:DAYLIGHT
TZOFFSETFROM:-0600
TZOFFSETTO:-0500
TZNAME:CDT
DTSTART:20250309T080000
END:DAYLIGHT
BEGIN:STANDARD
TZOFFSETFROM:-0500
TZOFFSETTO:-0600
TZNAME:CST
DTSTART:20251102T070000
END:STANDARD
BEGIN:DAYLIGHT
TZOFFSETFROM:-0600
TZOFFSETTO:-0500
TZNAME:CDT
DTSTART:20260308T080000
END:DAYLIGHT
BEGIN:STANDARD
TZOFFSETFROM:-0500
TZOFFSETTO:-0600
TZNAME:CST
DTSTART:20261101T070000
END:STANDARD
BEGIN:DAYLIGHT
TZOFFSETFROM:-0600
TZOFFSETTO:-0500
TZNAME:CDT
DTSTART:20270314T080000
END:DAYLIGHT
BEGIN:STANDARD
TZOFFSETFROM:-0500
TZOFFSETTO:-0600
TZNAME:CST
DTSTART:20271107T070000
END:STANDARD
END:VTIMEZONE
BEGIN:VEVENT
DTSTART;TZID=America/Chicago:20260502T090000
DTEND;TZID=America/Chicago:20260502T103000
DTSTAMP:20260423T235352
CREATED:20260308T114540Z
LAST-MODIFIED:20260308T114540Z
UID:10002519-1777712400-1777717800@www.racetime.info
SUMMARY:Elim Eagles' Wings 5K Run/Walk/Roll
DESCRIPTION:
URL:https://www.racetime.info/event/elim-eagles-wings-5k-run-walk-roll-5/
LOCATION:Elim Christian Center\, 13020 S. Central Avenue\, Palos Heights\, IL\, United States
ORGANIZER;CN="Lori Kuehl":MAILTO:lori.kuehl@elimcs.org
GEO:41.6557065;-87.7588161
X-APPLE-STRUCTURED-LOCATION;VALUE=URI;X-ADDRESS=Elim Christian Center 13020 S. Central Avenue Palos Heights IL United States;X-APPLE-RADIUS=500;X-TITLE=13020 S. Central Avenue:geo:-87.7588161,41.6557065
END:VEVENT
END:VCALENDAR