BEGIN:VCALENDAR
VERSION:2.0
PRODID:-//Race Time - ECPv6.15.13//NONSGML v1.0//EN
CALSCALE:GREGORIAN
METHOD:PUBLISH
X-WR-CALNAME:Race Time
X-ORIGINAL-URL:https://www.racetime.info
X-WR-CALDESC:Events for Race Time
REFRESH-INTERVAL;VALUE=DURATION:PT1H
X-Robots-Tag:noindex
X-PUBLISHED-TTL:PT1H
BEGIN:VTIMEZONE
TZID:America/Chicago
BEGIN:DAYLIGHT
TZOFFSETFROM:-0600
TZOFFSETTO:-0500
TZNAME:CDT
DTSTART:20140309T080000
END:DAYLIGHT
BEGIN:STANDARD
TZOFFSETFROM:-0500
TZOFFSETTO:-0600
TZNAME:CST
DTSTART:20141102T070000
END:STANDARD
BEGIN:DAYLIGHT
TZOFFSETFROM:-0600
TZOFFSETTO:-0500
TZNAME:CDT
DTSTART:20150308T080000
END:DAYLIGHT
BEGIN:STANDARD
TZOFFSETFROM:-0500
TZOFFSETTO:-0600
TZNAME:CST
DTSTART:20151101T070000
END:STANDARD
BEGIN:DAYLIGHT
TZOFFSETFROM:-0600
TZOFFSETTO:-0500
TZNAME:CDT
DTSTART:20160313T080000
END:DAYLIGHT
BEGIN:STANDARD
TZOFFSETFROM:-0500
TZOFFSETTO:-0600
TZNAME:CST
DTSTART:20161106T070000
END:STANDARD
BEGIN:DAYLIGHT
TZOFFSETFROM:-0600
TZOFFSETTO:-0500
TZNAME:CDT
DTSTART:20170312T080000
END:DAYLIGHT
BEGIN:STANDARD
TZOFFSETFROM:-0500
TZOFFSETTO:-0600
TZNAME:CST
DTSTART:20171105T070000
END:STANDARD
BEGIN:DAYLIGHT
TZOFFSETFROM:-0600
TZOFFSETTO:-0500
TZNAME:CDT
DTSTART:20180311T080000
END:DAYLIGHT
BEGIN:STANDARD
TZOFFSETFROM:-0500
TZOFFSETTO:-0600
TZNAME:CST
DTSTART:20181104T070000
END:STANDARD
BEGIN:DAYLIGHT
TZOFFSETFROM:-0600
TZOFFSETTO:-0500
TZNAME:CDT
DTSTART:20190310T080000
END:DAYLIGHT
BEGIN:STANDARD
TZOFFSETFROM:-0500
TZOFFSETTO:-0600
TZNAME:CST
DTSTART:20191103T070000
END:STANDARD
BEGIN:DAYLIGHT
TZOFFSETFROM:-0600
TZOFFSETTO:-0500
TZNAME:CDT
DTSTART:20200308T080000
END:DAYLIGHT
BEGIN:STANDARD
TZOFFSETFROM:-0500
TZOFFSETTO:-0600
TZNAME:CST
DTSTART:20201101T070000
END:STANDARD
BEGIN:DAYLIGHT
TZOFFSETFROM:-0600
TZOFFSETTO:-0500
TZNAME:CDT
DTSTART:20210314T080000
END:DAYLIGHT
BEGIN:STANDARD
TZOFFSETFROM:-0500
TZOFFSETTO:-0600
TZNAME:CST
DTSTART:20211107T070000
END:STANDARD
BEGIN:DAYLIGHT
TZOFFSETFROM:-0600
TZOFFSETTO:-0500
TZNAME:CDT
DTSTART:20220313T080000
END:DAYLIGHT
BEGIN:STANDARD
TZOFFSETFROM:-0500
TZOFFSETTO:-0600
TZNAME:CST
DTSTART:20221106T070000
END:STANDARD
BEGIN:DAYLIGHT
TZOFFSETFROM:-0600
TZOFFSETTO:-0500
TZNAME:CDT
DTSTART:20230312T080000
END:DAYLIGHT
BEGIN:STANDARD
TZOFFSETFROM:-0500
TZOFFSETTO:-0600
TZNAME:CST
DTSTART:20231105T070000
END:STANDARD
BEGIN:DAYLIGHT
TZOFFSETFROM:-0600
TZOFFSETTO:-0500
TZNAME:CDT
DTSTART:20240310T080000
END:DAYLIGHT
BEGIN:STANDARD
TZOFFSETFROM:-0500
TZOFFSETTO:-0600
TZNAME:CST
DTSTART:20241103T070000
END:STANDARD
BEGIN:DAYLIGHT
TZOFFSETFROM:-0600
TZOFFSETTO:-0500
TZNAME:CDT
DTSTART:20250309T080000
END:DAYLIGHT
BEGIN:STANDARD
TZOFFSETFROM:-0500
TZOFFSETTO:-0600
TZNAME:CST
DTSTART:20251102T070000
END:STANDARD
BEGIN:DAYLIGHT
TZOFFSETFROM:-0600
TZOFFSETTO:-0500
TZNAME:CDT
DTSTART:20260308T080000
END:DAYLIGHT
BEGIN:STANDARD
TZOFFSETFROM:-0500
TZOFFSETTO:-0600
TZNAME:CST
DTSTART:20261101T070000
END:STANDARD
END:VTIMEZONE
BEGIN:VEVENT
DTSTART;TZID=America/Chicago:20250510T083000
DTEND;TZID=America/Chicago:20250510T100000
DTSTAMP:20260423T210802
CREATED:20250401T124440Z
LAST-MODIFIED:20250510T162255Z
UID:10002313-1746865800-1746871200@www.racetime.info
SUMMARY:Hope For Haitians Fun Bun Run 5K
DESCRIPTION:Fun Bun Run 5K Age Group Results\n\nFun Bun Run 5K Overall Results
URL:https://www.racetime.info/event/hope-for-haitians-fun-bun-run-5k-2/
LOCATION:Fabyan Forest Preserve\, 1925 Chrissy Avenue\, Geneva\, IL\, 60134\, United States
CATEGORIES:2025-05 Results (May)
ORGANIZER;CN="Chris Weickert":MAILTO:chris@hopeforhaitians.org
GEO:41.8716989;-88.3128618
X-APPLE-STRUCTURED-LOCATION;VALUE=URI;X-ADDRESS=Fabyan Forest Preserve 1925 Chrissy Avenue Geneva IL 60134 United States;X-APPLE-RADIUS=500;X-TITLE=1925 Chrissy Avenue:geo:-88.3128618,41.8716989
END:VEVENT
BEGIN:VEVENT
DTSTART;TZID=America/Chicago:20240511T083000
DTEND;TZID=America/Chicago:20240511T100000
DTSTAMP:20260423T210802
CREATED:20170315T202816Z
LAST-MODIFIED:20240511T155345Z
UID:10001204-1715416200-1715421600@www.racetime.info
SUMMARY:Hope For Haitians Fun Bun Run 5K
DESCRIPTION:Fun Bun Run 5K Age Group Results\n\nFun Bun Run 5K Overall Results
URL:https://www.racetime.info/event/copy-of-hope-for-haitians-fun-bun-run-5k-2/
LOCATION:Fabyan Forest Preserve\, 1925 Chrissy Avenue\, Geneva\, IL\, 60134\, United States
CATEGORIES:2024-05 Results (May)
ORGANIZER;CN="Chris Weickert":MAILTO:chris@hopeforhaitians.org
GEO:41.8716989;-88.3128618
X-APPLE-STRUCTURED-LOCATION;VALUE=URI;X-ADDRESS=Fabyan Forest Preserve 1925 Chrissy Avenue Geneva IL 60134 United States;X-APPLE-RADIUS=500;X-TITLE=1925 Chrissy Avenue:geo:-88.3128618,41.8716989
END:VEVENT
BEGIN:VEVENT
DTSTART;TZID=America/Chicago:20190316T100000
DTEND;TZID=America/Chicago:20190316T120000
DTSTAMP:20260423T210802
CREATED:20190201T124011Z
LAST-MODIFIED:20190316T231243Z
UID:10001849-1552730400-1552737600@www.racetime.info
SUMMARY:Fox Valley Winter Challenge Trail Series Race #3 10K
DESCRIPTION:Fox Valley Winter Challenge 10K Overall by Gender\n\nFox Valley Winter Challenge 10K Overall Results
URL:https://www.racetime.info/event/fox-valley-winter-challenge-trail-series-race-2-8k/
LOCATION:Fabyan Forest Preserve\, 1925 Chrissy Avenue\, Geneva\, IL\, 60134\, United States
CATEGORIES:2019-03 Results (March)
ORGANIZER;CN="Chief Trail Runner":MAILTO:racedirector@runandachieve.com
GEO:41.8716989;-88.3128618
X-APPLE-STRUCTURED-LOCATION;VALUE=URI;X-ADDRESS=Fabyan Forest Preserve 1925 Chrissy Avenue Geneva IL 60134 United States;X-APPLE-RADIUS=500;X-TITLE=1925 Chrissy Avenue:geo:-88.3128618,41.8716989
END:VEVENT
BEGIN:VEVENT
DTSTART;TZID=America/Chicago:20181111T090000
DTEND;TZID=America/Chicago:20181111T110000
DTSTAMP:20260423T210802
CREATED:20180801T012123Z
LAST-MODIFIED:20181111T171556Z
UID:10000993-1541926800-1541934000@www.racetime.info
SUMMARY:Windmill Trail Challenge 5K & 10K
DESCRIPTION:Windmill 5K Age Group Results\n\nWindmill 5K Overall Results\n\nWindmill 10K Age Group Results\n\nWindmill 10K Overall Results
URL:https://www.racetime.info/event/windmill-trail-challenge-5k-10k/
LOCATION:Fabyan Forest Preserve\, 1925 Chrissy Avenue\, Geneva\, IL\, 60134\, United States
CATEGORIES:2018-11 Results (November)
ORGANIZER;CN="Wayne Haworth":MAILTO:wayne@dickpondathletics.com
GEO:41.8716989;-88.3128618
X-APPLE-STRUCTURED-LOCATION;VALUE=URI;X-ADDRESS=Fabyan Forest Preserve 1925 Chrissy Avenue Geneva IL 60134 United States;X-APPLE-RADIUS=500;X-TITLE=1925 Chrissy Avenue:geo:-88.3128618,41.8716989
END:VEVENT
BEGIN:VEVENT
DTSTART;TZID=America/Chicago:20161105T090000
DTEND;TZID=America/Chicago:20161105T110000
DTSTAMP:20260423T210802
CREATED:20160916T030450Z
LAST-MODIFIED:20161106T003420Z
UID:10000327-1478336400-1478343600@www.racetime.info
SUMMARY:Honoring Amie 5K Run/Walk
DESCRIPTION:Honoring Amie 5K Age Group Results\n\nHonoring Amie 5K Overall Results
URL:https://www.racetime.info/event/honoring-amie-5k-runwalk-2/
LOCATION:Fabyan Forest Preserve\, 1925 Chrissy Avenue\, Geneva\, IL\, 60134\, United States
CATEGORIES:2016-11 Results (November)
ORGANIZER;CN="Gretchen Steil Weiss":MAILTO:ge-steil@wiu.edu
GEO:41.8716989;-88.3128618
X-APPLE-STRUCTURED-LOCATION;VALUE=URI;X-ADDRESS=Fabyan Forest Preserve 1925 Chrissy Avenue Geneva IL 60134 United States;X-APPLE-RADIUS=500;X-TITLE=1925 Chrissy Avenue:geo:-88.3128618,41.8716989
END:VEVENT
BEGIN:VEVENT
DTSTART;TZID=America/Chicago:20151010T090000
DTEND;TZID=America/Chicago:20151010T110000
DTSTAMP:20260423T210802
CREATED:20150901T002752Z
LAST-MODIFIED:20151010T202539Z
UID:10000362-1444467600-1444474800@www.racetime.info
SUMMARY:Honoring Amie 5K Run/Walk
DESCRIPTION:Honoring Aimee 5K Age Group Results\n\nHonoring Aimee 5K Overall Results
URL:https://www.racetime.info/event/honoring-amie-5k-runwalk/
LOCATION:Fabyan Forest Preserve\, 1925 Chrissy Avenue\, Geneva\, IL\, 60134\, United States
CATEGORIES:2015-10 Results (October)
ORGANIZER;CN="Gretchen Steil Weiss":MAILTO:ge-steil@wiu.edu
GEO:41.8716989;-88.3128618
X-APPLE-STRUCTURED-LOCATION;VALUE=URI;X-ADDRESS=Fabyan Forest Preserve 1925 Chrissy Avenue Geneva IL 60134 United States;X-APPLE-RADIUS=500;X-TITLE=1925 Chrissy Avenue:geo:-88.3128618,41.8716989
END:VEVENT
END:VCALENDAR