BEGIN:VCALENDAR
VERSION:2.0
PRODID:-//Race Time - ECPv6.15.13//NONSGML v1.0//EN
CALSCALE:GREGORIAN
METHOD:PUBLISH
X-WR-CALNAME:Race Time
X-ORIGINAL-URL:https://www.racetime.info
X-WR-CALDESC:Events for Race Time
REFRESH-INTERVAL;VALUE=DURATION:PT1H
X-Robots-Tag:noindex
X-PUBLISHED-TTL:PT1H
BEGIN:VTIMEZONE
TZID:America/Chicago
BEGIN:DAYLIGHT
TZOFFSETFROM:-0600
TZOFFSETTO:-0500
TZNAME:CDT
DTSTART:20140309T080000
END:DAYLIGHT
BEGIN:STANDARD
TZOFFSETFROM:-0500
TZOFFSETTO:-0600
TZNAME:CST
DTSTART:20141102T070000
END:STANDARD
BEGIN:DAYLIGHT
TZOFFSETFROM:-0600
TZOFFSETTO:-0500
TZNAME:CDT
DTSTART:20150308T080000
END:DAYLIGHT
BEGIN:STANDARD
TZOFFSETFROM:-0500
TZOFFSETTO:-0600
TZNAME:CST
DTSTART:20151101T070000
END:STANDARD
BEGIN:DAYLIGHT
TZOFFSETFROM:-0600
TZOFFSETTO:-0500
TZNAME:CDT
DTSTART:20160313T080000
END:DAYLIGHT
BEGIN:STANDARD
TZOFFSETFROM:-0500
TZOFFSETTO:-0600
TZNAME:CST
DTSTART:20161106T070000
END:STANDARD
BEGIN:DAYLIGHT
TZOFFSETFROM:-0600
TZOFFSETTO:-0500
TZNAME:CDT
DTSTART:20170312T080000
END:DAYLIGHT
BEGIN:STANDARD
TZOFFSETFROM:-0500
TZOFFSETTO:-0600
TZNAME:CST
DTSTART:20171105T070000
END:STANDARD
BEGIN:DAYLIGHT
TZOFFSETFROM:-0600
TZOFFSETTO:-0500
TZNAME:CDT
DTSTART:20180311T080000
END:DAYLIGHT
BEGIN:STANDARD
TZOFFSETFROM:-0500
TZOFFSETTO:-0600
TZNAME:CST
DTSTART:20181104T070000
END:STANDARD
BEGIN:DAYLIGHT
TZOFFSETFROM:-0600
TZOFFSETTO:-0500
TZNAME:CDT
DTSTART:20190310T080000
END:DAYLIGHT
BEGIN:STANDARD
TZOFFSETFROM:-0500
TZOFFSETTO:-0600
TZNAME:CST
DTSTART:20191103T070000
END:STANDARD
BEGIN:DAYLIGHT
TZOFFSETFROM:-0600
TZOFFSETTO:-0500
TZNAME:CDT
DTSTART:20200308T080000
END:DAYLIGHT
BEGIN:STANDARD
TZOFFSETFROM:-0500
TZOFFSETTO:-0600
TZNAME:CST
DTSTART:20201101T070000
END:STANDARD
BEGIN:DAYLIGHT
TZOFFSETFROM:-0600
TZOFFSETTO:-0500
TZNAME:CDT
DTSTART:20210314T080000
END:DAYLIGHT
BEGIN:STANDARD
TZOFFSETFROM:-0500
TZOFFSETTO:-0600
TZNAME:CST
DTSTART:20211107T070000
END:STANDARD
END:VTIMEZONE
BEGIN:VEVENT
DTSTART;TZID=America/Chicago:20201003T080000
DTEND;TZID=America/Chicago:20201003T110000
DTSTAMP:20260423T210907
CREATED:20170317T044707Z
LAST-MODIFIED:20200909T123109Z
UID:10000507-1601712000-1601722800@www.racetime.info
SUMMARY:Cougars 5K Run/Walk & Youth Dash: CANCELLED
DESCRIPTION:
URL:https://www.racetime.info/event/cougars-5k-run-walk-youth-dash-2/
LOCATION:Northwestern Medicine Field\, 34W002 Cherry Lane\, Geneva\, IL\, 60134\, United States
ORGANIZER;CN="Curtis Haug":MAILTO:chaug@kanecountycougars.com
GEO:40.6331249;-89.3985283
X-APPLE-STRUCTURED-LOCATION;VALUE=URI;X-ADDRESS=Northwestern Medicine Field 34W002 Cherry Lane Geneva IL 60134 United States;X-APPLE-RADIUS=500;X-TITLE=34W002 Cherry Lane:geo:-89.3985283,40.6331249
END:VEVENT
BEGIN:VEVENT
DTSTART;TZID=America/Chicago:20190518T080000
DTEND;TZID=America/Chicago:20190518T110000
DTSTAMP:20260423T210907
CREATED:20170317T044707Z
LAST-MODIFIED:20190520T134739Z
UID:10000505-1558166400-1558177200@www.racetime.info
SUMMARY:Cougars 5K Run/Walk & Youth Dash
DESCRIPTION:Kane County Cougars 5K Age Group Results\n\nKane County Cougars 5K Overall Results
URL:https://www.racetime.info/event/cougars-5k-run-walk-youth-dash/
LOCATION:Northwestern Medicine Field\, 34W002 Cherry Lane\, Geneva\, IL\, 60134\, United States
CATEGORIES:2019-05 Results (May)
ORGANIZER;CN="Curtis Haug":MAILTO:chaug@kanecountycougars.com
GEO:40.6331249;-89.3985283
X-APPLE-STRUCTURED-LOCATION;VALUE=URI;X-ADDRESS=Northwestern Medicine Field 34W002 Cherry Lane Geneva IL 60134 United States;X-APPLE-RADIUS=500;X-TITLE=34W002 Cherry Lane:geo:-89.3985283,40.6331249
END:VEVENT
BEGIN:VEVENT
DTSTART;TZID=America/Chicago:20180519T080000
DTEND;TZID=America/Chicago:20180519T110000
DTSTAMP:20260423T210907
CREATED:20170317T044707Z
LAST-MODIFIED:20180519T201920Z
UID:10000502-1526716800-1526727600@www.racetime.info
SUMMARY:Cougars 5K Run/Walk & Youth Dash
DESCRIPTION:Cougars 5K Age Group Results\n\nCougars 5K Overall Results
URL:https://www.racetime.info/event/cougars-5k-run-walk-youth-dash-honoring-first-responders/
LOCATION:Northwestern Medicine Field\, 34W002 Cherry Lane\, Geneva\, IL\, 60134\, United States
CATEGORIES:2018-05 Results (May)
ORGANIZER;CN="Curtis Haug":MAILTO:chaug@kanecountycougars.com
GEO:40.6331249;-89.3985283
X-APPLE-STRUCTURED-LOCATION;VALUE=URI;X-ADDRESS=Northwestern Medicine Field 34W002 Cherry Lane Geneva IL 60134 United States;X-APPLE-RADIUS=500;X-TITLE=34W002 Cherry Lane:geo:-89.3985283,40.6331249
END:VEVENT
BEGIN:VEVENT
DTSTART;TZID=America/Chicago:20170603T080000
DTEND;TZID=America/Chicago:20170603T110000
DTSTAMP:20260423T210907
CREATED:20170317T044707Z
LAST-MODIFIED:20170606T210505Z
UID:10001230-1496476800-1496487600@www.racetime.info
SUMMARY:Cougars 5K Run/Walk & Youth Dash: Honoring First Responders!
DESCRIPTION:Kane County Cougars 5K Age Group Results\n\nKane County Cougars 5K Overall Results
URL:https://www.racetime.info/event/cougars-5k-runwalk-youth-dash-honoring-first-responders/
LOCATION:Northwestern Medicine Field\, 34W002 Cherry Lane\, Geneva\, IL\, 60134\, United States
CATEGORIES:2017-06 Results (June)
ORGANIZER;CN="Curtis Haug":MAILTO:chaug@kanecountycougars.com
GEO:40.6331249;-89.3985283
X-APPLE-STRUCTURED-LOCATION;VALUE=URI;X-ADDRESS=Northwestern Medicine Field 34W002 Cherry Lane Geneva IL 60134 United States;X-APPLE-RADIUS=500;X-TITLE=34W002 Cherry Lane:geo:-89.3985283,40.6331249
END:VEVENT
BEGIN:VEVENT
DTSTART;TZID=America/Chicago:20160521T080000
DTEND;TZID=America/Chicago:20160521T100000
DTSTAMP:20260423T210907
CREATED:20160111T175011Z
LAST-MODIFIED:20160521T155215Z
UID:10000474-1463817600-1463824800@www.racetime.info
SUMMARY:Ozzie's Home Run and Walk 5K; Ozzie's Inside the Park Youth Dash
DESCRIPTION:Ozzie 5K  Age Group Results\n\nOzzie 5K Overall Results
URL:https://www.racetime.info/event/ozzies-home-run-and-walk-5k-ozzies-inside-the-park-youth-dash/
LOCATION:Northwestern Medicine Field\, 34W002 Cherry Lane\, Geneva\, IL\, 60134\, United States
CATEGORIES:2016-05 Results (May)
ORGANIZER;CN="Joe Golota":MAILTO:jgolota@kanecountycougars.com
GEO:40.6331249;-89.3985283
X-APPLE-STRUCTURED-LOCATION;VALUE=URI;X-ADDRESS=Northwestern Medicine Field 34W002 Cherry Lane Geneva IL 60134 United States;X-APPLE-RADIUS=500;X-TITLE=34W002 Cherry Lane:geo:-89.3985283,40.6331249
END:VEVENT
BEGIN:VEVENT
DTSTART;TZID=America/Chicago:20150530T080000
DTEND;TZID=America/Chicago:20150530T110000
DTSTAMP:20260423T210907
CREATED:20150409T034509Z
LAST-MODIFIED:20150829T202347Z
UID:10000156-1432972800-1432983600@www.racetime.info
SUMMARY:Ozzie's Home Run & Walk 5K
DESCRIPTION:Ozzie’s 5K Age Group Results\n\nOzzie’s 5K Overall Results
URL:https://www.racetime.info/event/ozzies-home-run-walk-5k-2/
LOCATION:Northwestern Medicine Field\, 34W002 Cherry Lane\, Geneva\, IL\, 60134\, United States
CATEGORIES:2015-05 Results (May)
ORGANIZER;CN="Joe Golota":MAILTO:jgolota@kanecountycougars.com
GEO:40.6331249;-89.3985283
X-APPLE-STRUCTURED-LOCATION;VALUE=URI;X-ADDRESS=Northwestern Medicine Field 34W002 Cherry Lane Geneva IL 60134 United States;X-APPLE-RADIUS=500;X-TITLE=34W002 Cherry Lane:geo:-89.3985283,40.6331249
END:VEVENT
END:VCALENDAR