BEGIN:VCALENDAR
VERSION:2.0
PRODID:-//Race Time - ECPv6.15.13//NONSGML v1.0//EN
CALSCALE:GREGORIAN
METHOD:PUBLISH
X-ORIGINAL-URL:https://www.racetime.info
X-WR-CALDESC:Events for Race Time
REFRESH-INTERVAL;VALUE=DURATION:PT1H
X-Robots-Tag:noindex
X-PUBLISHED-TTL:PT1H
BEGIN:VTIMEZONE
TZID:America/Chicago
BEGIN:DAYLIGHT
TZOFFSETFROM:-0600
TZOFFSETTO:-0500
TZNAME:CDT
DTSTART:20140309T080000
END:DAYLIGHT
BEGIN:STANDARD
TZOFFSETFROM:-0500
TZOFFSETTO:-0600
TZNAME:CST
DTSTART:20141102T070000
END:STANDARD
BEGIN:DAYLIGHT
TZOFFSETFROM:-0600
TZOFFSETTO:-0500
TZNAME:CDT
DTSTART:20150308T080000
END:DAYLIGHT
BEGIN:STANDARD
TZOFFSETFROM:-0500
TZOFFSETTO:-0600
TZNAME:CST
DTSTART:20151101T070000
END:STANDARD
BEGIN:DAYLIGHT
TZOFFSETFROM:-0600
TZOFFSETTO:-0500
TZNAME:CDT
DTSTART:20160313T080000
END:DAYLIGHT
BEGIN:STANDARD
TZOFFSETFROM:-0500
TZOFFSETTO:-0600
TZNAME:CST
DTSTART:20161106T070000
END:STANDARD
BEGIN:DAYLIGHT
TZOFFSETFROM:-0600
TZOFFSETTO:-0500
TZNAME:CDT
DTSTART:20170312T080000
END:DAYLIGHT
BEGIN:STANDARD
TZOFFSETFROM:-0500
TZOFFSETTO:-0600
TZNAME:CST
DTSTART:20171105T070000
END:STANDARD
BEGIN:DAYLIGHT
TZOFFSETFROM:-0600
TZOFFSETTO:-0500
TZNAME:CDT
DTSTART:20180311T080000
END:DAYLIGHT
BEGIN:STANDARD
TZOFFSETFROM:-0500
TZOFFSETTO:-0600
TZNAME:CST
DTSTART:20181104T070000
END:STANDARD
BEGIN:DAYLIGHT
TZOFFSETFROM:-0600
TZOFFSETTO:-0500
TZNAME:CDT
DTSTART:20190310T080000
END:DAYLIGHT
BEGIN:STANDARD
TZOFFSETFROM:-0500
TZOFFSETTO:-0600
TZNAME:CST
DTSTART:20191103T070000
END:STANDARD
BEGIN:DAYLIGHT
TZOFFSETFROM:-0600
TZOFFSETTO:-0500
TZNAME:CDT
DTSTART:20200308T080000
END:DAYLIGHT
BEGIN:STANDARD
TZOFFSETFROM:-0500
TZOFFSETTO:-0600
TZNAME:CST
DTSTART:20201101T070000
END:STANDARD
BEGIN:DAYLIGHT
TZOFFSETFROM:-0600
TZOFFSETTO:-0500
TZNAME:CDT
DTSTART:20210314T080000
END:DAYLIGHT
BEGIN:STANDARD
TZOFFSETFROM:-0500
TZOFFSETTO:-0600
TZNAME:CST
DTSTART:20211107T070000
END:STANDARD
END:VTIMEZONE
BEGIN:VEVENT
DTSTART;TZID=America/Chicago:20200715T190000
DTEND;TZID=America/Chicago:20200715T203000
DTSTAMP:20260424T001305
CREATED:20190701T184355Z
LAST-MODIFIED:20200810T011557Z
UID:10001074-1594839600-1594845000@www.racetime.info
SUMMARY:Summer Sunset 5K & 1 Mile Virtual Race
DESCRIPTION:Summer Sunset Virtual Overall Run Results
URL:https://www.racetime.info/event/summer-sunset-5k-youth-races-2/
LOCATION:Geneva High School\, 799 Gray Street\, Geneva\, IL\, 60134\, United States
CATEGORIES:2020-07 Results (July)
ORGANIZER;CN="Kate Hauser":MAILTO:summersunset@foxrivertrailrunners.org
GEO:41.8980917;-88.3231243
X-APPLE-STRUCTURED-LOCATION;VALUE=URI;X-ADDRESS=Geneva High School 799 Gray Street Geneva IL 60134 United States;X-APPLE-RADIUS=500;X-TITLE=799 Gray Street:geo:-88.3231243,41.8980917
END:VEVENT
BEGIN:VEVENT
DTSTART;TZID=America/Chicago:20190724T190000
DTEND;TZID=America/Chicago:20190724T203000
DTSTAMP:20260424T001305
CREATED:20190701T184355Z
LAST-MODIFIED:20190725T033227Z
UID:10001072-1563994800-1564000200@www.racetime.info
SUMMARY:Summer Sunset 5K & Youth Races
DESCRIPTION:Summer Sunset Youth Runs\n\nSummer Sunset 5K Age Group Results\n\nSummer Sunset 5K Overall Results
URL:https://www.racetime.info/event/summer-sunset-5k-youth-races/
LOCATION:Geneva High School\, 799 Gray Street\, Geneva\, IL\, 60134\, United States
CATEGORIES:2019-07 Results (July)
ORGANIZER;CN="Kate Hauser":MAILTO:summersunset@foxrivertrailrunners.org
GEO:41.8980917;-88.3231243
X-APPLE-STRUCTURED-LOCATION;VALUE=URI;X-ADDRESS=Geneva High School 799 Gray Street Geneva IL 60134 United States;X-APPLE-RADIUS=500;X-TITLE=799 Gray Street:geo:-88.3231243,41.8980917
END:VEVENT
BEGIN:VEVENT
DTSTART;TZID=America/Chicago:20170726T190500
DTEND;TZID=America/Chicago:20170726T210000
DTSTAMP:20260424T001305
CREATED:20170727T030011Z
LAST-MODIFIED:20170727T030145Z
UID:10000728-1501095900-1501102800@www.racetime.info
SUMMARY:Viking Sunset 5K & 1 Mile Run (Results by J3 Timing)
DESCRIPTION:Viking Sunset 1 Mile Overall Results\n\nViking Sunset 5K Age Group Results\n\nViking Sunset 5K Overall Results\n\nViking Sunset Team Results
URL:https://www.racetime.info/event/viking-sunset-5k-1-mile-run/
LOCATION:Geneva High School\, 799 Gray Street\, Geneva\, IL\, 60134\, United States
CATEGORIES:2017-07 Results (July)
GEO:41.8980917;-88.3231243
X-APPLE-STRUCTURED-LOCATION;VALUE=URI;X-ADDRESS=Geneva High School 799 Gray Street Geneva IL 60134 United States;X-APPLE-RADIUS=500;X-TITLE=799 Gray Street:geo:-88.3231243,41.8980917
END:VEVENT
BEGIN:VEVENT
DTSTART;TZID=America/Chicago:20151003T090000
DTEND;TZID=America/Chicago:20151003T110000
DTSTAMP:20260424T001305
CREATED:20150625T011754Z
LAST-MODIFIED:20151004T005517Z
UID:10000287-1443862800-1443870000@www.racetime.info
SUMMARY:GAF Mighty Vike Homecoming Hustle
DESCRIPTION:Homecoming Hustle 5K Overall Results
URL:https://www.racetime.info/event/gaf-mighty-vike-homecoming-hustle/
LOCATION:Geneva High School\, 799 Gray Street\, Geneva\, IL\, 60134\, United States
CATEGORIES:2015-10 Results (October)
ORGANIZER;CN="Bradley Kosirog":MAILTO:304gaf@gmail.com
GEO:41.8980917;-88.3231243
X-APPLE-STRUCTURED-LOCATION;VALUE=URI;X-ADDRESS=Geneva High School 799 Gray Street Geneva IL 60134 United States;X-APPLE-RADIUS=500;X-TITLE=799 Gray Street:geo:-88.3231243,41.8980917
END:VEVENT
END:VCALENDAR