BEGIN:VCALENDAR
VERSION:2.0
PRODID:-//Race Time - ECPv6.15.13//NONSGML v1.0//EN
CALSCALE:GREGORIAN
METHOD:PUBLISH
X-ORIGINAL-URL:https://www.racetime.info
X-WR-CALDESC:Events for Race Time
REFRESH-INTERVAL;VALUE=DURATION:PT1H
X-Robots-Tag:noindex
X-PUBLISHED-TTL:PT1H
BEGIN:VTIMEZONE
TZID:America/Chicago
BEGIN:DAYLIGHT
TZOFFSETFROM:-0600
TZOFFSETTO:-0500
TZNAME:CDT
DTSTART:20250309T080000
END:DAYLIGHT
BEGIN:STANDARD
TZOFFSETFROM:-0500
TZOFFSETTO:-0600
TZNAME:CST
DTSTART:20251102T070000
END:STANDARD
BEGIN:DAYLIGHT
TZOFFSETFROM:-0600
TZOFFSETTO:-0500
TZNAME:CDT
DTSTART:20260308T080000
END:DAYLIGHT
BEGIN:STANDARD
TZOFFSETFROM:-0500
TZOFFSETTO:-0600
TZNAME:CST
DTSTART:20261101T070000
END:STANDARD
BEGIN:DAYLIGHT
TZOFFSETFROM:-0600
TZOFFSETTO:-0500
TZNAME:CDT
DTSTART:20270314T080000
END:DAYLIGHT
BEGIN:STANDARD
TZOFFSETFROM:-0500
TZOFFSETTO:-0600
TZNAME:CST
DTSTART:20271107T070000
END:STANDARD
END:VTIMEZONE
BEGIN:VEVENT
DTSTART;TZID=America/Chicago:20260703T080000
DTEND;TZID=America/Chicago:20260703T100000
DTSTAMP:20260423T165102
CREATED:20260304T201540Z
LAST-MODIFIED:20260304T201540Z
UID:10002512-1783065600-1783072800@www.racetime.info
SUMMARY:Wilmette's Yankee Doodle Dash 5K
DESCRIPTION:
URL:https://www.racetime.info/event/wilmettes-yankee-doodle-dash-5k/
LOCATION:Gillson Beach\, 800 Gillson Park Drive\, Wilmette\, IL\, 60091\, United States
ORGANIZER;CN="Tim Johnson":MAILTO:tjohnson@wilpark.org
GEO:42.0804297;-87.6887941
X-APPLE-STRUCTURED-LOCATION;VALUE=URI;X-ADDRESS=Gillson Beach 800 Gillson Park Drive Wilmette IL 60091 United States;X-APPLE-RADIUS=500;X-TITLE=800 Gillson Park Drive:geo:-87.6887941,42.0804297
END:VEVENT
END:VCALENDAR