BEGIN:VCALENDAR
VERSION:2.0
PRODID:-//Race Time - ECPv6.15.13//NONSGML v1.0//EN
CALSCALE:GREGORIAN
METHOD:PUBLISH
X-WR-CALNAME:Race Time
X-ORIGINAL-URL:https://www.racetime.info
X-WR-CALDESC:Events for Race Time
REFRESH-INTERVAL;VALUE=DURATION:PT1H
X-Robots-Tag:noindex
X-PUBLISHED-TTL:PT1H
BEGIN:VTIMEZONE
TZID:America/Chicago
BEGIN:DAYLIGHT
TZOFFSETFROM:-0600
TZOFFSETTO:-0500
TZNAME:CDT
DTSTART:20220313T080000
END:DAYLIGHT
BEGIN:STANDARD
TZOFFSETFROM:-0500
TZOFFSETTO:-0600
TZNAME:CST
DTSTART:20221106T070000
END:STANDARD
BEGIN:DAYLIGHT
TZOFFSETFROM:-0600
TZOFFSETTO:-0500
TZNAME:CDT
DTSTART:20230312T080000
END:DAYLIGHT
BEGIN:STANDARD
TZOFFSETFROM:-0500
TZOFFSETTO:-0600
TZNAME:CST
DTSTART:20231105T070000
END:STANDARD
BEGIN:DAYLIGHT
TZOFFSETFROM:-0600
TZOFFSETTO:-0500
TZNAME:CDT
DTSTART:20240310T080000
END:DAYLIGHT
BEGIN:STANDARD
TZOFFSETFROM:-0500
TZOFFSETTO:-0600
TZNAME:CST
DTSTART:20241103T070000
END:STANDARD
END:VTIMEZONE
BEGIN:VEVENT
DTSTART;TZID=America/Chicago:20230625T080000
DTEND;TZID=America/Chicago:20230625T100000
DTSTAMP:20260424T012810
CREATED:20230330T231731Z
LAST-MODIFIED:20230625T170014Z
UID:10002165-1687680000-1687687200@www.racetime.info
SUMMARY:Jackie's Run For Ovarian Cancer 5K Run/Walk
DESCRIPTION:Jackies Run 5K Overall Results
URL:https://www.racetime.info/event/jackies-run-for-ovarian-cancer-5k-run-walk/
LOCATION:Glenbrook North High School\, 2300 Shermer Road\, Northbrook\, IL\, 60062\, United States
CATEGORIES:2023-06 Results (June)
ORGANIZER;CN="Matthew Schneider":MAILTO:matthew@theschneidergroup.com
END:VEVENT
END:VCALENDAR