BEGIN:VCALENDAR
VERSION:2.0
PRODID:-//Race Time - ECPv6.15.13//NONSGML v1.0//EN
CALSCALE:GREGORIAN
METHOD:PUBLISH
X-ORIGINAL-URL:https://www.racetime.info
X-WR-CALDESC:Events for Race Time
REFRESH-INTERVAL;VALUE=DURATION:PT1H
X-Robots-Tag:noindex
X-PUBLISHED-TTL:PT1H
BEGIN:VTIMEZONE
TZID:America/Chicago
BEGIN:DAYLIGHT
TZOFFSETFROM:-0600
TZOFFSETTO:-0500
TZNAME:CDT
DTSTART:20140309T080000
END:DAYLIGHT
BEGIN:STANDARD
TZOFFSETFROM:-0500
TZOFFSETTO:-0600
TZNAME:CST
DTSTART:20141102T070000
END:STANDARD
BEGIN:DAYLIGHT
TZOFFSETFROM:-0600
TZOFFSETTO:-0500
TZNAME:CDT
DTSTART:20150308T080000
END:DAYLIGHT
BEGIN:STANDARD
TZOFFSETFROM:-0500
TZOFFSETTO:-0600
TZNAME:CST
DTSTART:20151101T070000
END:STANDARD
BEGIN:DAYLIGHT
TZOFFSETFROM:-0600
TZOFFSETTO:-0500
TZNAME:CDT
DTSTART:20160313T080000
END:DAYLIGHT
BEGIN:STANDARD
TZOFFSETFROM:-0500
TZOFFSETTO:-0600
TZNAME:CST
DTSTART:20161106T070000
END:STANDARD
BEGIN:DAYLIGHT
TZOFFSETFROM:-0600
TZOFFSETTO:-0500
TZNAME:CDT
DTSTART:20170312T080000
END:DAYLIGHT
BEGIN:STANDARD
TZOFFSETFROM:-0500
TZOFFSETTO:-0600
TZNAME:CST
DTSTART:20171105T070000
END:STANDARD
BEGIN:DAYLIGHT
TZOFFSETFROM:-0600
TZOFFSETTO:-0500
TZNAME:CDT
DTSTART:20180311T080000
END:DAYLIGHT
BEGIN:STANDARD
TZOFFSETFROM:-0500
TZOFFSETTO:-0600
TZNAME:CST
DTSTART:20181104T070000
END:STANDARD
BEGIN:DAYLIGHT
TZOFFSETFROM:-0600
TZOFFSETTO:-0500
TZNAME:CDT
DTSTART:20190310T080000
END:DAYLIGHT
BEGIN:STANDARD
TZOFFSETFROM:-0500
TZOFFSETTO:-0600
TZNAME:CST
DTSTART:20191103T070000
END:STANDARD
BEGIN:DAYLIGHT
TZOFFSETFROM:-0600
TZOFFSETTO:-0500
TZNAME:CDT
DTSTART:20200308T080000
END:DAYLIGHT
BEGIN:STANDARD
TZOFFSETFROM:-0500
TZOFFSETTO:-0600
TZNAME:CST
DTSTART:20201101T070000
END:STANDARD
BEGIN:DAYLIGHT
TZOFFSETFROM:-0600
TZOFFSETTO:-0500
TZNAME:CDT
DTSTART:20210314T080000
END:DAYLIGHT
BEGIN:STANDARD
TZOFFSETFROM:-0500
TZOFFSETTO:-0600
TZNAME:CST
DTSTART:20211107T070000
END:STANDARD
BEGIN:DAYLIGHT
TZOFFSETFROM:-0600
TZOFFSETTO:-0500
TZNAME:CDT
DTSTART:20220313T080000
END:DAYLIGHT
BEGIN:STANDARD
TZOFFSETFROM:-0500
TZOFFSETTO:-0600
TZNAME:CST
DTSTART:20221106T070000
END:STANDARD
BEGIN:DAYLIGHT
TZOFFSETFROM:-0600
TZOFFSETTO:-0500
TZNAME:CDT
DTSTART:20230312T080000
END:DAYLIGHT
BEGIN:STANDARD
TZOFFSETFROM:-0500
TZOFFSETTO:-0600
TZNAME:CST
DTSTART:20231105T070000
END:STANDARD
BEGIN:DAYLIGHT
TZOFFSETFROM:-0600
TZOFFSETTO:-0500
TZNAME:CDT
DTSTART:20240310T080000
END:DAYLIGHT
BEGIN:STANDARD
TZOFFSETFROM:-0500
TZOFFSETTO:-0600
TZNAME:CST
DTSTART:20241103T070000
END:STANDARD
END:VTIMEZONE
BEGIN:VEVENT
DTSTART;TZID=America/Chicago:20230513T083000
DTEND;TZID=America/Chicago:20230513T100000
DTSTAMP:20260424T000501
CREATED:20170315T202816Z
LAST-MODIFIED:20230513T193643Z
UID:10001202-1683966600-1683972000@www.racetime.info
SUMMARY:Hope For Haitians Fun Bun Run 5K
DESCRIPTION:Fun Bun Run 5K Age Group Results\n\nFun Bun Run 5K Overall Results
URL:https://www.racetime.info/event/copy-of-hope-for-haitians-fun-bun-run-5k/
LOCATION:Geneva Government Center\, 3rd Street\, Geneva\, IL\, 60134\, United States
CATEGORIES:2023-05 Results (May)
ORGANIZER;CN="Chris Weickert":MAILTO:chris@hopeforhaitians.org
GEO:41.8900089;-88.3073605
X-APPLE-STRUCTURED-LOCATION;VALUE=URI;X-ADDRESS=Geneva Government Center 3rd Street Geneva IL 60134 United States;X-APPLE-RADIUS=500;X-TITLE=3rd Street:geo:-88.3073605,41.8900089
END:VEVENT
BEGIN:VEVENT
DTSTART;TZID=America/Chicago:20220514T083000
DTEND;TZID=America/Chicago:20220514T100000
DTSTAMP:20260424T000501
CREATED:20170315T202816Z
LAST-MODIFIED:20220516T215922Z
UID:10001198-1652517000-1652522400@www.racetime.info
SUMMARY:Hope For Haitians Fun Bun Run 5K
DESCRIPTION:Fun Bun Run 5K Age Group Results\n\nFun Bun Run 5K Overall Results
URL:https://www.racetime.info/event/hope-for-haitians-fun-bun-run-5k/
LOCATION:Geneva Government Center\, 3rd Street\, Geneva\, IL\, 60134\, United States
CATEGORIES:2022-05 Results (May)
ORGANIZER;CN="Chris Weickert":MAILTO:chris@hopeforhaitians.org
GEO:41.8900089;-88.3073605
X-APPLE-STRUCTURED-LOCATION;VALUE=URI;X-ADDRESS=Geneva Government Center 3rd Street Geneva IL 60134 United States;X-APPLE-RADIUS=500;X-TITLE=3rd Street:geo:-88.3073605,41.8900089
END:VEVENT
BEGIN:VEVENT
DTSTART;TZID=America/Chicago:20210508T083000
DTEND;TZID=America/Chicago:20210508T110000
DTSTAMP:20260424T000501
CREATED:20170315T202816Z
LAST-MODIFIED:20210508T174720Z
UID:10001196-1620462600-1620471600@www.racetime.info
SUMMARY:Hope For Haitians Fun Bun Run 5K
DESCRIPTION:Fun Bun Run 5K Age Group Results\n\nFun Bun Run 5K Overall Results
URL:https://www.racetime.info/event/hope-for-haitians-5k-run-walk-4/
LOCATION:Geneva Government Center\, 3rd Street\, Geneva\, IL\, 60134\, United States
CATEGORIES:2021-05 Results (May)
ORGANIZER;CN="Chris Weickert":MAILTO:chris@hopeforhaitians.org
GEO:41.8900089;-88.3073605
X-APPLE-STRUCTURED-LOCATION;VALUE=URI;X-ADDRESS=Geneva Government Center 3rd Street Geneva IL 60134 United States;X-APPLE-RADIUS=500;X-TITLE=3rd Street:geo:-88.3073605,41.8900089
END:VEVENT
BEGIN:VEVENT
DTSTART;TZID=America/Chicago:20200926T083000
DTEND;TZID=America/Chicago:20200926T110000
DTSTAMP:20260424T000501
CREATED:20170315T202816Z
LAST-MODIFIED:20200922T183727Z
UID:10001194-1601109000-1601118000@www.racetime.info
SUMMARY:The Fun Bun Run:  Hope For Haitians 5K Run/Walk: VIRTUAL
DESCRIPTION:
URL:https://www.racetime.info/event/hope-for-haitians-5k-run-walk-3/
LOCATION:Geneva Government Center\, 3rd Street\, Geneva\, IL\, 60134\, United States
ORGANIZER;CN="Chris Weickert":MAILTO:chris@hopeforhaitians.org
GEO:41.8900089;-88.3073605
X-APPLE-STRUCTURED-LOCATION;VALUE=URI;X-ADDRESS=Geneva Government Center 3rd Street Geneva IL 60134 United States;X-APPLE-RADIUS=500;X-TITLE=3rd Street:geo:-88.3073605,41.8900089
END:VEVENT
BEGIN:VEVENT
DTSTART;TZID=America/Chicago:20190511T083000
DTEND;TZID=America/Chicago:20190511T110000
DTSTAMP:20260424T000501
CREATED:20170315T202816Z
LAST-MODIFIED:20190511T192411Z
UID:10001193-1557563400-1557572400@www.racetime.info
SUMMARY:Hope For Haitians 5K Run/Walk
DESCRIPTION:Hope For Haitians 5K Age Group Results\n\nHope For Haitians 5K Overall Results
URL:https://www.racetime.info/event/hope-for-haitians-5k-run-walk-2/
LOCATION:Geneva Government Center\, 3rd Street\, Geneva\, IL\, 60134\, United States
CATEGORIES:2019-05 Results (May)
ORGANIZER;CN="Bill Knotts":MAILTO:knotts14@comcast.net
GEO:41.8900089;-88.3073605
X-APPLE-STRUCTURED-LOCATION;VALUE=URI;X-ADDRESS=Geneva Government Center 3rd Street Geneva IL 60134 United States;X-APPLE-RADIUS=500;X-TITLE=3rd Street:geo:-88.3073605,41.8900089
END:VEVENT
BEGIN:VEVENT
DTSTART;TZID=America/Chicago:20180512T083000
DTEND;TZID=America/Chicago:20180512T110000
DTSTAMP:20260424T000501
CREATED:20170315T202816Z
LAST-MODIFIED:20180512T191536Z
UID:10001192-1526113800-1526122800@www.racetime.info
SUMMARY:Hope For Haitians 5K Run/Walk
DESCRIPTION:Hope For Haitians Run For Education 5K Age Group Results\n\nHope For Haitians Run For Education 5K Overall Results
URL:https://www.racetime.info/event/hope-for-haitians-5k-run-walk/
LOCATION:Geneva Government Center\, 3rd Street\, Geneva\, IL\, 60134\, United States
CATEGORIES:2018-05 Results (May)
ORGANIZER;CN="Bill Knotts":MAILTO:knotts14@comcast.net
GEO:41.8900089;-88.3073605
X-APPLE-STRUCTURED-LOCATION;VALUE=URI;X-ADDRESS=Geneva Government Center 3rd Street Geneva IL 60134 United States;X-APPLE-RADIUS=500;X-TITLE=3rd Street:geo:-88.3073605,41.8900089
END:VEVENT
BEGIN:VEVENT
DTSTART;TZID=America/Chicago:20170520T090000
DTEND;TZID=America/Chicago:20170520T110000
DTSTAMP:20260424T000501
CREATED:20170315T202816Z
LAST-MODIFIED:20170520T205819Z
UID:10000489-1495270800-1495278000@www.racetime.info
SUMMARY:Hope For Haitians 5K Run/Walk
DESCRIPTION:Hope For Haitians 5K Age Group Results\n\nHope For Haitians 5K Overall Results
URL:https://www.racetime.info/event/hope-for-haitians-5k-runwalk/
LOCATION:Geneva Government Center\, 3rd Street\, Geneva\, IL\, 60134\, United States
CATEGORIES:2017-05 Results (May)
ORGANIZER;CN="Amy Teague":MAILTO:amy@hopeforhaitians.org
GEO:41.8900089;-88.3073605
X-APPLE-STRUCTURED-LOCATION;VALUE=URI;X-ADDRESS=Geneva Government Center 3rd Street Geneva IL 60134 United States;X-APPLE-RADIUS=500;X-TITLE=3rd Street:geo:-88.3073605,41.8900089
END:VEVENT
BEGIN:VEVENT
DTSTART;TZID=America/Chicago:20150509T083000
DTEND;TZID=America/Chicago:20150509T113000
DTSTAMP:20260424T000501
CREATED:20150409T034503Z
LAST-MODIFIED:20150829T201406Z
UID:10000041-1431160200-1431171000@www.racetime.info
SUMMARY:Run For Education-Hope For Haitians
DESCRIPTION:Hope For Haitians 5K Age Group Results\n\nHope For Haitians 5K Overall Results
URL:https://www.racetime.info/event/run-for-education-2/
LOCATION:Geneva Government Center\, 3rd Street\, Geneva\, IL\, 60134\, United States
CATEGORIES:2015-05 Results (May)
ORGANIZER;CN="Rachel Piering":MAILTO:rachelp@foodforthepoor.com
GEO:41.8900089;-88.3073605
X-APPLE-STRUCTURED-LOCATION;VALUE=URI;X-ADDRESS=Geneva Government Center 3rd Street Geneva IL 60134 United States;X-APPLE-RADIUS=500;X-TITLE=3rd Street:geo:-88.3073605,41.8900089
END:VEVENT
END:VCALENDAR