BEGIN:VCALENDAR
VERSION:2.0
PRODID:-//Race Time - ECPv6.15.13//NONSGML v1.0//EN
CALSCALE:GREGORIAN
METHOD:PUBLISH
X-ORIGINAL-URL:https://www.racetime.info
X-WR-CALDESC:Events for Race Time
REFRESH-INTERVAL;VALUE=DURATION:PT1H
X-Robots-Tag:noindex
X-PUBLISHED-TTL:PT1H
BEGIN:VTIMEZONE
TZID:America/Chicago
BEGIN:DAYLIGHT
TZOFFSETFROM:-0600
TZOFFSETTO:-0500
TZNAME:CDT
DTSTART:20140309T080000
END:DAYLIGHT
BEGIN:STANDARD
TZOFFSETFROM:-0500
TZOFFSETTO:-0600
TZNAME:CST
DTSTART:20141102T070000
END:STANDARD
BEGIN:DAYLIGHT
TZOFFSETFROM:-0600
TZOFFSETTO:-0500
TZNAME:CDT
DTSTART:20150308T080000
END:DAYLIGHT
BEGIN:STANDARD
TZOFFSETFROM:-0500
TZOFFSETTO:-0600
TZNAME:CST
DTSTART:20151101T070000
END:STANDARD
BEGIN:DAYLIGHT
TZOFFSETFROM:-0600
TZOFFSETTO:-0500
TZNAME:CDT
DTSTART:20160313T080000
END:DAYLIGHT
BEGIN:STANDARD
TZOFFSETFROM:-0500
TZOFFSETTO:-0600
TZNAME:CST
DTSTART:20161106T070000
END:STANDARD
BEGIN:DAYLIGHT
TZOFFSETFROM:-0600
TZOFFSETTO:-0500
TZNAME:CDT
DTSTART:20170312T080000
END:DAYLIGHT
BEGIN:STANDARD
TZOFFSETFROM:-0500
TZOFFSETTO:-0600
TZNAME:CST
DTSTART:20171105T070000
END:STANDARD
BEGIN:DAYLIGHT
TZOFFSETFROM:-0600
TZOFFSETTO:-0500
TZNAME:CDT
DTSTART:20180311T080000
END:DAYLIGHT
BEGIN:STANDARD
TZOFFSETFROM:-0500
TZOFFSETTO:-0600
TZNAME:CST
DTSTART:20181104T070000
END:STANDARD
BEGIN:DAYLIGHT
TZOFFSETFROM:-0600
TZOFFSETTO:-0500
TZNAME:CDT
DTSTART:20190310T080000
END:DAYLIGHT
BEGIN:STANDARD
TZOFFSETFROM:-0500
TZOFFSETTO:-0600
TZNAME:CST
DTSTART:20191103T070000
END:STANDARD
BEGIN:DAYLIGHT
TZOFFSETFROM:-0600
TZOFFSETTO:-0500
TZNAME:CDT
DTSTART:20200308T080000
END:DAYLIGHT
BEGIN:STANDARD
TZOFFSETFROM:-0500
TZOFFSETTO:-0600
TZNAME:CST
DTSTART:20201101T070000
END:STANDARD
BEGIN:DAYLIGHT
TZOFFSETFROM:-0600
TZOFFSETTO:-0500
TZNAME:CDT
DTSTART:20210314T080000
END:DAYLIGHT
BEGIN:STANDARD
TZOFFSETFROM:-0500
TZOFFSETTO:-0600
TZNAME:CST
DTSTART:20211107T070000
END:STANDARD
BEGIN:DAYLIGHT
TZOFFSETFROM:-0600
TZOFFSETTO:-0500
TZNAME:CDT
DTSTART:20220313T080000
END:DAYLIGHT
BEGIN:STANDARD
TZOFFSETFROM:-0500
TZOFFSETTO:-0600
TZNAME:CST
DTSTART:20221106T070000
END:STANDARD
BEGIN:DAYLIGHT
TZOFFSETFROM:-0600
TZOFFSETTO:-0500
TZNAME:CDT
DTSTART:20230312T080000
END:DAYLIGHT
BEGIN:STANDARD
TZOFFSETFROM:-0500
TZOFFSETTO:-0600
TZNAME:CST
DTSTART:20231105T070000
END:STANDARD
BEGIN:DAYLIGHT
TZOFFSETFROM:-0600
TZOFFSETTO:-0500
TZNAME:CDT
DTSTART:20240310T080000
END:DAYLIGHT
BEGIN:STANDARD
TZOFFSETFROM:-0500
TZOFFSETTO:-0600
TZNAME:CST
DTSTART:20241103T070000
END:STANDARD
END:VTIMEZONE
BEGIN:VEVENT
DTSTART;TZID=America/Chicago:20231021T083000
DTEND;TZID=America/Chicago:20231021T103000
DTSTAMP:20260424T013009
CREATED:20170723T101133Z
LAST-MODIFIED:20231021T195704Z
UID:10001546-1697877000-1697884200@www.racetime.info
SUMMARY:St. Bede Halloween Hustle: 10K Run\, 5K &1 Mile Run/Walk
DESCRIPTION:St. Bede Halloween Hustle 1 Mile Youth Run Results\n\nSt. Bede Halloween Hustle 5K Age Group Results\n\nSt. Bede Halloween Hustle 5K Overall Results\n\nSt. Bede Halloween Hustle 10K Age Group Results\n\nSt. Bede Halloween Hustle 10K Overall Results\n\nSt. Bede Halloween Hustle Puppy Results
URL:https://www.racetime.info/event/copy-of-st-bede-halloween-hustle-10k-run-5k-1-mile-run-walk-2/
LOCATION:Grant Woods Forest Preserve\, 25405 West Monaville Road\, Ingleside\, IL\, 60041\, United States
CATEGORIES:2023-10 Results (October)
ORGANIZER;CN="Tina Lutzke":MAILTO:tinalutzke@hotmail.com
GEO:42.399051;-88.128126
X-APPLE-STRUCTURED-LOCATION;VALUE=URI;X-ADDRESS=Grant Woods Forest Preserve 25405 West Monaville Road Ingleside IL 60041 United States;X-APPLE-RADIUS=500;X-TITLE=25405 West Monaville Road:geo:-88.128126,42.399051
END:VEVENT
BEGIN:VEVENT
DTSTART;TZID=America/Chicago:20221022T083000
DTEND;TZID=America/Chicago:20221022T103000
DTSTAMP:20260424T013009
CREATED:20170723T101133Z
LAST-MODIFIED:20221022T202923Z
UID:10001545-1666427400-1666434600@www.racetime.info
SUMMARY:St. Bede Halloween Hustle: 10K Run\, 5K &1 Mile Run/Walk
DESCRIPTION:St. Bede Halloween Hustle 1 Mile Overall Results\n\nSt. Bede Halloween Hustle 5K Age Group Results\n\nSt. Bede Halloween Hustle 5K Overall Results\n\nSt. Bede Halloween Hustle 10K Age Group Results\n\nSt. Bede Halloween Hustle 10K Overall Results\n\nSt. Bede Halloween Hustle Dog Division
URL:https://www.racetime.info/event/copy-of-st-bede-halloween-hustle-10k-run-5k-1-mile-run-walk/
LOCATION:Grant Woods Forest Preserve\, 25405 West Monaville Road\, Ingleside\, IL\, 60041\, United States
CATEGORIES:2022-10 Results (October)
ORGANIZER;CN="Tina Lutzke":MAILTO:tinalutzke@hotmail.com
GEO:42.399051;-88.128126
X-APPLE-STRUCTURED-LOCATION;VALUE=URI;X-ADDRESS=Grant Woods Forest Preserve 25405 West Monaville Road Ingleside IL 60041 United States;X-APPLE-RADIUS=500;X-TITLE=25405 West Monaville Road:geo:-88.128126,42.399051
END:VEVENT
BEGIN:VEVENT
DTSTART;TZID=America/Chicago:20211023T083000
DTEND;TZID=America/Chicago:20211023T230000
DTSTAMP:20260424T013009
CREATED:20170723T101133Z
LAST-MODIFIED:20211025T204946Z
UID:10001544-1634977800-1635030000@www.racetime.info
SUMMARY:St. Bede Halloween Hustle: 10K Run\, 5K &1 Mile Run/Walk
DESCRIPTION:HALLOWEEN HUSTLE YOUTH 1 MILE OVERALL RESULTS\n\nHalloween Hustle 5K Age Group Results\n\nHalloween Hustle 5K Overall Results\n\nHalloween Hustle 10K Age Group Results\n\nHalloween Hustle 10K Overall Results
URL:https://www.racetime.info/event/st-bede-halloween-hustle-10k-run-5k-1-mile-run-walk-3/
LOCATION:Grant Woods Forest Preserve\, 25405 West Monaville Road\, Ingleside\, IL\, 60041\, United States
CATEGORIES:2021-10 Results (October)
ORGANIZER;CN="Tina Lutzke":MAILTO:tinalutzke@hotmail.com
GEO:42.399051;-88.128126
X-APPLE-STRUCTURED-LOCATION;VALUE=URI;X-ADDRESS=Grant Woods Forest Preserve 25405 West Monaville Road Ingleside IL 60041 United States;X-APPLE-RADIUS=500;X-TITLE=25405 West Monaville Road:geo:-88.128126,42.399051
END:VEVENT
BEGIN:VEVENT
DTSTART;TZID=America/Chicago:20191026T083000
DTEND;TZID=America/Chicago:20191026T230000
DTSTAMP:20260424T013009
CREATED:20170723T101133Z
LAST-MODIFIED:20191109T193836Z
UID:10001543-1572078600-1572130800@www.racetime.info
SUMMARY:St. Bede Halloween Hustle: 10K Run\, 5K &1 Mile Run/Walk
DESCRIPTION:St. Bede Halloween Hustle 1 Mile Overall Results\n\nSt. Bede Halloween Hustle 5K Age Group Results\n\nSt. Bede Halloween Hustle 5K Overall Results\n\nSt. Bede Halloween Hustle 10K Age Group Results\n\nSt. Bede Halloween Hustle 10K Overall Results\n\nSt. Bede Halloween Hustle Dog Results
URL:https://www.racetime.info/event/st-bede-halloween-hustle-10k-run-5k-1-mile-run-walk-2/
LOCATION:Grant Woods Forest Preserve\, 25405 West Monaville Road\, Ingleside\, IL\, 60041\, United States
CATEGORIES:2019-10 Results (October)
ORGANIZER;CN="Tina Lutzke":MAILTO:tinalutzke@hotmail.com
GEO:42.399051;-88.128126
X-APPLE-STRUCTURED-LOCATION;VALUE=URI;X-ADDRESS=Grant Woods Forest Preserve 25405 West Monaville Road Ingleside IL 60041 United States;X-APPLE-RADIUS=500;X-TITLE=25405 West Monaville Road:geo:-88.128126,42.399051
END:VEVENT
BEGIN:VEVENT
DTSTART;TZID=America/Chicago:20181027T083000
DTEND;TZID=America/Chicago:20181027T230000
DTSTAMP:20260424T013009
CREATED:20170723T101133Z
LAST-MODIFIED:20181027T184051Z
UID:10001542-1540629000-1540681200@www.racetime.info
SUMMARY:St. Bede Halloween Hustle: 10K Run\, 5K &1 Mile Run/Walk
DESCRIPTION:St. Bede Halloween Hustle 1 Mile Youth Run\n\nSt. Bede Halloween Hustle 5K Age Group Results\n\nSt. Bede Halloween Hustle 5K Overall Results\n\nSt. Bede Halloween Hustle 10K Age Group Results\n\nSt. Bede Halloween Hustle 10K Overall Results\n\nSt. Bede Puppy Results
URL:https://www.racetime.info/event/st-bede-halloween-hustle-10k-run-5k-1-mile-run-walk/
LOCATION:Grant Woods Forest Preserve\, 25405 West Monaville Road\, Ingleside\, IL\, 60041\, United States
CATEGORIES:2018-10 Results (October)
ORGANIZER;CN="Tina Lutzke":MAILTO:tinalutzke@hotmail.com
GEO:42.399051;-88.128126
X-APPLE-STRUCTURED-LOCATION;VALUE=URI;X-ADDRESS=Grant Woods Forest Preserve 25405 West Monaville Road Ingleside IL 60041 United States;X-APPLE-RADIUS=500;X-TITLE=25405 West Monaville Road:geo:-88.128126,42.399051
END:VEVENT
BEGIN:VEVENT
DTSTART;TZID=America/Chicago:20171021T083000
DTEND;TZID=America/Chicago:20171021T230000
DTSTAMP:20260424T013009
CREATED:20170723T101133Z
LAST-MODIFIED:20171021T195629Z
UID:10001541-1508574600-1508626800@www.racetime.info
SUMMARY:St. Bede Halloween Hustle: 10K Run\, 5K &1 Mile Run/Walk
DESCRIPTION:St. Bede Halloween Hustle 1 Mile Youth Overall Results\n\nSt. Bede Halloween Hustle 5K Age Group Results\n\nSt. Bede Halloween Hustle 5K Overall Results\n\nSt. Bede Halloween Hustle 10K Age Group Results\n\nSt. Bede Halloween Hustle 10K Overall Results\n\nSt. Bede Halloween Hustle Overall Puppy Results
URL:https://www.racetime.info/event/st-bede-halloween-hustle-10k-run-5k-1-mile-runwalk/
LOCATION:Grant Woods Forest Preserve\, 25405 West Monaville Road\, Ingleside\, IL\, 60041\, United States
CATEGORIES:2017-10 Results (October)
ORGANIZER;CN="Tina Lutzke":MAILTO:tinalutzke@hotmail.com
GEO:42.399051;-88.128126
X-APPLE-STRUCTURED-LOCATION;VALUE=URI;X-ADDRESS=Grant Woods Forest Preserve 25405 West Monaville Road Ingleside IL 60041 United States;X-APPLE-RADIUS=500;X-TITLE=25405 West Monaville Road:geo:-88.128126,42.399051
END:VEVENT
BEGIN:VEVENT
DTSTART;TZID=America/Chicago:20161022T083000
DTEND;TZID=America/Chicago:20161022T110000
DTSTAMP:20260424T013009
CREATED:20160802T195820Z
LAST-MODIFIED:20161022T212134Z
UID:10000749-1477125000-1477134000@www.racetime.info
SUMMARY:St. Bede Halloween Hustle: 1M; 5K & 10K
DESCRIPTION:Halloween Hustle Youth Run\n\nHalloween Hustle 5K Age Group Results\n\nHalloween Hustle 5K Overall Results\n\nHalloween Hustle 10K Age Group Results\n\nHalloween Hustle 10K Overall Results\n\nHalloween Hustle Puppy Results
URL:https://www.racetime.info/event/st-bede-halloween-hustle-1m-5k-10k/
LOCATION:Grant Woods Forest Preserve\, 25405 West Monaville Road\, Ingleside\, IL\, 60041\, United States
CATEGORIES:2016-10 Results (October)
ORGANIZER;CN="Tina Lutzke":MAILTO:tinalutzke@hotmail.com
GEO:42.399051;-88.128126
X-APPLE-STRUCTURED-LOCATION;VALUE=URI;X-ADDRESS=Grant Woods Forest Preserve 25405 West Monaville Road Ingleside IL 60041 United States;X-APPLE-RADIUS=500;X-TITLE=25405 West Monaville Road:geo:-88.128126,42.399051
END:VEVENT
BEGIN:VEVENT
DTSTART;TZID=America/Chicago:20151024T083000
DTEND;TZID=America/Chicago:20151024T233000
DTSTAMP:20260424T013009
CREATED:20150822T014925Z
LAST-MODIFIED:20151024T210521Z
UID:10000352-1445675400-1445729400@www.racetime.info
SUMMARY:St. Bede School Halloween Hustle: 1 Mile\, 5K & 10K Run!
DESCRIPTION:Halloween Hustle 5K Age Group Results\n\nHalloween Hustle 5K Overall Results\n\nHalloween Hustle 10K Age Group Results\n\nHalloween Hustle 10K Overall Results\n\nHalloween Hustle Youth 1 Mile Results\n\nHalloween Hustle Dog Division
URL:https://www.racetime.info/event/st-bede-school-halloween-hustle-1-mile-5k-10k-run/
LOCATION:Grant Woods Forest Preserve\, 25405 West Monaville Road\, Ingleside\, IL\, 60041\, United States
CATEGORIES:2015-10 Results (October)
ORGANIZER;CN="Tina Lutzke":MAILTO:tinalutzke@hotmail.com
GEO:42.399051;-88.128126
X-APPLE-STRUCTURED-LOCATION;VALUE=URI;X-ADDRESS=Grant Woods Forest Preserve 25405 West Monaville Road Ingleside IL 60041 United States;X-APPLE-RADIUS=500;X-TITLE=25405 West Monaville Road:geo:-88.128126,42.399051
END:VEVENT
END:VCALENDAR