BEGIN:VCALENDAR
VERSION:2.0
PRODID:-//Race Time - ECPv6.15.13//NONSGML v1.0//EN
CALSCALE:GREGORIAN
METHOD:PUBLISH
X-WR-CALNAME:Race Time
X-ORIGINAL-URL:https://www.racetime.info
X-WR-CALDESC:Events for Race Time
REFRESH-INTERVAL;VALUE=DURATION:PT1H
X-Robots-Tag:noindex
X-PUBLISHED-TTL:PT1H
BEGIN:VTIMEZONE
TZID:America/Chicago
BEGIN:DAYLIGHT
TZOFFSETFROM:-0600
TZOFFSETTO:-0500
TZNAME:CDT
DTSTART:20250309T080000
END:DAYLIGHT
BEGIN:STANDARD
TZOFFSETFROM:-0500
TZOFFSETTO:-0600
TZNAME:CST
DTSTART:20251102T070000
END:STANDARD
BEGIN:DAYLIGHT
TZOFFSETFROM:-0600
TZOFFSETTO:-0500
TZNAME:CDT
DTSTART:20260308T080000
END:DAYLIGHT
BEGIN:STANDARD
TZOFFSETFROM:-0500
TZOFFSETTO:-0600
TZNAME:CST
DTSTART:20261101T070000
END:STANDARD
BEGIN:DAYLIGHT
TZOFFSETFROM:-0600
TZOFFSETTO:-0500
TZNAME:CDT
DTSTART:20270314T080000
END:DAYLIGHT
BEGIN:STANDARD
TZOFFSETFROM:-0500
TZOFFSETTO:-0600
TZNAME:CST
DTSTART:20271107T070000
END:STANDARD
END:VTIMEZONE
BEGIN:VEVENT
DTSTART;TZID=America/Chicago:20260509T083000
DTEND;TZID=America/Chicago:20260509T100000
DTSTAMP:20260423T181006
CREATED:20260203T120622Z
LAST-MODIFIED:20260203T121903Z
UID:10002480-1778315400-1778320800@www.racetime.info
SUMMARY:Fun Bun Run for Education 5K
DESCRIPTION:
URL:https://www.racetime.info/event/fun-bun-run-for-education-5k/
LOCATION:Gunner Anderson Forest Preserve\, Route 31\, Geneva\, IL\, 60134\, United States
ORGANIZER;CN="Chris Weickert":MAILTO:chris@hopeforhaitians.org
GEO:41.8807764;-88.3083013
X-APPLE-STRUCTURED-LOCATION;VALUE=URI;X-ADDRESS=Gunner Anderson Forest Preserve Route 31 Geneva IL 60134 United States;X-APPLE-RADIUS=500;X-TITLE=Route 31:geo:-88.3083013,41.8807764
END:VEVENT
BEGIN:VEVENT
DTSTART;TZID=America/Chicago:20260627T073000
DTEND;TZID=America/Chicago:20260627T093000
DTSTAMP:20260423T181006
CREATED:20260210T125103Z
LAST-MODIFIED:20260328T142056Z
UID:10002487-1782545400-1782552600@www.racetime.info
SUMMARY:Swedish Lopp 5K Run/Walk
DESCRIPTION:
URL:https://www.racetime.info/event/swedish-lopp-5k-run-walk-2/
LOCATION:Gunner Anderson Forest Preserve\, Route 31\, Geneva\, IL\, 60134\, United States
ORGANIZER;CN="Mary Agnes Zellmer":MAILTO:maz@chicagoracemanagement.com
GEO:41.8807764;-88.3083013
X-APPLE-STRUCTURED-LOCATION;VALUE=URI;X-ADDRESS=Gunner Anderson Forest Preserve Route 31 Geneva IL 60134 United States;X-APPLE-RADIUS=500;X-TITLE=Route 31:geo:-88.3083013,41.8807764
END:VEVENT
END:VCALENDAR