BEGIN:VCALENDAR
VERSION:2.0
PRODID:-//Race Time - ECPv6.15.13//NONSGML v1.0//EN
CALSCALE:GREGORIAN
METHOD:PUBLISH
X-ORIGINAL-URL:https://www.racetime.info
X-WR-CALDESC:Events for Race Time
REFRESH-INTERVAL;VALUE=DURATION:PT1H
X-Robots-Tag:noindex
X-PUBLISHED-TTL:PT1H
BEGIN:VTIMEZONE
TZID:America/Chicago
BEGIN:DAYLIGHT
TZOFFSETFROM:-0600
TZOFFSETTO:-0500
TZNAME:CDT
DTSTART:20150308T080000
END:DAYLIGHT
BEGIN:STANDARD
TZOFFSETFROM:-0500
TZOFFSETTO:-0600
TZNAME:CST
DTSTART:20151101T070000
END:STANDARD
BEGIN:DAYLIGHT
TZOFFSETFROM:-0600
TZOFFSETTO:-0500
TZNAME:CDT
DTSTART:20160313T080000
END:DAYLIGHT
BEGIN:STANDARD
TZOFFSETFROM:-0500
TZOFFSETTO:-0600
TZNAME:CST
DTSTART:20161106T070000
END:STANDARD
BEGIN:DAYLIGHT
TZOFFSETFROM:-0600
TZOFFSETTO:-0500
TZNAME:CDT
DTSTART:20170312T080000
END:DAYLIGHT
BEGIN:STANDARD
TZOFFSETFROM:-0500
TZOFFSETTO:-0600
TZNAME:CST
DTSTART:20171105T070000
END:STANDARD
END:VTIMEZONE
BEGIN:VEVENT
DTSTART;TZID=America/Chicago:20160925T090000
DTEND;TZID=America/Chicago:20160925T110000
DTSTAMP:20260424T041413
CREATED:20160810T113847Z
LAST-MODIFIED:20160925T181142Z
UID:10000296-1474794000-1474801200@www.racetime.info
SUMMARY:D31 5K & 1 Mile Run/Walk
DESCRIPTION:Northfield D31 5K Age Group Results\n\nNorthfield D31 5K Overall Results
URL:https://www.racetime.info/event/d31-5k-1-mile-runwalk/
LOCATION:Henry Winkelman Elementary School\, 1919 Landwehr Road\, Glenview\, IL\, 60026\, United States
CATEGORIES:2016-09 Results (September)
ORGANIZER;CN="Lana Razumov":MAILTO:lanarazumov@gmail.com
GEO:42.0941362;-87.8572968
X-APPLE-STRUCTURED-LOCATION;VALUE=URI;X-ADDRESS=Henry Winkelman Elementary School 1919 Landwehr Road Glenview IL 60026 United States;X-APPLE-RADIUS=500;X-TITLE=1919 Landwehr Road:geo:-87.8572968,42.0941362
END:VEVENT
END:VCALENDAR