BEGIN:VCALENDAR
VERSION:2.0
PRODID:-//Race Time - ECPv6.15.13//NONSGML v1.0//EN
CALSCALE:GREGORIAN
METHOD:PUBLISH
X-WR-CALNAME:Race Time
X-ORIGINAL-URL:https://www.racetime.info
X-WR-CALDESC:Events for Race Time
REFRESH-INTERVAL;VALUE=DURATION:PT1H
X-Robots-Tag:noindex
X-PUBLISHED-TTL:PT1H
BEGIN:VTIMEZONE
TZID:America/Chicago
BEGIN:DAYLIGHT
TZOFFSETFROM:-0600
TZOFFSETTO:-0500
TZNAME:CDT
DTSTART:20200308T080000
END:DAYLIGHT
BEGIN:STANDARD
TZOFFSETFROM:-0500
TZOFFSETTO:-0600
TZNAME:CST
DTSTART:20201101T070000
END:STANDARD
BEGIN:DAYLIGHT
TZOFFSETFROM:-0600
TZOFFSETTO:-0500
TZNAME:CDT
DTSTART:20210314T080000
END:DAYLIGHT
BEGIN:STANDARD
TZOFFSETFROM:-0500
TZOFFSETTO:-0600
TZNAME:CST
DTSTART:20211107T070000
END:STANDARD
BEGIN:DAYLIGHT
TZOFFSETFROM:-0600
TZOFFSETTO:-0500
TZNAME:CDT
DTSTART:20220313T080000
END:DAYLIGHT
BEGIN:STANDARD
TZOFFSETFROM:-0500
TZOFFSETTO:-0600
TZNAME:CST
DTSTART:20221106T070000
END:STANDARD
BEGIN:DAYLIGHT
TZOFFSETFROM:-0600
TZOFFSETTO:-0500
TZNAME:CDT
DTSTART:20230312T080000
END:DAYLIGHT
BEGIN:STANDARD
TZOFFSETFROM:-0500
TZOFFSETTO:-0600
TZNAME:CST
DTSTART:20231105T070000
END:STANDARD
BEGIN:DAYLIGHT
TZOFFSETFROM:-0600
TZOFFSETTO:-0500
TZNAME:CDT
DTSTART:20240310T080000
END:DAYLIGHT
BEGIN:STANDARD
TZOFFSETFROM:-0500
TZOFFSETTO:-0600
TZNAME:CST
DTSTART:20241103T070000
END:STANDARD
BEGIN:DAYLIGHT
TZOFFSETFROM:-0600
TZOFFSETTO:-0500
TZNAME:CDT
DTSTART:20250309T080000
END:DAYLIGHT
BEGIN:STANDARD
TZOFFSETFROM:-0500
TZOFFSETTO:-0600
TZNAME:CST
DTSTART:20251102T070000
END:STANDARD
BEGIN:DAYLIGHT
TZOFFSETFROM:-0600
TZOFFSETTO:-0500
TZNAME:CDT
DTSTART:20260308T080000
END:DAYLIGHT
BEGIN:STANDARD
TZOFFSETFROM:-0500
TZOFFSETTO:-0600
TZNAME:CST
DTSTART:20261101T070000
END:STANDARD
BEGIN:DAYLIGHT
TZOFFSETFROM:-0600
TZOFFSETTO:-0500
TZNAME:CDT
DTSTART:20270314T080000
END:DAYLIGHT
BEGIN:STANDARD
TZOFFSETFROM:-0500
TZOFFSETTO:-0600
TZNAME:CST
DTSTART:20271107T070000
END:STANDARD
END:VTIMEZONE
BEGIN:VEVENT
DTSTART;TZID=America/Chicago:20260322T100000
DTEND;TZID=America/Chicago:20260322T120000
DTSTAMP:20260423T210935
CREATED:20251202T125208Z
LAST-MODIFIED:20260322T180929Z
UID:10002458-1774173600-1774180800@www.racetime.info
SUMMARY:Fox River Winter Challenge Trail Series 10K #3
DESCRIPTION:Fox Valley Winter Series St. Charles 10K Age Group Results\n\nFox Valley Winter Series St. Charles 10K Overall Results
URL:https://www.racetime.info/event/fox-river-winter-challenge-trail-series-10k-3/
LOCATION:Hickory Knolls Discovery Center\, 3795 Campton Hills Dr\, St. Charles\, IL\, 60175\, United States
CATEGORIES:2026-03 Results (March)
ORGANIZER;CN="Theresa Kettlewell":MAILTO:theresa@foxvalleyrunning.com
END:VEVENT
BEGIN:VEVENT
DTSTART;TZID=America/Chicago:20250608T080000
DTEND;TZID=America/Chicago:20250608T103000
DTSTAMP:20260423T210935
CREATED:20250406T140811Z
LAST-MODIFIED:20250608T171035Z
UID:10002333-1749369600-1749378600@www.racetime.info
SUMMARY:Hickory Knolls Trail Run 5K/10K
DESCRIPTION:Hickory Knolls 5K Age Group Results\n\nHickory Knolls 5K Overall Results\n\nHickory Knolls 10K Age Group Results\n\nHickory Knolls 10K Overall Results\n\nHickory Knolls Relay Team Results
URL:https://www.racetime.info/event/hickory-knolls-trail-run-5k-10k/
LOCATION:Hickory Knolls Discovery Center\, 3795 Campton Hills Dr\, St. Charles\, IL\, 60175\, United States
CATEGORIES:2025-06 Results (June)
ORGANIZER;CN="Wayne Haworth":MAILTO:wayne@dickpondathletics.com
END:VEVENT
BEGIN:VEVENT
DTSTART;TZID=America/Chicago:20250309T100000
DTEND;TZID=America/Chicago:20250309T120000
DTSTAMP:20260423T210935
CREATED:20241204T115619Z
LAST-MODIFIED:20250309T190116Z
UID:10002235-1741514400-1741521600@www.racetime.info
SUMMARY:Fox River Winter Challenge Trail Series 10K
DESCRIPTION:Fox Valley 10K Age Group Results\n\nFox Valley 10K Overall Results
URL:https://www.racetime.info/event/copy-of-fox-river-winter-challenge-trail-series-8k/
LOCATION:Hickory Knolls Discovery Center\, 3795 Campton Hills Dr\, St. Charles\, IL\, 60175\, United States
CATEGORIES:2025-03 Results (March)
ORGANIZER;CN="Theresa Kettlewell":MAILTO:theresa@foxvalleyrunning.com
END:VEVENT
BEGIN:VEVENT
DTSTART;TZID=America/Chicago:20240609T080000
DTEND;TZID=America/Chicago:20240609T103000
DTSTAMP:20260423T210935
CREATED:20210413T141537Z
LAST-MODIFIED:20240609T165605Z
UID:10001981-1717920000-1717929000@www.racetime.info
SUMMARY:Hickory Knolls Trail Run 5K/10K
DESCRIPTION:Hickory Knolls 5K Age Group Results\n\nHickory Knolls 5K Overall Results\n\nHickory Knolls 10K Age Group Results\n\nHickory Knolls 10K Overall Results\n\nHickory Knolls Relay Team Results
URL:https://www.racetime.info/event/copy-of-hickory-knolls-trail-run-relay-5k-10k-3/
LOCATION:Hickory Knolls Discovery Center\, 3795 Campton Hills Dr\, St. Charles\, IL\, 60175\, United States
CATEGORIES:2024-06 Results (June)
ORGANIZER;CN="Wayne Haworth":MAILTO:wayne@dickpondathletics.com
END:VEVENT
BEGIN:VEVENT
DTSTART;TZID=America/Chicago:20230514T080000
DTEND;TZID=America/Chicago:20230514T220000
DTSTAMP:20260423T210935
CREATED:20210413T141537Z
LAST-MODIFIED:20230514T161704Z
UID:10001980-1684051200-1684101600@www.racetime.info
SUMMARY:Hickory Knolls Trail Run & Relay 5K/10K
DESCRIPTION:Hickory Knolls 5K Age Group Results\n\nHickory Knolls 5K Overall Results\n\nHickory Knolls 10K Age Group Results\n\nHickory Knolls 10K Overall Results\n\nHickory Knolls Team Results
URL:https://www.racetime.info/event/copy-of-hickory-knolls-trail-run-relay-5k-10k-2/
LOCATION:Hickory Knolls Discovery Center\, 3795 Campton Hills Dr\, St. Charles\, IL\, 60175\, United States
CATEGORIES:2023-05 Results (May)
ORGANIZER;CN="Wayne Haworth":MAILTO:wayne@dickpondathletics.com
END:VEVENT
BEGIN:VEVENT
DTSTART;TZID=America/Chicago:20220515T080000
DTEND;TZID=America/Chicago:20220515T223000
DTSTAMP:20260423T210935
CREATED:20210413T141537Z
LAST-MODIFIED:20220515T165344Z
UID:10001979-1652601600-1652653800@www.racetime.info
SUMMARY:Hickory Knolls Trail Run & Relay 5K/10K
DESCRIPTION:Hickory Knolls 5K Age Group Results\n\nHickory Knolls 5K Overall Results\n\nHickory Knolls 10K Age Group Results\n\nHickory Knolls 10K Overall Results\n\nHickory Knolls Relay Team Results
URL:https://www.racetime.info/event/copy-of-hickory-knolls-trail-run-relay-5k-10k/
LOCATION:Hickory Knolls Discovery Center\, 3795 Campton Hills Dr\, St. Charles\, IL\, 60175\, United States
CATEGORIES:2022-05 Results (May)
ORGANIZER;CN="Wayne Haworth":MAILTO:wayne@dickpondathletics.com
END:VEVENT
BEGIN:VEVENT
DTSTART;TZID=America/Chicago:20210516T073000
DTEND;TZID=America/Chicago:20210516T150000
DTSTAMP:20260423T210935
CREATED:20210413T141537Z
LAST-MODIFIED:20210517T112730Z
UID:10001978-1621150200-1621177200@www.racetime.info
SUMMARY:Hickory Knolls Trail Run & Relay 5K/10K
DESCRIPTION:Hickory Knolls 5K Age Group Results\n\nHickory Knolls 5K Overall Results\n\nHickory Knolls 10K Age Group Results\n\nHickory Knolls 10K Overall Results\n\nHickory Knolls Team Relay Results
URL:https://www.racetime.info/event/hickory-knolls-trail-run-relay-5k-10k/
LOCATION:Hickory Knolls Discovery Center\, 3795 Campton Hills Dr\, St. Charles\, IL\, 60175\, United States
CATEGORIES:2021-05 Results (May)
ORGANIZER;CN="Wayne Haworth":MAILTO:wayne@dickpondathletics.com
END:VEVENT
END:VCALENDAR