BEGIN:VCALENDAR
VERSION:2.0
PRODID:-//Race Time - ECPv6.15.13//NONSGML v1.0//EN
CALSCALE:GREGORIAN
METHOD:PUBLISH
X-ORIGINAL-URL:https://www.racetime.info
X-WR-CALDESC:Events for Race Time
REFRESH-INTERVAL;VALUE=DURATION:PT1H
X-Robots-Tag:noindex
X-PUBLISHED-TTL:PT1H
BEGIN:VTIMEZONE
TZID:America/Chicago
BEGIN:DAYLIGHT
TZOFFSETFROM:-0600
TZOFFSETTO:-0500
TZNAME:CDT
DTSTART:20140309T080000
END:DAYLIGHT
BEGIN:STANDARD
TZOFFSETFROM:-0500
TZOFFSETTO:-0600
TZNAME:CST
DTSTART:20141102T070000
END:STANDARD
BEGIN:DAYLIGHT
TZOFFSETFROM:-0600
TZOFFSETTO:-0500
TZNAME:CDT
DTSTART:20150308T080000
END:DAYLIGHT
BEGIN:STANDARD
TZOFFSETFROM:-0500
TZOFFSETTO:-0600
TZNAME:CST
DTSTART:20151101T070000
END:STANDARD
BEGIN:DAYLIGHT
TZOFFSETFROM:-0600
TZOFFSETTO:-0500
TZNAME:CDT
DTSTART:20160313T080000
END:DAYLIGHT
BEGIN:STANDARD
TZOFFSETFROM:-0500
TZOFFSETTO:-0600
TZNAME:CST
DTSTART:20161106T070000
END:STANDARD
BEGIN:DAYLIGHT
TZOFFSETFROM:-0600
TZOFFSETTO:-0500
TZNAME:CDT
DTSTART:20170312T080000
END:DAYLIGHT
BEGIN:STANDARD
TZOFFSETFROM:-0500
TZOFFSETTO:-0600
TZNAME:CST
DTSTART:20171105T070000
END:STANDARD
BEGIN:DAYLIGHT
TZOFFSETFROM:-0600
TZOFFSETTO:-0500
TZNAME:CDT
DTSTART:20180311T080000
END:DAYLIGHT
BEGIN:STANDARD
TZOFFSETFROM:-0500
TZOFFSETTO:-0600
TZNAME:CST
DTSTART:20181104T070000
END:STANDARD
BEGIN:DAYLIGHT
TZOFFSETFROM:-0600
TZOFFSETTO:-0500
TZNAME:CDT
DTSTART:20190310T080000
END:DAYLIGHT
BEGIN:STANDARD
TZOFFSETFROM:-0500
TZOFFSETTO:-0600
TZNAME:CST
DTSTART:20191103T070000
END:STANDARD
BEGIN:DAYLIGHT
TZOFFSETFROM:-0600
TZOFFSETTO:-0500
TZNAME:CDT
DTSTART:20200308T080000
END:DAYLIGHT
BEGIN:STANDARD
TZOFFSETFROM:-0500
TZOFFSETTO:-0600
TZNAME:CST
DTSTART:20201101T070000
END:STANDARD
END:VTIMEZONE
BEGIN:VEVENT
DTSTART;TZID=America/Chicago:20190518T090000
DTEND;TZID=America/Chicago:20190518T110000
DTSTAMP:20260423T235959
CREATED:20190417T112554Z
LAST-MODIFIED:20190518T191819Z
UID:10001059-1558170000-1558177200@www.racetime.info
SUMMARY:Holm Studio 5K Run/Walk
DESCRIPTION:Holm Studio 5K Age Group Results\n\nHolm Studio 5K Overall Results
URL:https://www.racetime.info/event/holm-studio-5k-run-walk/
LOCATION:Holm Studio Personal Training\, 40W124 Campton Crossings Drive\, St. Charles\, IL\, 60175\, United States
CATEGORIES:2019-05 Results (May)
ORGANIZER;CN="Erin Hester":MAILTO:holmstudio@live.com
GEO:41.9368371;-88.3966186
X-APPLE-STRUCTURED-LOCATION;VALUE=URI;X-ADDRESS=Holm Studio Personal Training 40W124 Campton Crossings Drive St. Charles IL 60175 United States;X-APPLE-RADIUS=500;X-TITLE=40W124 Campton Crossings Drive:geo:-88.3966186,41.9368371
END:VEVENT
BEGIN:VEVENT
DTSTART;TZID=America/Chicago:20151017T080000
DTEND;TZID=America/Chicago:20151017T100000
DTSTAMP:20260423T235959
CREATED:20150924T110037Z
LAST-MODIFIED:20151018T193816Z
UID:10000422-1445068800-1445076000@www.racetime.info
SUMMARY:Holm Studio 5K Run/Walk
DESCRIPTION:Holm Studio 5K Age Group Results\n\nHolm Studio 5K Overall Results
URL:https://www.racetime.info/event/holm-studio-5k-runwalk/
LOCATION:Holm Studio Personal Training\, 40W124 Campton Crossings Drive\, St. Charles\, IL\, 60175\, United States
CATEGORIES:2015-10 Results (October)
ORGANIZER;CN="Erin Hester":MAILTO:holmstudio@live.com
GEO:41.9368371;-88.3966186
X-APPLE-STRUCTURED-LOCATION;VALUE=URI;X-ADDRESS=Holm Studio Personal Training 40W124 Campton Crossings Drive St. Charles IL 60175 United States;X-APPLE-RADIUS=500;X-TITLE=40W124 Campton Crossings Drive:geo:-88.3966186,41.9368371
END:VEVENT
END:VCALENDAR